| Back to Mac ARM64 build report for BioC 3.18 |
|
This page was generated on 2024-04-18 11:32:08 -0400 (Thu, 18 Apr 2024).
| Hostname | OS | Arch (*) | R version | Installed pkgs |
|---|---|---|---|---|
| kjohnson1 | macOS 13.6.1 Ventura | arm64 | 4.3.3 (2024-02-29) -- "Angel Food Cake" | 4388 |
| Click on any hostname to see more info about the system (e.g. compilers) (*) as reported by 'uname -p', except on Windows and Mac OS X | ||||
| Package 426/2266 | Hostname | OS / Arch | INSTALL | BUILD | CHECK | BUILD BIN | ||||||||
| consensusSeekeR 1.30.0 (landing page) Astrid Deschenes
| kjohnson1 | macOS 13.6.1 Ventura / arm64 | OK | OK | OK | OK | ||||||||
|
To the developers/maintainers of the consensusSeekeR package: - Use the following Renviron settings to reproduce errors and warnings. - If 'R CMD check' started to fail recently on the Linux builder(s) over a missing dependency, add the missing dependency to 'Suggests:' in your DESCRIPTION file. See Renviron.bioc for more information. |
| Package: consensusSeekeR |
| Version: 1.30.0 |
| Command: /Library/Frameworks/R.framework/Resources/bin/R CMD build --keep-empty-dirs --no-resave-data consensusSeekeR |
| StartedAt: 2024-04-16 16:03:33 -0400 (Tue, 16 Apr 2024) |
| EndedAt: 2024-04-16 16:04:34 -0400 (Tue, 16 Apr 2024) |
| EllapsedTime: 60.9 seconds |
| RetCode: 0 |
| Status: OK |
| PackageFile: consensusSeekeR_1.30.0.tar.gz |
| PackageFileSize: 738.2 KiB |
##############################################################################
##############################################################################
###
### Running command:
###
### /Library/Frameworks/R.framework/Resources/bin/R CMD build --keep-empty-dirs --no-resave-data consensusSeekeR
###
##############################################################################
##############################################################################
* checking for file ‘consensusSeekeR/DESCRIPTION’ ... OK
* preparing ‘consensusSeekeR’:
* checking DESCRIPTION meta-information ... OK
* installing the package to build vignettes
* creating vignettes ... OK
* checking for LF line-endings in source and make files and shell scripts
* checking for empty or unneeded directories
* looking to see if a ‘data/datalist’ file should be added
NB: this package now depends on R (>= 3.5.0)
WARNING: Added dependency on R >= 3.5.0 because serialized objects in
serialize/load version 3 cannot be read in older versions of R.
File(s) containing such objects:
‘consensusSeekeR/data/A549_CTCF_MYJ_NarrowPeaks_partial.RData’
‘consensusSeekeR/data/A549_CTCF_MYJ_Peaks_partial.RData’
‘consensusSeekeR/data/A549_CTCF_MYN_NarrowPeaks_partial.RData’
‘consensusSeekeR/data/A549_CTCF_MYN_Peaks_partial.RData’
‘consensusSeekeR/data/A549_FOSL2_01_NarrowPeaks_partial.RData’
‘consensusSeekeR/data/A549_FOSL2_01_Peaks_partial.RData’
‘consensusSeekeR/data/A549_FOXA1_01_NarrowPeaks_partial.RData’
‘consensusSeekeR/data/A549_FOXA1_01_Peaks_partial.RData’
‘consensusSeekeR/data/A549_NR3C1_CFQ_NarrowPeaks_partial.RData’
‘consensusSeekeR/data/A549_NR3C1_CFQ_Peaks_partial.RData’
‘consensusSeekeR/data/A549_NR3C1_CFR_NarrowPeaks_partial.RData’
‘consensusSeekeR/data/A549_NR3C1_CFR_Peaks_partial.RData’
‘consensusSeekeR/data/A549_NR3C1_CFS_NarrowPeaks_partial.RData’
‘consensusSeekeR/data/A549_NR3C1_CFS_Peaks_partial.RData’
‘consensusSeekeR/data/NOrMAL_nucleosome_positions.RData’
‘consensusSeekeR/data/NOrMAL_nucleosome_ranges.RData’
‘consensusSeekeR/data/NucPosSimulator_nucleosome_positions.RData’
‘consensusSeekeR/data/NucPosSimulator_nucleosome_ranges.RData’
‘consensusSeekeR/data/PING_nucleosome_positions.RData’
‘consensusSeekeR/data/PING_nucleosome_ranges.RData’
* building ‘consensusSeekeR_1.30.0.tar.gz’