| Back to Mac ARM64 build report for BioC 3.18 |
|
This page was generated on 2024-04-18 11:32:11 -0400 (Thu, 18 Apr 2024).
| Hostname | OS | Arch (*) | R version | Installed pkgs |
|---|---|---|---|---|
| kjohnson1 | macOS 13.6.1 Ventura | arm64 | 4.3.3 (2024-02-29) -- "Angel Food Cake" | 4388 |
| Click on any hostname to see more info about the system (e.g. compilers) (*) as reported by 'uname -p', except on Windows and Mac OS X | ||||
| Package 949/2266 | Hostname | OS / Arch | INSTALL | BUILD | CHECK | BUILD BIN | ||||||||
| HiCcompare 1.24.0 (landing page) Mikhail Dozmorov
| kjohnson1 | macOS 13.6.1 Ventura / arm64 | OK | OK | OK | OK | ||||||||
|
To the developers/maintainers of the HiCcompare package: - Use the following Renviron settings to reproduce errors and warnings. - If 'R CMD check' started to fail recently on the Linux builder(s) over a missing dependency, add the missing dependency to 'Suggests:' in your DESCRIPTION file. See Renviron.bioc for more information. |
| Package: HiCcompare |
| Version: 1.24.0 |
| Command: /Library/Frameworks/R.framework/Resources/bin/R CMD build --keep-empty-dirs --no-resave-data HiCcompare |
| StartedAt: 2024-04-16 19:54:44 -0400 (Tue, 16 Apr 2024) |
| EndedAt: 2024-04-16 19:56:08 -0400 (Tue, 16 Apr 2024) |
| EllapsedTime: 84.0 seconds |
| RetCode: 0 |
| Status: OK |
| PackageFile: HiCcompare_1.24.0.tar.gz |
| PackageFileSize: 3.67 MiB |
##############################################################################
##############################################################################
###
### Running command:
###
### /Library/Frameworks/R.framework/Resources/bin/R CMD build --keep-empty-dirs --no-resave-data HiCcompare
###
##############################################################################
##############################################################################
* checking for file ‘HiCcompare/DESCRIPTION’ ... OK
* preparing ‘HiCcompare’:
* checking DESCRIPTION meta-information ... OK
* installing the package to build vignettes
* creating vignettes ... OK
* excluding invalid files
Subdirectory 'R' contains invalid file names:
‘get_CNV.txt’
* checking for LF line-endings in source and make files and shell scripts
* checking for empty or unneeded directories
NB: this package now depends on R (>= 3.5.0)
WARNING: Added dependency on R >= 3.5.0 because serialized objects in
serialize/load version 3 cannot be read in older versions of R.
File(s) containing such objects:
‘HiCcompare/data/hmec.IS.rda’ ‘HiCcompare/data/nhek.IS.rda’
* building ‘HiCcompare_1.24.0.tar.gz’