| george2 |
Linux (Ubuntu 12.04.1 LTS) / x86_64 | | | |
| [moscato2] |
Windows Server 2008 R2 Enterprise SP1 (64-bit) / x64 | | | |
| petty |
Mac OS X Leopard (10.5.8) / i386 | | | |
|
|
| A [A] B C D E F G H I J K L M N O P Q R S T U V W X Y Z |
| a4 1.7.1 | Tobias Verbeke , Willem Ligtenberg | OK | OK | OK |
| a4Base 1.7.1 | Tobias Verbeke , Willem Ligtenberg | OK | WARNINGS | OK |
| a4Classif 1.7.0 | Tobias Verbeke , Willem Ligtenberg | OK | OK | OK |
| a4Core 1.7.0 | Tobias Verbeke , Willem Ligtenberg | OK | OK | OK |
| a4Preproc 1.7.0 | Tobias Verbeke , Willem Ligtenberg | OK | OK | OK |
| a4Reporting 1.7.0 | Tobias Verbeke , Willem Ligtenberg | OK | OK | OK |
| ABarray 1.27.0 | Yongming Andrew Sun | OK | OK | OK |
| aCGH 1.37.0 | Peter Dimitrov | OK | OK | OK |
| ACME 2.15.0 | Sean Davis | OK | OK | OK |
| ADaCGH2 1.9.0 | Ramon Diaz-Uriarte | OK | OK | OK |
| adSplit 1.29.0 | Claudio Lottaz | OK | OK | OK |
| affxparser 1.31.4 | Kasper Daniel Hansen | OK | OK | OK |
| affy 1.37.4 | Rafael A. Irizarry | OK | OK | OK |
| affycomp 1.35.0 | Rafael A. Irizarry | ERROR | skipped | skipped |
| AffyCompatible 1.19.4 | Martin Morgan | OK | OK | OK |
| affyContam 1.17.0 | V. Carey | OK | OK | OK |
| affycoretools 1.31.5 | James W. MacDonald | OK | OK | OK |
| AffyExpress 1.25.0 | Xuejun Arthur Li | OK | OK | OK |
| affyILM 1.11.0 | Myriam Kroll and Fabrice Berger | OK | OK | OK |
| affyio 1.27.1 | Benjamin Milo Bolstad | OK | OK | OK |
| affylmGUI 1.33.1 | Keith Satterley | OK | OK | OK |
| affyPara 1.19.2 | Markus Schmidberger | OK | OK | OK |
| affypdnn 1.33.1 | Laurent Gautier | OK | OK | OK |
| affyPLM 1.35.0 | Ben Bolstad | OK | OK | OK |
| affyQCReport 1.37.0 | Craig Parman | OK | OK | OK |
| AffyRNADegradation 1.5.2 | Mario Fasold | OK | OK | OK |
| AffyTiling 1.17.1 | Charles G. Danko | OK | OK | OK |
| AGDEX 1.7.0 | Cuilan lani Gao | OK | OK | OK |
| Agi4x44PreProcess 1.19.0 | Pedro Lopez-Romero | OK | OK | OK |
| agilp 3.1.0 | Benny Chain | OK | OK | OK |
| AgiMicroRna 2.9.0 | Pedro Lopez-Romero | OK | OK | OK |
| altcdfenvs 2.21.0 | Laurent Gautier | OK | OK | OK |
| annaffy 1.31.1 | Colin A. Smith | OK | OK | OK |
| annmap 1.1.1 | Tim Yates | N O T S U P P O R T E D |
| annotate 1.37.4 | Bioconductor Package Maintainer | OK | OK | OK |
| AnnotationDbi 1.21.16 | Bioconductor Package Maintainer | OK | OK | OK |
| AnnotationForge 1.1.10 | Bioconductor Package Maintainer | OK | OK | OK |
| AnnotationFuncs 1.9.0 | Stefan McKinnon Edwards | OK | OK | OK |
| AnnotationHub 0.99.38 | Marc Carlson | ERROR | skipped | skipped |
| annotationTools 1.33.0 | Alexandre Kuhn | OK | OK | OK |
| anota 1.7.0 | Ola Larsson | OK | OK | OK |
| apComplex 2.25.0 | Denise Scholtens | OK | OK | OK |
| aroma.light 1.29.0 | Henrik Bengtsson | OK | OK | OK |
| ArrayExpress 1.19.1 | Ibrahim Emam | OK | OK | OK |
| ArrayExpressHTS 1.9.2 | Angela Goncalves , Andrew Tikhonov | N O T S U P P O R T E D |
| arrayMvout 1.17.0 | V. Carey | OK | OK | OK |
| arrayQuality 1.37.0 | Agnes Paquet | OK | OK | OK |
| arrayQualityMetrics 3.15.0 | Audrey Kauffmann | OK | OK | OK |
| ArrayTools 1.19.0 | Arthur Li | OK | OK | OK |
| ARRmNormalization 0.99.1 | Jean-Philippe Fortin | OK | OK | OK |
| ASEB 1.3.0 | Likun Wang | OK | OK | OK |
| attract 1.11.1 | Jessica Mar | OK | OK | OK |
|
| B A [B] C D E F G H I J K L M N O P Q R S T U V W X Y Z |
| BAC 1.19.0 | Raphael Gottardo | OK | OK | OK |
| BaseSpaceR 0.99.4 | Adrian Alexa | OK | OK | OK |
| BayesPeak 1.11.0 | Jonathan Cairns | OK | OK | OK |
| baySeq 1.13.2 | Thomas J. Hardcastle | OK | OK | OK |
| BCRANK 1.21.0 | Adam Ameur | OK | OK | OK |
| beadarray 2.9.3 | Mark Dunning | OK | OK | OK |
| beadarraySNP 1.25.0 | Jan Oosting | OK | OK | OK |
| BeadDataPackR 1.11.0 | Mike Smith | OK | OK | OK |
| betr 1.15.0 | Martin Aryee | OK | OK | OK |
| bgafun 1.21.0 | Iain Wallace | OK | OK | OK |
| BGmix 1.19.0 | Alex Lewin | N O T S U P P O R T E D |
| bgx 1.23.0 | Ernest Turro | OK | OK | OK |
| BHC 1.11.0 | Rich Savage | OK | OK | OK |
| BicARE 1.17.0 | Pierre Gestraud | OK | OK | OK |
| bigmemoryExtras 1.1.7 | Peter M. Haverty | N O T S U P P O R T E D |
| Biobase 2.19.3 | Bioconductor Package Maintainer | OK | OK | OK |
| BiocCaseStudies 1.21.0 | Bioconductor Package Maintainer | OK | OK | OK |
| BiocGenerics 0.5.6 | Bioconductor Package Maintainer | OK | WARNINGS | OK |
| biocGraph 1.21.0 | Florian Hahne | OK | OK | OK |
| BiocInstaller 1.9.8 | Bioconductor Package Maintainer | OK | OK | OK |
| BiocParallel 0.0.12 | Bioconductor Package Maintainer | OK | WARNINGS | OK |
| biocViews 1.27.2 | Bioconductor Package Maintainer | OK | OK | OK |
| bioDist 1.31.1 | Bioconductor Package Maintainer | OK | WARNINGS | OK |
| biomaRt 2.15.1 | Steffen Durinck | OK | OK | OK |
| BioMVCClass 1.27.0 | Elizabeth Whalen | OK | OK | OK |
| biomvRCNS 0.99.3 | Yang Du | OK | OK | OK |
| BioNet 1.17.1 | Marcus Dittrich | OK | OK | OK |
| BioSeqClass 1.17.1 | Li Hong | OK | OK | OK |
| Biostrings 2.27.12 | H. Pages | OK | WARNINGS | OK |
| biovizBase 1.7.8 | Tengfei Yin | OK | OK | OK |
| birta 1.3.2 | Benedikt Zacher , Holger Froehlich | OK | OK | OK |
| BitSeq 1.3.7 | Peter Glaus | OK | OK | OK |
| BRAIN 1.5.0 | Piotr Dittwald | OK | OK | OK |
| BrainStars 1.3.0 | Itoshi NIKAIDO | OK | OK | OK |
| bridge 1.23.0 | Raphael Gottardo | OK | OK | OK |
| BSgenome 1.27.1 | H. Pages | OK | WARNINGS | OK |
| bsseq 0.7.5 | Kasper Daniel Hansen | OK | OK | OK |
| BufferedMatrix 1.23.0 | Benjamin Milo Bolstad | OK | OK | OK |
| BufferedMatrixMethods 1.23.0 | B. M. Bolstad | OK | OK | OK |
| bumphunter 0.99.34 | Rafael A. Irizarry | OK | OK | OK |
| BUS 1.15.0 | Yuanhua Liu | OK | OK | OK |
|
| C A B [C] D E F G H I J K L M N O P Q R S T U V W X Y Z |
| CAGEr 0.99.1 | Vanja Haberle | OK | OK | OK |
| CALIB 1.25.0 | Hui Zhao | OK | OK | OK |
| CAMERA 1.15.5 | Carsten Kuhl | OK | OK | OK |
| cancerclass 1.3.3 | Daniel Kosztyla | OK | OK | OK |
| CancerMutationAnalysis 1.3.2 | Simina M. Boca | OK | OK | OK |
| casper 0.99.7 | David Rossell | OK | OK | OK |
| Category 2.25.1 | Bioconductor Package Maintainer | OK | OK | OK |
| categoryCompare 1.3.0 | Robert M. Flight | OK | OK | OK |
| cellGrowth 1.3.0 | Julien Gagneur | OK | OK | OK |
| cellHTS 1.29.0 | Ligia Bras | OK | OK | OK |
| cellHTS2 2.23.2 | Joseph Barry | OK | OK | OK |
| CellNOptR 1.5.21 | T.Cokelaer | OK | OK | OK |
| CGEN 2.0.2 | William Wheeler | OK | OK | OK |
| CGHbase 1.19.0 | Mark van de Wiel | OK | OK | OK |
| CGHcall 2.19.0 | Mark van de Wiel | OK | OK | OK |
| cghMCR 1.17.0 | J. Zhang | OK | OK | OK |
| CGHnormaliter 1.13.1 | Bart P.P. van Houte | OK | OK | OK |
| CGHregions 1.17.0 | Sjoerd Vosse | OK | OK | OK |
| charm 2.5.6 | Peter Murakami | OK | OK | OK |
| ChemmineR 2.11.19 | ChemmineR Team | OK | OK | OK |
| chimera 1.0.6 | Raffaele A Calogero | OK | OK | OK |
| ChIPpeakAnno 2.7.3 | Lihua Julie Zhu | OK | OK | OK |
| chipseq 1.9.1 | Bioconductor Package Maintainer | OK | OK | OK |
| ChIPseqR 1.13.1 | Peter Humburg | OK | OK | OK |
| ChIPsim 1.13.0 | Peter Humburg | OK | OK | OK |
| ChIPXpress 1.1.0 | George Wu | N O T S U P P O R T E D |
| chopsticks 1.23.4 | Hin-Tak Leung | OK | OK | OK |
| chroGPS 1.1.0 | Oscar Reina | OK | WARNINGS | OK |
| ChromHeatMap 1.13.1 | Tim F. Rayner | OK | OK | OK |
| cisPath 0.99.7 | Likun Wang | OK | OK | OK |
| clippda 1.9.0 | Stephen Nyangoma | OK | OK | OK |
| clipper 0.99.6 | Paolo Martini | OK | OK | OK |
| Clonality 1.7.0 | Irina Ostrovnaya | OK | OK | OK |
| clst 1.7.0 | Noah Hoffman | OK | OK | OK |
| clstutils 1.7.0 | Noah Hoffman | OK | OK | OK |
| clusterProfiler 1.7.1 | Guangchuang Yu | OK | WARNINGS | OK |
| clusterStab 1.31.0 | James W. MacDonald | OK | OK | OK |
| CMA 1.17.2 | Christoph Bernau | OK | OK | OK |
| cn.farms 1.7.4 | Andreas Mitterecker | OK | OK | OK |
| cn.mops 1.5.16 | Guenter Klambauer | OK | OK | OK |
| CNAnorm 1.5.0 | Stefano Berri | OK | OK | OK |
| CNORdt 1.1.0 | A. MacNamara | OK | OK | OK |
| CNORfeeder 0.99.2 | F.Eduati | OK | OK | OK |
| CNORfuzzy 1.1.4 | T. Cokelaer | OK | OK | OK |
| CNORode 1.1.4 | David Henriques | OK | OK | OK |
| CNTools 1.15.0 | J. Zhang | OK | OK | OK |
| cnvGSA 1.3.0 | Robert Ziman | OK | OK | OK |
| CNVtools 1.53.0 | Chris Barnes | OK | OK | OK |
| CoCiteStats 1.31.0 | Bioconductor Package Maintainer | OK | OK | OK |
| codelink 1.27.0 | Diego Diez | OK | OK | OK |
| CoGAPS 1.9.3 | Elana J. Fertig | N O T S U P P O R T E D |
| coGPS 1.3.0 | Yingying Wei | OK | OK | OK |
| ConsensusClusterPlus 1.11.2 | Matt Wilkerson | OK | OK | OK |
| convert 1.35.0 | Yee Hwa (Jean) Yang | OK | OK | OK |
| copa 1.27.0 | James W. MacDonald | OK | OK | OK |
| Cormotif 1.5.0 | Yingying Wei | OK | OK | OK |
| CorMut 1.1.1 | Zhenpeng Li | OK | OK | OK |
| coRNAi 1.9.0 | Elin Axelsson | OK | OK | OK |
| CORREP 1.25.0 | Dongxiao Zhu | OK | OK | OK |
| cqn 1.5.0 | Kasper Daniel Hansen | OK | OK | OK |
| CRImage 1.7.1 | Henrik Failmezger | OK | OK | OK |
| crlmm 1.17.15 | Benilton S Carvalho , Robert Scharpf , Matt Ritchie | OK | OK | OK |
| CSAR 1.11.0 | Jose M Muino | OK | OK | OK |
| ctc 1.33.0 | Antoine Lucas | OK | OK | OK |
| cummeRbund 2.1.0 | Loyal A. Goff | OK | OK | OK |
| cycle 1.13.0 | Matthias Futschik | OK | OK | OK |
|
| D A B C [D] E F G H I J K L M N O P Q R S T U V W X Y Z |
| daMA 1.31.0 | Jobst Landgrebe | OK | OK | OK |
| DART 1.5.0 | Katherine Lawler | OK | OK | OK |
| DAVIDQuery 1.19.0 | Roger Day | OK | OK | OK |
| DBChIP 1.3.0 | Kun Liang | OK | OK | OK |
| ddCt 1.13.0 | Jitao David Zhang | OK | OK | OK |
| ddgraph 1.3.1 | Robert Stojnic | OK | OK | OK |
| DECIPHER 1.5.1 | Erik Wright | OK | OK | OK |
| DeconRNASeq 1.0.1 | Ting Gong | OK | OK | OK |
| DEDS 1.33.0 | Yuanyuan Xiao | OK | OK | OK |
| deepSNV 1.5.0 | Moritz Gerstung | OK | OK | OK |
| DEGraph 1.11.0 | Laurent Jacob | OK | OK | OK |
| DEGseq 1.13.2 | Likun Wang | OK | OK | OK |
| deltaGseg 0.99.2 | Diana Low | OK | OK | OK |
| DESeq 1.11.6 | Simon Anders | OK | OK | OK |
| DESeq2 0.99.22 | Michael Love | OK | OK | OK |
| DEXSeq 1.5.9 | Alejandro Reyes | OK | OK | OK |
| dexus 0.99.2 | Guenter Klambauer | OK | OK | OK |
| DFP 1.17.0 | Rodrigo Alvarez-Glez | OK | OK | OK |
| DiffBind 1.5.9 | Rory Stark | OK | OK | OK |
| diffGeneAnalysis 1.41.0 | Choudary Jagarlamudi | OK | OK | OK |
| DirichletMultinomial 1.1.0 | Martin Morgan | OK | OK | OK |
| dks 1.5.0 | Jeffrey T. Leek | OK | OK | OK |
| DNAcopy 1.33.1 | Venkatraman E. Seshan | OK | OK | OK |
| domainsignatures 1.19.0 | Florian Hahne | OK | OK | OK |
| DOSE 1.5.1 | Guangchuang Yu | OK | OK | OK |
| DriverNet 0.99.0 | Jiarui Ding | OK | OK | OK |
| DrugVsDisease 1.99.5 | j. Saez-Rodriguez | OK | OK | OK |
| DSS 1.2.0 | Hao Wu | OK | OK | OK |
| DTA 2.5.1 | Bjoern Schwalb | OK | OK | OK |
| dualKS 1.19.2 | Yarong Yang | OK | OK | OK |
| dyebias 1.17.0 | Philip Lijnzaad | OK | WARNINGS | OK |
| DynDoc 1.37.0 | Bioconductor Package Maintainer | OK | OK | OK |
|
| E A B C D [E] F G H I J K L M N O P Q R S T U V W X Y Z |
| EasyqpcR 1.1.3 | Le Pape Sylvain | OK | OK | OK |
| easyRNASeq 1.5.1 | Nicolas Delhomme | OK | OK | OK |
| EBarrays 2.23.0 | Ming Yuan | OK | WARNINGS | OK |
| EBcoexpress 1.3.0 | John A. Dawson | OK | OK | OK |
| EBImage 4.1.6 | Andrzej Oles | OK | OK | OK |
| ecolitk 1.31.1 | Laurent Gautier | OK | OK | OK |
| EDASeq 1.5.0 | Davide Risso | OK | OK | OK |
| edgeR 3.1.9 | Mark Robinson , Davis McCarthy , Yunshun Chen , Gordon Smyth | OK | OK | OK |
| eiR 0.99.4 | Kevin Horan | N O T S U P P O R T E D |
| eisa 1.11.0 | Gabor Csardi | OK | OK | OK |
| ensemblVEP 0.99.14 | Valerie Obenchain | OK | OK | OK |
| ENVISIONQuery 1.7.0 | Alex Lisovich , Roger Day | OK | OK | OK |
| epigenomix 0.99.0 | Hans-Ulrich Klein | OK | OK | OK |
| ExiMiR 2.1.1 | Sylvain Gubian | OK | OK | OK |
| exomeCopy 1.5.8 | Michael Love | OK | OK | OK |
| explorase 1.23.0 | Michael Lawrence | OK | OK | OK |
| ExpressionView 1.11.1 | Gabor Csardi | OK | OK | OK |
| externalVector 1.25.2 | Bioconductor Package Maintainer | OK | OK | OK |
|
| F A B C D E [F] G H I J K L M N O P Q R S T U V W X Y Z |
| fabia 2.5.1 | Sepp Hochreiter | OK | OK | OK |
| factDesign 1.35.1 | Denise Scholtens | OK | OK | OK |
| farms 1.11.0 | Djork-Arne Clevert | OK | OK | OK |
| fastseg 1.5.2 | Guenter Klambauer | OK | OK | OK |
| fdrame 1.31.0 | Effi Kenigsberg | OK | OK | OK |
| ffpe 1.3.0 | Levi Waldron | OK | WARNINGS | OK |
| flagme 1.15.1 | Mark Robinson | OK | OK | OK |
| flowClust 2.99.40 | Raphael Gottardo | OK | WARNINGS | OK |
| flowCore 1.25.13 | M.Jiang | OK | OK | OK |
| flowFlowJo 1.17.0 | John J. Gosink | OK | OK | OK |
| flowFP 1.17.1 | Herb Holyst | OK | OK | OK |
| flowMeans 1.11.1 | Nima Aghaeepour | OK | OK | OK |
| flowMerge 2.7.0 | Greg Finak | OK | OK | OK |
| flowPeaks 1.1.0 | Yongchao Ge | OK | OK | OK |
| flowPhyto 1.11.0 | Chris Berthiaume | OK | OK | OK |
| flowPlots 1.7.0 | N. Hawkins | OK | OK | OK |
| flowQ 1.19.5 | Mike Jiang | N O T S U P P O R T E D |
| flowQB 1.1.1 | Faysal El Khettabi | OK | OK | OK |
| flowStats 1.17.8 | Greg Finak and Mike Jiang | N O T S U P P O R T E D |
| flowTrans 1.11.1 | Greg Finak | OK | OK | OK |
| flowType 1.5.0 | Nima Aghaeepour | OK | OK | OK |
| flowUtils 1.19.1 | Nishant Gopalakrishnan | OK | OK | OK |
| flowViz 1.23.3 | Mike Jiang | OK | OK | OK |
| flowWorkspace 1.5.90 | Greg Finak ,Mike Jiang | N O T S U P P O R T E D |
| fmcsR 1.1.3 | ChemmineR Team | OK | OK | OK |
| frma 1.11.0 | Matthew N. McCall | OK | OK | OK |
| frmaTools 1.11.0 | Matthew N. McCall | OK | OK | OK |
| FunciSNP 1.1.9 | Simon G. Coetzee | OK | WARNINGS | OK |
|
| G A B C D E F [G] H I J K L M N O P Q R S T U V W X Y Z |
| gaga 2.5.4 | David Rossell | OK | OK | OK |
| gage 2.9.2 | Weijun Luo | OK | OK | OK |
| gaggle 1.27.1 | Christopher Bare | OK | OK | OK |
| gaia 2.3.0 | S. Morganella | OK | OK | OK |
| gCMAP 1.3.5 | Thomas Sandmann | N O T S U P P O R T E D |
| gCMAPWeb 0.99.2 | Thomas Sandmann | N O T S U P P O R T E D |
| gcrma 2.31.2 | Z. Wu | OK | OK | OK |
| genArise 1.35.1 | IFC Development Team | OK | OK | OK |
| GeneAnswers 2.0.0 | Gang Feng , Pan Du and Tian Xia | ERROR | skipped | skipped |
| GeneExpressionSignature 1.5.1 | Yang Cao | OK | OK | OK |
| genefilter 1.41.3 | Bioconductor Package Maintainer | OK | OK | OK |
| genefu 1.9.1 | Benjamin Haibe-Kains , Markus Schroeder | OK | OK | OK |
| GeneGA 1.9.1 | Zhenpeng Li | N O T S U P P O R T E D |
| GeneGroupAnalysis 1.5.0 | Alejandro Quiroz-Zarate | OK | OK | OK |
| GeneMeta 1.31.1 | Bioconductor Package Maintainer | OK | OK | OK |
| GeneNetworkBuilder 1.1.1 | Jianhong Ou | OK | OK | OK |
| geneplotter 1.37.0 | Bioconductor Package Maintainer | OK | OK | OK |
| geneRecommender 1.31.0 | Greg Hather | OK | OK | OK |
| GeneRegionScan 1.15.5 | Lasse Folkersen | OK | OK | OK |
| GeneSelectMMD 2.3.2 | Weiliang Qiu | OK | OK | OK |
| GeneSelector 2.9.0 | Martin Slawski | OK | OK | OK |
| GeneticsDesign 1.27.0 | The R Genetics Project | OK | OK | OK |
| GeneticsPed 1.21.1 | David Henderson | OK | OK | OK |
| genoCN 1.11.0 | Wei Sun | OK | OK | OK |
| GenomeGraphs 1.19.0 | Steffen Durinck | OK | OK | OK |
| genomeIntervals 1.15.3 | Julien Gagneur | OK | OK | OK |
| genomes 2.5.1 | Chris Stubben | OK | OK | OK |
| GenomicFeatures 1.11.16 | Bioconductor Package Maintainer | OK | OK | OK |
| GenomicRanges 1.11.40 | Bioconductor Package Maintainer | OK | WARNINGS | OK |
| Genominator 1.13.0 | James Bullard | OK | OK | OK |
| genoset 1.11.26 | Peter M. Haverty | OK | OK | OK |
| GEOmetadb 1.19.0 | Jack Zhu | OK | OK | OK |
| GEOquery 2.25.1 | Sean Davis | OK | OK | OK |
| GEOsubmission 1.11.0 | Alexandre Kuhn | OK | OK | OK |
| GEWIST 1.3.0 | Wei Q. Deng | OK | OK | OK |
| GGBase 3.21.2 | VJ Carey | OK | OK | OK |
| ggbio 1.7.14 | Tengfei Yin | OK | WARNINGS | OK |
| GGtools 4.7.24 | VJ Carey | OK | OK | OK |
| girafe 1.11.4 | J. Toedling | OK | OK | OK |
| GLAD 2.22.0 | Philippe Hupe | OK | OK | OK |
| GlobalAncova 3.27.0 | Manuela Hummel | OK | OK | OK |
| globaltest 5.13.1 | Jelle Goeman | OK | OK | OK |
| gmapR 1.1.11 | Cory Barr | N O T S U P P O R T E D |
| GOFunction 1.5.0 | Zheng Guo | OK | OK | OK |
| goProfiles 1.21.0 | Alex Sanchez | OK | OK | OK |
| GOSemSim 1.17.1 | Guangchuang Yu | OK | WARNINGS | OK |
| goseq 1.11.4 | Matthew Young | OK | OK | OK |
| GOstats 2.25.1 | Bioconductor Package Maintainer | OK | OK | OK |
| goTools 1.33.0 | Agnes Paquet | OK | OK | OK |
| gpls 1.31.0 | Bioconductor Package Maintainer | OK | OK | OK |
| gprege 1.3.0 | Alfredo A. Kalaitzis | OK | OK | OK |
| graph 1.37.7 | Bioconductor Package Maintainer | OK | OK | OK |
| GraphAlignment 1.23.1 | Joern P. Meier | OK | OK | OK |
| GraphAT 1.31.0 | Thomas LaFramboise | OK | OK | OK |
| graphite 1.5.1 | Gabriele Sales | OK | OK | OK |
| GraphPAC 0.99.0 | Gregory Ryslik | OK | OK | OK |
| GRENITS 1.11.0 | Edward Morrissey | OK | OK | OK |
| GSEABase 1.21.6 | Bioconductor Package Maintainer | OK | OK | OK |
| GSEAlm 1.19.0 | Assaf Oron | OK | OK | OK |
| GSRI 2.7.0 | Julian Gehring | OK | OK | OK |
| GSVA 1.7.9 | Justin Guinney | OK | OK | OK |
| Gviz 1.3.14 | Florian Hahne | OK | OK | OK |
| gwascat 1.3.2 | VJ Carey | OK | OK | OK |
| GWASTools 1.5.9 | Stephanie M. Gogarten | OK | OK | OK |
|
| H A B C D E F G [H] I J K L M N O P Q R S T U V W X Y Z |
| hapFabia 1.1.7 | Sepp Hochreiter | OK | OK | OK |
| Harshlight 1.31.0 | Maurizio Pellegrino | OK | OK | OK |
| HCsnip 0.99.1 | Askar Obulkasim | OK | OK | OK |
| Heatplus 2.5.0 | Alexander Ploner | OK | OK | OK |
| HELP 1.17.1 | Reid F. Thompson | OK | OK | OK |
| HEM 1.31.0 | HyungJun Cho | OK | OK | OK |
| HilbertVis 1.17.0 | Simon Anders | OK | OK | OK |
| HilbertVisGUI 1.17.0 | Simon Anders | OK | WARNINGS | OK |
| HiTC 1.3.3 | Nicolas Servant | OK | OK | OK |
| HMMcopy 1.1.0 | Daniel Lai , Gavin Ha , Sohrab Shah | OK | WARNINGS | OK |
| hopach 2.19.0 | Katherine S. Pollard | OK | OK | OK |
| hpar 1.1.2 | Laurent Gatto | OK | OK | OK |
| HTqPCR 1.13.1 | Heidi Dvinge | OK | OK | OK |
| HTSanalyzeR 2.11.0 | Xin Wang | OK | OK | OK |
| HTSeqGenie 1.1.0 | Gregoire Pau | N O T S U P P O R T E D |
| htSeqTools 1.5.1 | Oscar Reina | OK | WARNINGS | OK |
| HTSFilter 0.99.6 | Andrea Rau | OK | WARNINGS | OK |
| HybridMTest 1.3.0 | Demba Fofana | OK | OK | OK |
| hyperdraw 1.11.0 | Paul Murrell | OK | OK | OK |
| hypergraph 1.31.0 | Bioconductor Package Maintainer | OK | OK | OK |
|
| I A B C D E F G H [I] J K L M N O P Q R S T U V W X Y Z |
| iASeq 1.3.0 | Yingying Wei | OK | OK | OK |
| iBBiG 1.3.0 | Aedin Culhane | OK | OK | OK |
| ibh 1.7.0 | Kircicegi Korkmaz | OK | OK | OK |
| iBMQ 0.99.1 | Marie-Pier Scott-Boyer | N O T S U P P O R T E D |
| Icens 1.31.0 | Bioconductor Package Maintainer | OK | OK | OK |
| iChip 1.13.0 | Qianxing Mo | OK | OK | OK |
| idiogram 1.35.0 | Karl J. Dykema | OK | OK | OK |
| IdMappingAnalysis 1.3.1 | Alex Lisovich , Roger Day | OK | WARNINGS | OK |
| IdMappingRetrieval 1.5.0 | Alex Lisovich , Roger Day | OK | WARNINGS | OK |
| iFlow 2.11.1 | Kyongryun Lee | N O T S U P P O R T E D |
| illuminaio 0.1.5 | Kasper Daniel Hansen | OK | OK | OK |
| imageHTS 1.9.1 | Gregoire Pau | OK | OK | OK |
| impute 1.33.0 | Balasubramanian Narasimhan | OK | OK | OK |
| inSilicoDb 1.7.4 | Jonatan Taminau , David Steenhoff | OK | OK | OK |
| inSilicoMerging 1.3.1 | Jonatan Taminau , Stijn Meganck | OK | OK | OK |
| inveRsion 1.7.1 | Alejandro Caceres | OK | OK | OK |
| iontree 1.5.0 | Mingshu Cao | OK | OK | OK |
| iPAC 1.1.3 | Gregory Ryslik | OK | ERROR | OK |
| IPPD 1.7.0 | Martin Slawski | OK | OK | OK |
| IRanges 1.17.41 | Bioconductor Package Maintainer | OK | WARNINGS | OK |
| iSeq 1.11.0 | Qianxing Mo | OK | OK | OK |
| isobar 1.5.3 | Florian P Breitwieser | OK | OK | OK |
| IsoGeneGUI 1.15.0 | Setia Pramana | OK | OK | OK |
| ITALICS 2.19.0 | Guillem Rigaill | OK | OK | OK |
| iterativeBMA 1.17.0 | Ka Yee Yeung | OK | OK | OK |
| iterativeBMAsurv 1.17.0 | Ka Yee Yeung | OK | OK | OK |
|
| J A B C D E F G H I [J] K L M N O P Q R S T U V W X Y Z |
| jmosaics 0.99.0 | Xin Zeng | OK | OK | OK |
| joda 1.7.0 | Ewa Szczurek | OK | OK | OK |
|
| K A B C D E F G H I J [K] L M N O P Q R S T U V W X Y Z |
| KCsmart 2.17.1 | Jorma de Ronde | OK | OK | OK |
| KEGGgraph 1.15.0 | Jitao David Zhang | OK | OK | OK |
| keggorthology 2.11.0 | VJ Carey | OK | OK | OK |
| KEGGprofile 1.1.0 | Shilin Zhao | OK | OK | OK |
| KEGGREST 0.99.6 | Bioconductor Package Maintainer | OK | OK | OK |
| KEGGSOAP 1.33.1 | Bioconductor Package Maintainer | OK | OK | OK |
|
| L A B C D E F G H I J K [L] M N O P Q R S T U V W X Y Z |
| lapmix 1.25.0 | Yann Ruffieux | OK | OK | OK |
| LBE 1.27.0 | Cyril Dalmasso | OK | OK | OK |
| les 1.9.1 | Julian Gehring | OK | OK | OK |
| limma 3.15.18 | Gordon Smyth | OK | OK | OK |
| limmaGUI 1.35.1 | Keith Satterley | OK | OK | OK |
| LiquidAssociation 1.13.0 | Yen-Yi Ho | OK | OK | OK |
| lmdme 1.1.5 | Cristobal Fresno | OK | OK | OK |
| LMGene 2.15.0 | Blythe Durbin-Johnson | OK | OK | OK |
| logicFS 1.29.2 | Holger Schwender | OK | OK | OK |
| logitT 1.17.0 | Tobias Guennel | OK | OK | OK |
| lol 1.7.0 | Yinyin Yuan | OK | OK | OK |
| LPE 1.33.0 | Nitin Jain | OK | OK | OK |
| LPEadj 1.19.0 | Carl Murie | OK | OK | OK |
| lpNet 0.99.0 | Bettina Knapp | OK | OK | OK |
| lumi 2.11.6 | Pan Du | OK | WARNINGS | OK |
| LVSmiRNA 1.9.2 | Stefano Calza | OK | OK | OK |
|
| M A B C D E F G H I J K L [M] N O P Q R S T U V W X Y Z |
| maanova 1.29.0 | Keith Sheppard | OK | WARNINGS | OK |
| macat 1.33.0 | Joern Toedling | OK | OK | OK |
| maCorrPlot 1.29.0 | Alexander Ploner | OK | OK | OK |
| maDB 1.31.0 | Johannes Rainer | N O T S U P P O R T E D |
| made4 1.33.0 | Aedin Culhane | OK | OK | OK |
| maigesPack 1.23.0 | Gustavo H. Esteves | OK | OK | OK |
| makecdfenv 1.35.3 | James W. MacDonald | OK | WARNINGS | OK |
| MANOR 1.31.0 | Pierre Neuvial | OK | OK | OK |
| manta 1.5.0 | Chris Berthiaume , Adrian Marchetti | OK | OK | OK |
| MantelCorr 1.29.0 | Brian Steinmeyer | OK | OK | OK |
| marray 1.37.0 | Yee Hwa (Jean) Yang | OK | OK | OK |
| maSigPro 1.31.0 | Maria Jose Nueda | OK | OK | OK |
| maskBAD 1.3.0 | Michael Dannemann | OK | OK | OK |
| MassArray 1.11.0 | Reid F. Thompson | OK | OK | OK |
| MassSpecWavelet 1.25.0 | Pan Du | OK | OK | OK |
| matchBox 1.1.0 | Luigi Marchionni | OK | OK | OK |
| MBCB 1.13.0 | Jeff Allen | OK | OK | OK |
| mBPCR 1.13.0 | P.M.V. Rancoita | OK | OK | OK |
| mcaGUI 1.7.0 | Wade K. Copeland | OK | OK | OK |
| MCRestimate 2.15.0 | Marc Johannes | OK | OK | OK |
| mdqc 1.21.0 | Gabriela Cohen-Freue | OK | OK | OK |
| MeasurementError.cor 1.31.0 | Beiying Ding | OK | OK | OK |
| MEDIPS 1.9.5 | Lukas Chavez | OK | OK | OK |
| MEDME 1.19.0 | Mattia Pelizzola | OK | OK | OK |
| MergeMaid 2.31.0 | Xiaogang Zhong | OK | OK | OK |
| metaArray 1.37.0 | Hyungwon Choi | OK | OK | OK |
| metahdep 1.17.0 | John R. Stevens | OK | OK | OK |
| methVisual 1.11.0 | Arie Zackay | OK | OK | OK |
| methyAnalysis 1.1.8 | Pan Du | OK | OK | OK |
| MethylSeekR 0.99.1 | Lukas Burger | OK | OK | OK |
| methylumi 2.5.14 | Sean Davis | OK | OK | OK |
| Mfuzz 2.17.1 | Matthias Futschik | OK | OK | OK |
| mgsa 1.7.1 | Sebastian Bauer | OK | OK | OK |
| MiChip 1.13.0 | Jonathon Blake | OK | OK | OK |
| microRNA 1.17.0 | "James F. Reid" | OK | OK | OK |
| MineICA 0.99.1 | Anne Biton | OK | OK | OK |
| minet 3.13.1 | Patrick E. Meyer | OK | OK | OK |
| minfi 1.5.6 | Kasper Daniel Hansen | OK | OK | OK |
| MinimumDistance 1.3.7 | Robert B Scharpf | OK | OK | OK |
| MiPP 1.31.0 | Sukwoo Kim | OK | OK | OK |
| MiRaGE 1.1.0 | Y-h. Taguchi | OK | OK | OK |
| miRNApath 1.19.0 | James M. Ward | OK | OK | OK |
| MLInterfaces 1.39.5 | V. Carey | OK | OK | OK |
| MLP 1.7.3 | Tobias Verbeke | OK | OK | OK |
| MmPalateMiRNA 1.8.0 | Guy Brock | OK | OK | OK |
| mosaics 1.7.0 | Dongjun Chung | OK | OK | OK |
| MotifDb 1.1.6 | Paul Shannon | OK | OK | OK |
| motifRG 1.3.2 | Zizhen Yao | OK | WARNINGS | OK |
| motifStack 1.2.14 | Jianhong Ou | OK | OK | OK |
| MotIV 1.15.1 | Eloi Mercier , Raphael Gottardo | OK | OK | OK |
| MSnbase 1.7.25 | Laurent Gatto | OK | OK | OK |
| Mulcom 1.9.1 | Claudio Isella | OK | OK | OK |
| multiscan 1.19.0 | Mizanur Khondoker | OK | OK | OK |
| multtest 2.15.0 | Katherine S. Pollard | OK | OK | OK |
| MVCClass 1.33.0 | Elizabeth Whalen | OK | OK | OK |
| mzR 1.5.9 | Bernd Fischer | OK | OK | OK |
|
| N A B C D E F G H I J K L M [N] O P Q R S T U V W X Y Z |
| NarrowPeaks 1.3.2 | Pedro Madrigal | OK | OK | OK |
| ncdfFlow 1.5.27 | M. Jiang | N O T S U P P O R T E D |
| NCIgraph 1.7.0 | Laurent Jacob | OK | OK | OK |
| nem 2.35.1 | Holger Froehlich | OK | OK | OK |
| netresponse 1.11.24 | Leo Lahti | OK | OK | OK |
| networkBMA 1.1.0 | Chris Fraley | OK | OK | OK |
| nnNorm 2.23.0 | Adi Laurentiu Tarca | OK | OK | OK |
| NOISeq 1.1.5 | Sonia Tarazona | OK | OK | OK |
| NormqPCR 1.5.2 | James Perkins | OK | WARNINGS | OK |
| NTW 1.9.0 | Yuanhua Liu | OK | OK | OK |
| nucleR 1.7.2 | Oscar Flores | OK | OK | OK |
| nudge 1.25.0 | N. Dean | OK | OK | OK |
| NuPoP 1.9.0 | Ji-Ping Wang | OK | OK | OK |
|
| O A B C D E F G H I J K L M N [O] P Q R S T U V W X Y Z |
| occugene 1.19.0 | Oliver Will | OK | OK | OK |
| OCplus 1.33.0 | Alexander Ploner | OK | OK | OK |
| oligo 1.23.1 | Benilton Carvalho | OK | OK | OK |
| oligoClasses 1.21.16 | Benilton Carvalho and Robert Scharpf | OK | OK | OK |
| OLIN 1.37.1 | Matthias Futschik | OK | OK | OK |
| OLINgui 1.33.1 | Matthias Futschik | OK | OK | OK |
| oneChannelGUI 1.25.7 | Raffaele A Calogero | OK | OK | OK |
| ontoCAT 1.11.0 | Natalja Kurbatova | OK | OK | OK |
| OrderedList 1.31.0 | Claudio Lottaz | OK | OK | OK |
| OrganismDbi 1.1.14 | Biocore Data Team | OK | OK | OK |
| OSAT 1.6.1 | Li Yan | OK | OK | OK |
| OTUbase 1.9.1 | Daniel Beck | OK | OK | OK |
| OutlierD 1.23.0 | Sukwoo Kim | OK | OK | OK |
|
| P A B C D E F G H I J K L M N O [P] Q R S T U V W X Y Z |
| PADOG 1.1.0 | Adi Laurentiu Tarca | OK | OK | OK |
| PAnnBuilder 1.23.0 | Li Hong | OK | OK | OK |
| panp 1.29.1 | Peter Warren | OK | OK | OK |
| PANR 1.5.1 | Xin Wang | OK | OK | OK |
| parody 1.17.0 | VJ Carey | OK | OK | OK |
| PathNet 0.99.2 | Jason B. Smith | OK | OK | OK |
| pathRender 1.27.1 | Li Long | OK | OK | OK |
| pathview 0.99.9 | Weijun Luo | OK | OK | OK |
| pcaGoPromoter 1.3.0 | Morten Hansen | OK | OK | OK |
| pcaMethods 1.49.1 | Henning Redestig | OK | OK | OK |
| pcot2 1.27.0 | Sarah Song | OK | OK | OK |
| PCpheno 1.21.0 | Nolwenn Le Meur | OK | OK | OK |
| pdInfoBuilder 1.23.1 | Benilton Carvalho | OK | OK | OK |
| pdmclass 1.31.0 | James W. MacDonald | OK | OK | OK |
| PGSEA 1.33.0 | Karl Dykema | OK | OK | OK |
| pgUtils 1.31.0 | Johannes Rainer | N O T S U P P O R T E D |
| phenoDist 1.7.0 | Xian Zhang | OK | OK | OK |
| phenoTest 1.7.4 | Evarist Planet | OK | OK | OK |
| phyloseq 1.3.23 | Paul J. McMurdie | OK | OK | OK |
| pickgene 1.31.0 | Brian S. Yandell | OK | OK | OK |
| PICS 2.1.01 | Renan Sauteraud | OK | OK | OK |
| PING 2.1.02 | Renan Sauteraud | OK | OK | OK |
| pint 1.11.0 | Olli-Pekka Huovilainen | OK | OK | OK |
| pkgDepTools 1.25.0 | Seth Falcon | OK | OK | OK |
| plateCore 1.17.0 | Errol Strain | OK | OK | OK |
| plgem 1.31.2 | Norman Pavelka | OK | OK | OK |
| plier 1.29.0 | Crispin Miller | OK | OK | OK |
| PLPE 1.19.0 | Soo-heang Eo | OK | OK | OK |
| plrs 0.99.1 | Gwenael G.R. Leday to | OK | OK | OK |
| plw 1.19.0 | Magnus Astrand | OK | OK | OK |
| ppiStats 1.25.0 | Tony Chiang | OK | OK | OK |
| prada 1.35.2 | Florian Hahne | OK | OK | OK |
| PREDA 1.5.0 | Francesco Ferrari | OK | OK | OK |
| predictionet 1.5.0 | Benjamin Haibe-Kains , Catharina Olsen | N O T S U P P O R T E D |
| preprocessCore 1.21.1 | Benjamin Milo Bolstad | OK | OK | OK |
| PROcess 1.35.0 | Xiaochun Li | OK | OK | OK |
| procoil 1.9.0 | Ulrich Bodenhofer | OK | OK | OK |
| pRoloc 0.99.17 | Laurent Gatto | OK | ERROR | ERROR |
| PROMISE 1.11.0 | Stan Pounds , Xueyuan Cao | OK | OK | OK |
| proteinProfiles 0.99.0 | Julian Gehring | OK | OK | OK |
| puma 3.1.1 | Richard Pearson | OK | OK | OK |
| pvac 1.7.0 | Jun Lu , Pierre R. Bushel | OK | OK | OK |
| pvca 0.99.3 | Jianying LI | OK | OK | OK |
| PWMEnrich 2.0.0 | Robert Stojnic | OK | OK | OK |
|
| Q A B C D E F G H I J K L M N O P [Q] R S T U V W X Y Z |
| qpcrNorm 1.17.0 | Jessica Mar | OK | OK | OK |
| qpgraph 1.15.6 | Robert Castelo | OK | OK | OK |
| qrqc 1.13.1 | Vince Buffalo | OK | OK | OK |
| QUALIFIER 1.3.7 | Mike Jiang | N O T S U P P O R T E D |
| quantsmooth 1.25.0 | Jan Oosting | OK | OK | OK |
| QuasR 0.99.7 | Michael Stadler | OK | OK | OK |
| qvalue 1.33.0 | John D. Storey | OK | OK | OK |
|
| R A B C D E F G H I J K L M N O P Q [R] S T U V W X Y Z |
| r3Cseq 1.5.1 | Supat Thongjuea | OK | OK | OK |
| R453Plus1Toolbox 1.9.5 | Hans-Ulrich Klein | OK | OK | OK |
| rama 1.33.0 | Raphael Gottardo | OK | OK | OK |
| RamiGO 1.5.0 | Markus Schroeder | OK | OK | OK |
| randPack 1.5.0 | Robert Gentleman | OK | OK | OK |
| RankProd 2.31.1 | Fangxin Hong | OK | OK | OK |
| RbcBook1 1.27.0 | Vince Carey | OK | OK | OK |
| RBGL 1.35.0 | Bioconductor Package Maintainer | OK | OK | OK |
| RBioinf 1.19.1 | Robert Gentleman | OK | OK | OK |
| rBiopaxParser 0.99.10 | Frank Kramer | OK | OK | OK |
| Rbowtie 0.99.3 | Michael Stadler | OK | OK | OK |
| rbsurv 2.17.0 | Soo-heang Eo | OK | OK | OK |
| Rcade 1.1.3 | Jonathan Cairns | OK | OK | OK |
| RCASPAR 1.5.0 | Douaa Mugahid , Lars Kaderali | OK | OK | OK |
| RchyOptimyx 1.3.2 | Adrin Jalali , Nima Aghaeepour | OK | OK | OK |
| RCytoscape 1.9.7 | Paul Shannon | OK | OK | OK |
| Rdisop 1.19.2 | Steffen Neumann | OK | OK | OK |
| RDRToolbox 1.9.0 | Christoph Bartenhagen | OK | OK | OK |
| ReactomePA 1.3.1 | Guangchuang Yu | OK | OK | OK |
| ReadqPCR 1.5.3 | James Perkins | OK | OK | OK |
| reb 1.37.0 | Karl J. Dykema | OK | OK | OK |
| RedeR 1.6.2 | Mauro Castro | OK | OK | OK |
| REDseq 1.5.0 | Lihua Julie Zhu | OK | OK | OK |
| RefPlus 1.29.0 | Kai-Ming Chang | OK | OK | OK |
| Repitools 1.5.6 | Mark Robinson | OK | OK | OK |
| ReportingTools 1.99.3 | Jason A. Hackney , Gabriel Becker | OK | OK | OK |
| ReQON 1.5.0 | Christopher Cabanski | OK | OK | OK |
| Resourcerer 1.33.0 | Jianhua Zhang | OK | OK | OK |
| rGADEM 2.7.0 | Arnaud Droit | OK | OK | OK |
| RGalaxy 1.3.7 | Bioconductor Package Maintainer | OK | OK | OK |
| Rgraphviz 2.3.8 | Kasper Daniel Hansen | OK | WARNINGS | OK |
| rhdf5 2.3.5 | Bernd Fischer | OK | OK | OK |
| rHVDM 1.25.0 | Martino Barenco | OK | OK | OK |
| Ringo 1.23.1 | J. Toedling | OK | OK | OK |
| RIPSeeker 0.99.9 | Yue Li | OK | OK | OK |
| Risa 1.1.0 | Alejandra Gonzalez-Beltran, ISA Team | OK | OK | OK |
| RLMM 1.21.0 | Nusrat Rabbee | OK | OK | OK |
| Rmagpie 1.15.1 | Camille Maumet | OK | OK | OK |
| RMAPPER 1.9.0 | Heike Sichtig , Alberto Riva | OK | OK | OK |
| RMassBank 1.1.1 | Michael Stravs, Emma Schymanski | ERROR | skipped | skipped |
| rMAT 3.9.1 | Arnaud Droit and Raphael Gottardo | ERROR | skipped | skipped |
| RmiR 1.15.0 | Francesco Favero | OK | OK | OK |
| RNAinteract 1.7.2 | Bernd Fischer | OK | OK | OK |
| RNAither 2.7.0 | Nora Rieber | OK | OK | OK |
| rnaSeqMap 2.13.1 | Michal Okoniewski | N O T S U P P O R T E D |
| RNASeqPower 0.99.2 | Terry M Therneau | OK | OK | OK |
| ROC 1.35.0 | Vince Carey | OK | OK | OK |
| Rolexa 1.15.1 | Jacques Rougemont | OK | OK | OK |
| rols 1.1.6 | Laurent Gatto | OK | OK | OK |
| ROntoTools 0.99.2 | Calin Voichita | OK | OK | OK |
| RPA 1.15.41 | Leo Lahti | OK | OK | OK |
| RpsiXML 2.0.0 | Jitao David Zhang | OK | OK | OK |
| rqubic 1.5.1 | Jitao David Zhang | OK | OK | OK |
| Rsamtools 1.11.27 | Bioconductor Package Maintainer | OK | OK | OK |
| rsbml 2.17.0 | Michael Lawrence | OK | OK | OK |
| rSFFreader 0.7.0 | Matt Settles | N O T S U P P O R T E D |
| Rsubread 1.9.3 | Wei Shi | N O T S U P P O R T E D |
| RSVSim 0.99.3 | Christoph Bartenhagen | OK | WARNINGS | OK |
| rTANDEM 0.99.5 | Frederic Fournier | OK | OK | OK |
| RTCA 1.11.1 | Jitao David Zhang | OK | OK | OK |
| RTopper 1.5.1 | Luigi Marchionni | OK | OK | OK |
| rtracklayer 1.19.11 | Michael Lawrence | OK | WARNINGS | OK |
| Rtreemix 1.21.2 | Jasmina Bogojeska | ERROR | skipped | skipped |
| RWebServices 1.23.2 | Martin Morgan | N O T S U P P O R T E D |
|
| S A B C D E F G H I J K L M N O P Q R [S] T U V W X Y Z |
| safe 2.99.2 | William T. Barry | OK | ERROR | OK |
| sagenhaft 1.29.1 | Tim Beissbarth | OK | OK | OK |
| SAGx 1.33.0 | Per Broberg, | OK | OK | OK |
| SamSPECTRAL 1.13.4 | Habil Zare | OK | OK | OK |
| SANTA 0.99.5 | Alex Cornish | OK | OK | OK |
| SBMLR 1.55.0 | Tomas Radivoyevitch | OK | OK | OK |
| SCAN.UPC 1.99.4 | Stephen R. Piccolo | OK | OK | OK |
| ScISI 1.31.0 | Tony Chiang | OK | OK | OK |
| segmentSeq 1.11.0 | Thomas J. Hardcastle | OK | OK | OK |
| SeqArray 0.99.1 | Xiuwen Zheng | OK | OK | OK |
| seqbias 1.7.0 | Daniel Jones | OK | OK | OK |
| seqLogo 1.25.0 | Oliver Bembom | OK | OK | OK |
| ShortRead 1.17.10 | Bioconductor Package Maintainer | OK | OK | OK |
| sigaR 1.3.2 | Wessel N. van Wieringen | OK | OK | OK |
| siggenes 1.33.1 | Holger Schwender | OK | OK | OK |
| sigPathway 1.27.0 | Weil Lai | OK | OK | OK |
| SIM 1.29.2 | Renee X. de Menezes | OK | OK | OK |
| simpleaffy 2.35.1 | Crispin Miller | OK | OK | OK |
| sizepower 1.29.0 | Weiliang Qiu | OK | OK | OK |
| SJava 0.85.2 | Martin Morgan | N O T S U P P O R T E D |
| SLGI 1.19.0 | Nolwenn Le Meur | OK | OK | OK |
| SLqPCR 1.25.0 | Matthias Kohl | OK | OK | OK |
| SMAP 1.23.0 | Robin Andersson | OK | OK | OK |
| SNAGEE 0.99.1 | David Venet | OK | OK | OK |
| snapCGH 1.29.0 | John Marioni | OK | OK | OK |
| snm 1.7.0 | Brig Mecham | OK | OK | OK |
| SNPchip 2.5.9 | Robert Scharpf | OK | OK | OK |
| snpStats 1.9.3 | David Clayton | OK | OK | OK |
| SomatiCA 0.99.2 | Mengjie Chen | OK | OK | OK |
| spade 1.7.0 | Michael Linderman | OK | OK | OK |
| SpeCond 1.13.0 | Florence Cavalli | OK | OK | OK |
| SPEM 0.99.3 | Xinyi YANG | OK | OK | OK |
| SPIA 2.10.0 | Adi Laurentiu Tarca | OK | OK | OK |
| spikeLI 2.19.1 | Enrico Carlon | OK | OK | OK |
| spkTools 1.15.0 | Matthew N McCall | OK | OK | OK |
| splicegear 1.31.1 | Laurent Gautier | OK | OK | OK |
| splots 1.25.0 | Wolfgang Huber | OK | OK | OK |
| spotSegmentation 1.33.0 | Chris Fraley | OK | OK | OK |
| SQUADD 1.9.1 | Martial Sankar | OK | OK | OK |
| SRAdb 1.13.2 | Jack Zhu | OK | OK | OK |
| sscore 1.31.0 | Richard Kennedy | OK | OK | OK |
| ssize 1.33.0 | Gregory R. Warnes | OK | OK | OK |
| SSPA 1.99.5 | Maarten van Iterson | OK | OK | OK |
| staRank 1.1.0 | Juliane Siebourg | OK | OK | OK |
| Starr 1.15.2 | Benedikt Zacher | OK | OK | OK |
| stepNorm 1.31.0 | Yuanyuan Xiao | OK | OK | OK |
| stepwiseCM 1.5.0 | Askar Obulkasim | OK | OK | OK |
| Streamer 1.5.1 | Martin Morgan | OK | OK | OK |
| survcomp 1.9.3 | Benjamin Haibe-Kains , Markus Schroeder , Catharina Olsen | OK | OK | OK |
| sva 3.5.0 | Jeffrey T. Leek | OK | OK | OK |
| synapter 1.1.5 | Laurent Gatto | OK | OK | OK |
|
| T A B C D E F G H I J K L M N O P Q R S [T] U V W X Y Z |
| TargetSearch 1.15.4 | Alvaro Cuadros-Inostroza | OK | OK | OK |
| TDARACNE 1.9.0 | Zoppoli Pietro | OK | OK | OK |
| TEQC 2.7.3 | Manuela Hummel | OK | OK | OK |
| ternarynet 1.3.2 | Matthew N. McCall | OK | OK | OK |
| tigre 1.13.2 | Antti Honkela | OK | OK | OK |
| tilingArray 1.37.0 | Zhenyu Xu | OK | OK | OK |
| timecourse 1.31.0 | Yu Chuan Tai | OK | OK | OK |
| tkWidgets 1.37.0 | J. Zhang | OK | OK | OK |
| topGO 2.11.0 | Adrian Alexa | OK | OK | OK |
| TransView 1.2.10 | Julius Muller | OK | OK | OK |
| triform 1.1.0 | Tony HÃ¥ndstad Developer | OK | OK | OK |
| trigger 1.5.1 | John D. Storey | OK | OK | OK |
| tspair 1.17.0 | Jeffrey T. Leek | OK | OK | OK |
| TSSi 1.5.0 | Julian Gehring | OK | OK | OK |
| TurboNorm 1.7.2 | Maarten van Iterson | OK | OK | OK |
| tweeDEseq 1.5.0 | Juan R Gonzalez | OK | OK | OK |
| twilight 1.35.0 | Stefanie Scheid | OK | OK | OK |
| TypeInfo 1.25.0 | Duncan Temple Lang | OK | OK | OK |
|
| U A B C D E F G H I J K L M N O P Q R S T [U] V W X Y Z |
| UniProt.ws 1.99.15 | Marc Carlson | OK | OK | OK |
|
| V A B C D E F G H I J K L M N O P Q R S T U [V] W X Y Z |
| VanillaICE 1.21.27 | Robert Scharpf | OK | OK | OK |
| VariantAnnotation 1.5.45 | Valerie Obenchain | OK | OK | OK |
| VariantTools 1.1.13 | Michael Lawrence | N O T S U P P O R T E D |
| vbmp 1.27.0 | Nicola Lama | OK | OK | OK |
| Vega 1.7.0 | Sandro Morganella | OK | OK | OK |
| VegaMC 2.3.0 | Sandro Morganella | OK | OK | OK |
| virtualArray 1.3.1 | Andreas Heider | OK | OK | OK |
| vsn 3.27.2 | Wolfgang Huber | OK | OK | OK |
|
| W A B C D E F G H I J K L M N O P Q R S T U V [W] X Y Z |
| wateRmelon 0.99.16 | Leo | OK | OK | OK |
| waveTiling 1.1.1 | Kristof De Beuf | OK | OK | OK |
| weaver 1.25.0 | Seth Falcon | OK | OK | OK |
| webbioc 1.31.0 | Colin A. Smith | OK | OK | OK |
| widgetTools 1.37.0 | Jianhua Zhang | OK | OK | OK |
|
| X A B C D E F G H I J K L M N O P Q R S T U V W [X] Y Z |
| xcms 1.35.6 | Ralf Tautenhahn | OK | OK | OK |
| XDE 2.5.3 | Robert Scharpf | OK | OK | OK |
| xmapbridge 1.17.0 | Tim Yates | OK | OK | OK |
| xmapcore 1.13.0 | Tim Yates | N O T S U P P O R T E D |
| xps 1.19.8 | Christian Stratowa | OK | WARNINGS | OK |
|
| Y A B C D E F G H I J K L M N O P Q R S T U V W X [Y] Z |
| yaqcaffy 1.19.0 | Laurent Gatto | OK | OK | OK |
|
| Z A B C D E F G H I J K L M N O P Q R S T U V W X Y [Z] |
| zlibbioc 1.5.0 | Bioconductor Package Maintainer | OK | OK | OK |