edgeR 3.1.9 Mark Robinson , Davis McCarthy , Yunshun Chen , Gordon Smyth
Snapshot Date: 2013-03-24 17:01:43 -0700 (Sun, 24 Mar 2013) | URL: https://hedgehog.fhcrc.org/bioconductor/trunk/madman/Rpacks/edgeR | Last Changed Rev: 74597 / Revision: 74774 | Last Changed Date: 2013-03-19 21:41:13 -0700 (Tue, 19 Mar 2013) |
| george2 | Linux (Ubuntu 12.04.1 LTS) / x86_64 | OK | OK | |
moscato2 | Windows Server 2008 R2 Enterprise SP1 (64-bit) / x64 | OK | OK | [ OK ] |
petty | Mac OS X Leopard (10.5.8) / i386 | OK | OK | OK |
install for i386
* installing *source* package 'edgeR' ...
** libs
g++ -m32 -I"E:/biocbld/BBS-2˜1.12-/R/include" -DNDEBUG -I./core -I. -I"d:/RCompile/CRANpkg/extralibs64/local/include" -O2 -Wall -mtune=core2 -c R_exact_test_by_deviance.cpp -o R_exact_test_by_deviance.o
g++ -m32 -I"E:/biocbld/BBS-2˜1.12-/R/include" -DNDEBUG -I./core -I. -I"d:/RCompile/CRANpkg/extralibs64/local/include" -O2 -Wall -mtune=core2 -c R_loess_by_col.cpp -o R_loess_by_col.o
g++ -m32 -I"E:/biocbld/BBS-2˜1.12-/R/include" -DNDEBUG -I./core -I. -I"d:/RCompile/CRANpkg/extralibs64/local/include" -O2 -Wall -mtune=core2 -c R_cr_adjust.cpp -o R_cr_adjust.o
g++ -m32 -I"E:/biocbld/BBS-2˜1.12-/R/include" -DNDEBUG -I./core -I. -I"d:/RCompile/CRANpkg/extralibs64/local/include" -O2 -Wall -mtune=core2 -c R_levenberg.cpp -o R_levenberg.o
g++ -m32 -I"E:/biocbld/BBS-2˜1.12-/R/include" -DNDEBUG -I./core -I. -I"d:/RCompile/CRANpkg/extralibs64/local/include" -O2 -Wall -mtune=core2 -c R_maximize_interpolant.cpp -o R_maximize_interpolant.o
g++ -m32 -I"E:/biocbld/BBS-2˜1.12-/R/include" -DNDEBUG -I./core -I. -I"d:/RCompile/CRANpkg/extralibs64/local/include" -O2 -Wall -mtune=core2 -c R_one_group.cpp -o R_one_group.o
g++ -m32 -I"E:/biocbld/BBS-2˜1.12-/R/include" -DNDEBUG -I./core -I. -I"d:/RCompile/CRANpkg/extralibs64/local/include" -O2 -Wall -mtune=core2 -c R_simple_good_turing.cpp -o R_simple_good_turing.o
g++ -m32 -I"E:/biocbld/BBS-2˜1.12-/R/include" -DNDEBUG -I./core -I. -I"d:/RCompile/CRANpkg/extralibs64/local/include" -O2 -Wall -mtune=core2 -c core/adj_coxreid.cpp -o core/adj_coxreid.o
g++ -m32 -I"E:/biocbld/BBS-2˜1.12-/R/include" -DNDEBUG -I./core -I. -I"d:/RCompile/CRANpkg/extralibs64/local/include" -O2 -Wall -mtune=core2 -c core/glm_levenberg.cpp -o core/glm_levenberg.o
g++ -m32 -I"E:/biocbld/BBS-2˜1.12-/R/include" -DNDEBUG -I./core -I. -I"d:/RCompile/CRANpkg/extralibs64/local/include" -O2 -Wall -mtune=core2 -c core/glm_one_group.cpp -o core/glm_one_group.o
g++ -m32 -I"E:/biocbld/BBS-2˜1.12-/R/include" -DNDEBUG -I./core -I. -I"d:/RCompile/CRANpkg/extralibs64/local/include" -O2 -Wall -mtune=core2 -c core/interpolator.cpp -o core/interpolator.o
gcc -m32 -I"E:/biocbld/BBS-2˜1.12-/R/include" -DNDEBUG -I./core -I. -I"d:/RCompile/CRANpkg/extralibs64/local/include" -O3 -Wall -std=gnu99 -mtune=core2 -c core/fmm_spline.c -o core/fmm_spline.o
g++ -m32 -shared -s -static-libgcc -o edgeR.dll tmp.def R_exact_test_by_deviance.o R_loess_by_col.o R_cr_adjust.o R_levenberg.o R_maximize_interpolant.o R_one_group.o R_simple_good_turing.o core/adj_coxreid.o core/glm_levenberg.o core/glm_one_group.o core/interpolator.o core/fmm_spline.o -LE:/biocbld/BBS-2˜1.12-/R/bin/i386 -lRlapack -LE:/biocbld/BBS-2˜1.12-/R/bin/i386 -lRblas -lgfortran -Ld:/RCompile/CRANpkg/extralibs64/local/lib/i386 -Ld:/RCompile/CRANpkg/extralibs64/local/lib -LE:/biocbld/BBS-2˜1.12-/R/bin/i386 -lR
installing to E:/biocbld/bbs-2.12-bioc/meat/edgeR.buildbin-libdir/edgeR/libs/i386
** R
** data
** inst
** preparing package for lazy loading
** help
*** installing help indices
** building package indices
** installing vignettes
'edgeR.Rnw'
** testing if installed package can be loaded
install for x64
* installing *source* package 'edgeR' ...
** libs
g++ -m64 -I"E:/biocbld/BBS-2˜1.12-/R/include" -DNDEBUG -I./core -I. -I"d:/RCompile/CRANpkg/extralibs64/local/include" -O2 -Wall -mtune=core2 -c R_exact_test_by_deviance.cpp -o R_exact_test_by_deviance.o
g++ -m64 -I"E:/biocbld/BBS-2˜1.12-/R/include" -DNDEBUG -I./core -I. -I"d:/RCompile/CRANpkg/extralibs64/local/include" -O2 -Wall -mtune=core2 -c R_loess_by_col.cpp -o R_loess_by_col.o
g++ -m64 -I"E:/biocbld/BBS-2˜1.12-/R/include" -DNDEBUG -I./core -I. -I"d:/RCompile/CRANpkg/extralibs64/local/include" -O2 -Wall -mtune=core2 -c R_cr_adjust.cpp -o R_cr_adjust.o
g++ -m64 -I"E:/biocbld/BBS-2˜1.12-/R/include" -DNDEBUG -I./core -I. -I"d:/RCompile/CRANpkg/extralibs64/local/include" -O2 -Wall -mtune=core2 -c R_levenberg.cpp -o R_levenberg.o
g++ -m64 -I"E:/biocbld/BBS-2˜1.12-/R/include" -DNDEBUG -I./core -I. -I"d:/RCompile/CRANpkg/extralibs64/local/include" -O2 -Wall -mtune=core2 -c R_maximize_interpolant.cpp -o R_maximize_interpolant.o
g++ -m64 -I"E:/biocbld/BBS-2˜1.12-/R/include" -DNDEBUG -I./core -I. -I"d:/RCompile/CRANpkg/extralibs64/local/include" -O2 -Wall -mtune=core2 -c R_one_group.cpp -o R_one_group.o
g++ -m64 -I"E:/biocbld/BBS-2˜1.12-/R/include" -DNDEBUG -I./core -I. -I"d:/RCompile/CRANpkg/extralibs64/local/include" -O2 -Wall -mtune=core2 -c R_simple_good_turing.cpp -o R_simple_good_turing.o
g++ -m64 -I"E:/biocbld/BBS-2˜1.12-/R/include" -DNDEBUG -I./core -I. -I"d:/RCompile/CRANpkg/extralibs64/local/include" -O2 -Wall -mtune=core2 -c core/adj_coxreid.cpp -o core/adj_coxreid.o
g++ -m64 -I"E:/biocbld/BBS-2˜1.12-/R/include" -DNDEBUG -I./core -I. -I"d:/RCompile/CRANpkg/extralibs64/local/include" -O2 -Wall -mtune=core2 -c core/glm_levenberg.cpp -o core/glm_levenberg.o
g++ -m64 -I"E:/biocbld/BBS-2˜1.12-/R/include" -DNDEBUG -I./core -I. -I"d:/RCompile/CRANpkg/extralibs64/local/include" -O2 -Wall -mtune=core2 -c core/glm_one_group.cpp -o core/glm_one_group.o
g++ -m64 -I"E:/biocbld/BBS-2˜1.12-/R/include" -DNDEBUG -I./core -I. -I"d:/RCompile/CRANpkg/extralibs64/local/include" -O2 -Wall -mtune=core2 -c core/interpolator.cpp -o core/interpolator.o
gcc -m64 -I"E:/biocbld/BBS-2˜1.12-/R/include" -DNDEBUG -I./core -I. -I"d:/RCompile/CRANpkg/extralibs64/local/include" -O2 -Wall -std=gnu99 -mtune=core2 -c core/fmm_spline.c -o core/fmm_spline.o
g++ -m64 -shared -s -static-libgcc -o edgeR.dll tmp.def R_exact_test_by_deviance.o R_loess_by_col.o R_cr_adjust.o R_levenberg.o R_maximize_interpolant.o R_one_group.o R_simple_good_turing.o core/adj_coxreid.o core/glm_levenberg.o core/glm_one_group.o core/interpolator.o core/fmm_spline.o -LE:/biocbld/BBS-2˜1.12-/R/bin/x64 -lRlapack -LE:/biocbld/BBS-2˜1.12-/R/bin/x64 -lRblas -lgfortran -Ld:/RCompile/CRANpkg/extralibs64/local/lib/x64 -Ld:/RCompile/CRANpkg/extralibs64/local/lib -LE:/biocbld/BBS-2˜1.12-/R/bin/x64 -lR
installing to E:/biocbld/bbs-2.12-bioc/meat/edgeR.buildbin-libdir/edgeR/libs/x64
** testing if installed package can be loaded
* MD5 sums
packaged installation of 'edgeR' as edgeR_3.1.9.zip
* DONE (edgeR)