RSVSim 0.99.3 Christoph Bartenhagen
Snapshot Date: 2013-03-24 17:01:43 -0700 (Sun, 24 Mar 2013) | URL: https://hedgehog.fhcrc.org/bioconductor/trunk/madman/Rpacks/RSVSim | Last Changed Rev: 74706 / Revision: 74774 | Last Changed Date: 2013-03-22 14:48:25 -0700 (Fri, 22 Mar 2013) |
| george2 | Linux (Ubuntu 12.04.1 LTS) / x86_64 | OK | WARNINGS | |
moscato2 | Windows Server 2008 R2 Enterprise SP1 (64-bit) / x64 | OK | WARNINGS | [ OK ] |
petty | Mac OS X Leopard (10.5.8) / i386 | OK | WARNINGS | OK |
install for i386
* installing *source* package 'RSVSim' ...
** R
** data
** inst
** preparing package for lazy loading
** help
*** installing help indices
** building package indices
** installing vignettes
'vignette.Rnw'
** testing if installed package can be loaded
install for x64
* installing *source* package 'RSVSim' ...
** testing if installed package can be loaded
* MD5 sums
packaged installation of 'RSVSim' as RSVSim_0.99.3.zip
* DONE (RSVSim)