| UniProt.ws 1.99.15 Marc Carlson
 
 | Snapshot Date: 2013-03-24 17:01:43 -0700 (Sun, 24 Mar 2013) |  | URL: https://hedgehog.fhcrc.org/bioconductor/trunk/madman/Rpacks/UniProt.ws |  | Last Changed Rev: 74108 / Revision: 74774 |  | Last Changed Date: 2013-03-08 15:04:53 -0800 (Fri, 08 Mar 2013) | 
 | george2 | Linux (Ubuntu 12.04.1 LTS) / x86_64 | OK | OK |  | 
| moscato2 | Windows Server 2008 R2 Enterprise SP1 (64-bit) / x64 | [ OK ] | OK | OK | 
| petty | Mac OS X Leopard (10.5.8) / i386 | OK | OK | OK | 
* checking for file 'UniProt.ws/DESCRIPTION' ... OK
* preparing 'UniProt.ws':
* checking DESCRIPTION meta-information ... OK
* installing the package to re-build vignettes
* creating vignettes ... OK
* checking for LF line-endings in source and make files
* checking for empty or unneeded directories
* building 'UniProt.ws_1.99.15.tar.gz'