ensemblVEP 0.99.14 Valerie Obenchain
Snapshot Date: 2013-03-24 17:01:43 -0700 (Sun, 24 Mar 2013) | URL: https://hedgehog.fhcrc.org/bioconductor/trunk/madman/Rpacks/ensemblVEP | Last Changed Rev: 73832 / Revision: 74774 | Last Changed Date: 2013-02-28 12:40:12 -0800 (Thu, 28 Feb 2013) |
| george2 | Linux (Ubuntu 12.04.1 LTS) / x86_64 | OK | OK | |
moscato2 | Windows Server 2008 R2 Enterprise SP1 (64-bit) / x64 | OK | [ OK ] | OK |
petty | Mac OS X Leopard (10.5.8) / i386 | OK | OK | OK |
* using log directory 'E:/biocbld/bbs-2.12-bioc/meat/ensemblVEP.Rcheck'
* using R version 3.0.0 beta (2013-03-19 r62328)
* using platform: i386-w64-mingw32 (32-bit)
* using session charset: ISO8859-1
* using option '--no-vignettes'
* checking for file 'ensemblVEP/DESCRIPTION' ... OK
* this is package 'ensemblVEP' version '0.99.14'
* checking package namespace information ... OK
* checking package dependencies ... OK
* checking if this is a source package ... OK
* checking if there is a namespace ... OK
* checking for hidden files and directories ... OK
* checking for portable file names ... OK
* checking whether package 'ensemblVEP' can be installed ... OK
* checking installed package size ... OK
* checking package directory ... OK
* checking DESCRIPTION meta-information ... OK
* checking top-level files ... OK
* checking for left-over files ... OK
* checking index information ... OK
* checking package subdirectories ... OK
* checking R files for non-ASCII characters ... OK
* checking R files for syntax errors ... OK
* loading checks for arch 'i386'
** checking whether the package can be loaded ... OK
** checking whether the package can be loaded with stated dependencies ... OK
** checking whether the package can be unloaded cleanly ... OK
** checking whether the namespace can be loaded with stated dependencies ... OK
** checking whether the namespace can be unloaded cleanly ... OK
* loading checks for arch 'x64'
** checking whether the package can be loaded ... OK
** checking whether the package can be loaded with stated dependencies ... OK
** checking whether the package can be unloaded cleanly ... OK
** checking whether the namespace can be loaded with stated dependencies ... OK
** checking whether the namespace can be unloaded cleanly ... OK
* checking for unstated dependencies in R code ... OK
* checking S3 generic/method consistency ... OK
* checking replacement functions ... OK
* checking foreign function calls ... OK
* checking R code for possible problems ... NOTE
File 'ensemblVEP/R/zzz.R':
.onLoad calls:
packageStartupMessage(msg)
See section 'Good practice' in '?.onAttach'.
* checking Rd files ... OK
* checking Rd metadata ... OK
* checking Rd cross-references ... OK
* checking for missing documentation entries ... OK
* checking for code/documentation mismatches ... OK
* checking Rd \usage sections ... OK
* checking Rd contents ... OK
* checking for unstated dependencies in examples ... OK
* checking installed files from 'inst/doc' ... OK
* checking examples ...
** running examples for arch 'i386' ... [64s] OK
Examples with CPU or elapsed time > 5s
user system elapsed
ensemblVEP 1.53 0.03 36.41
parseCSQToGRanges 0.30 0.02 16.69
** running examples for arch 'x64' ... [62s] OK
Examples with CPU or elapsed time > 5s
user system elapsed
ensemblVEP 1.47 0.02 34.68
parseCSQToGRanges 0.34 0.00 16.72
* checking for unstated dependencies in tests ... OK
* checking tests ...
** running tests for arch 'i386'
Running 'runTests.R' [37s]
[38s] OK
** running tests for arch 'x64'
Running 'runTests.R' [39s]
[39s] OK
* checking for unstated dependencies in vignettes ... OK
* checking package vignettes in 'inst/doc' ... OK
* checking running R code from vignettes ... SKIPPED
* checking re-building of vignettes ... SKIPPED
* checking PDF version of manual ... OK
NOTE: There was 1 note.
See
'E:/biocbld/bbs-2.12-bioc/meat/ensemblVEP.Rcheck/00check.log'
for details.
install for i386
* installing *source* package 'ensemblVEP' ...
** R
** inst
** preparing package for lazy loading
** help
*** installing help indices
** building package indices
** installing vignettes
'ensemblVEP.Rnw'
** testing if installed package can be loaded
install for x64
* installing *source* package 'ensemblVEP' ...
** testing if installed package can be loaded
* MD5 sums
packaged installation of 'ensemblVEP' as ensemblVEP_0.99.14.zip
* DONE (ensemblVEP)