a4Classif 1.7.0 Tobias Verbeke , Willem Ligtenberg
Snapshot Date: 2013-03-24 17:01:43 -0700 (Sun, 24 Mar 2013) | URL: https://hedgehog.fhcrc.org/bioconductor/trunk/madman/Rpacks/a4Classif | Last Changed Rev: 73198 / Revision: 74774 | Last Changed Date: 2013-02-06 01:38:30 -0800 (Wed, 06 Feb 2013) |
| george2 | Linux (Ubuntu 12.04.1 LTS) / x86_64 | OK | OK | |
moscato2 | Windows Server 2008 R2 Enterprise SP1 (64-bit) / x64 | OK | [ OK ] | OK |
petty | Mac OS X Leopard (10.5.8) / i386 | OK | WARNINGS | OK |
* using log directory 'E:/biocbld/bbs-2.12-bioc/meat/a4Classif.Rcheck'
* using R version 3.0.0 beta (2013-03-19 r62328)
* using platform: i386-w64-mingw32 (32-bit)
* using session charset: ISO8859-1
* using option '--no-vignettes'
* checking for file 'a4Classif/DESCRIPTION' ... OK
* checking extension type ... Package
* this is package 'a4Classif' version '1.7.0'
* checking package namespace information ... OK
* checking package dependencies ... OK
* checking if this is a source package ... OK
* checking if there is a namespace ... OK
* checking for hidden files and directories ... OK
* checking for portable file names ... OK
* checking whether package 'a4Classif' can be installed ... OK
* checking installed package size ... OK
* checking package directory ... OK
* checking DESCRIPTION meta-information ... OK
* checking top-level files ... OK
* checking for left-over files ... OK
* checking index information ... OK
* checking package subdirectories ... OK
* checking R files for non-ASCII characters ... OK
* checking R files for syntax errors ... OK
* loading checks for arch 'i386'
** checking whether the package can be loaded ... OK
** checking whether the package can be loaded with stated dependencies ... OK
** checking whether the package can be unloaded cleanly ... OK
** checking whether the namespace can be loaded with stated dependencies ... OK
** checking whether the namespace can be unloaded cleanly ... OK
* loading checks for arch 'x64'
** checking whether the package can be loaded ... OK
** checking whether the package can be loaded with stated dependencies ... OK
** checking whether the package can be unloaded cleanly ... OK
** checking whether the namespace can be loaded with stated dependencies ... OK
** checking whether the namespace can be unloaded cleanly ... OK
* checking for unstated dependencies in R code ... OK
* checking S3 generic/method consistency ... OK
* checking replacement functions ... OK
* checking foreign function calls ... OK
* checking R code for possible problems ... OK
* checking Rd files ... OK
* checking Rd metadata ... OK
* checking Rd cross-references ... OK
* checking for missing documentation entries ... OK
* checking for code/documentation mismatches ... OK
* checking Rd \usage sections ... OK
* checking Rd contents ... OK
* checking for unstated dependencies in examples ... OK
* checking examples ...
** running examples for arch 'i386' ... [17s] OK
** running examples for arch 'x64' ... [21s] OK
Examples with CPU or elapsed time > 5s
user system elapsed
lassoClass 5.24 0.09 5.6
* checking PDF version of manual ... OK
install for i386
* installing *source* package 'a4Classif' ...
** R
** inst
** preparing package for lazy loading
'.path.package' is deprecated.
Use 'path.package' instead.
See help("Deprecated")
** help
*** installing help indices
** building package indices
** testing if installed package can be loaded
'.path.package' is deprecated.
Use 'path.package' instead.
See help("Deprecated")
install for x64
* installing *source* package 'a4Classif' ...
** testing if installed package can be loaded
'.path.package' is deprecated.
Use 'path.package' instead.
See help("Deprecated")
* MD5 sums
packaged installation of 'a4Classif' as a4Classif_1.7.0.zip
* DONE (a4Classif)