isobar 1.5.3 Florian P Breitwieser
Snapshot Date: 2013-03-24 17:01:43 -0700 (Sun, 24 Mar 2013) | URL: https://hedgehog.fhcrc.org/bioconductor/trunk/madman/Rpacks/isobar | Last Changed Rev: 74452 / Revision: 74774 | Last Changed Date: 2013-03-16 08:53:37 -0700 (Sat, 16 Mar 2013) |
| george2 | Linux (Ubuntu 12.04.1 LTS) / x86_64 | OK | WARNINGS | |
moscato2 | Windows Server 2008 R2 Enterprise SP1 (64-bit) / x64 | OK | OK | [ OK ] |
petty | Mac OS X Leopard (10.5.8) / i386 | OK | OK | OK |
install for i386
* installing *source* package 'isobar' ...
** R
** data
** inst
** preparing package for lazy loading
in method for 'coerce' with signature '"MSnSet","IBSpectra"': no definition for class "MSnSet"
in method for 'coerce' with signature '"IBSpectra","MSnSet"': no definition for class "MSnSet"
** help
*** installing help indices
** building package indices
** installing vignettes
'isobar-devel.Rnw'
'isobar-ptm.Rnw' using 'UTF-8'
'isobar.Rnw' using 'UTF-8'
** testing if installed package can be loaded
install for x64
* installing *source* package 'isobar' ...
** testing if installed package can be loaded
* MD5 sums
packaged installation of 'isobar' as isobar_1.5.3.zip
* DONE (isobar)