affycoretools 1.31.5 James W. MacDonald
Snapshot Date: 2013-03-24 17:01:43 -0700 (Sun, 24 Mar 2013) | URL: https://hedgehog.fhcrc.org/bioconductor/trunk/madman/Rpacks/affycoretools | Last Changed Rev: 74758 / Revision: 74774 | Last Changed Date: 2013-03-23 22:18:35 -0700 (Sat, 23 Mar 2013) |
| george2 | Linux (Ubuntu 12.04.1 LTS) / x86_64 | OK | OK | |
moscato2 | Windows Server 2008 R2 Enterprise SP1 (64-bit) / x64 | OK | OK | [ OK ] |
petty | Mac OS X Leopard (10.5.8) / i386 | OK | OK | OK |
install for i386
* installing *source* package 'affycoretools' ...
** R
** inst
** preparing package for lazy loading
No methods found in "GenomicRanges" for requests: summary
** help
*** installing help indices
** building package indices
** installing vignettes
'affycoretools.Rnw'
'affycoretools_biomaRt.Rnw'
** testing if installed package can be loaded
No methods found in "GenomicRanges" for requests: summary
install for x64
* installing *source* package 'affycoretools' ...
** testing if installed package can be loaded
No methods found in "GenomicRanges" for requests: summary
* MD5 sums
packaged installation of 'affycoretools' as affycoretools_1.31.5.zip
* DONE (affycoretools)