Back to the "Multiple platform build/check report" A  B  C  D  E  F  G  H  I  J  K  L  M  N  O [P] Q  R  S  T  U  V  W  X  Y  Z 

Package 497/658HostnameOS / ArchBUILDCHECKBUILD BIN
PWMEnrich 2.0.0
Robert Stojnic
Snapshot Date: 2013-03-24 17:01:43 -0700 (Sun, 24 Mar 2013)
URL: https://hedgehog.fhcrc.org/bioconductor/trunk/madman/Rpacks/PWMEnrich
Last Changed Rev: 74270 / Revision: 74774
Last Changed Date: 2013-03-13 04:35:31 -0700 (Wed, 13 Mar 2013)
george2 Linux (Ubuntu 12.04.1 LTS) / x86_64  OK  OK 
moscato2 Windows Server 2008 R2 Enterprise SP1 (64-bit) / x64  OK  OK [ OK ]
petty Mac OS X Leopard (10.5.8) / i386  OK  OK  OK 

Summary

Package: PWMEnrich
Version: 2.0.0
Command: rm -rf PWMEnrich.buildbin-libdir && mkdir PWMEnrich.buildbin-libdir && E:\biocbld\bbs-2.12-bioc\R\bin\R.exe CMD INSTALL --build --merge-multiarch --library=PWMEnrich.buildbin-libdir PWMEnrich_2.0.0.tar.gz
StartedAt: 2013-03-25 05:59:56 -0700 (Mon, 25 Mar 2013)
EndedAt: 2013-03-25 06:00:20 -0700 (Mon, 25 Mar 2013)
EllapsedTime: 24.6 seconds
RetCode: 0
Status:  OK  
PackageFile: PWMEnrich_2.0.0.zip
PackageFileSize: 755.7 KiB

Command output


install for i386

* installing *source* package 'PWMEnrich' ...
** R
** inst
** preparing package for lazy loading
** help
*** installing help indices
** building package indices
** installing vignettes
   'PWMEnrich.Rnw' 
** testing if installed package can be loaded

install for x64

* installing *source* package 'PWMEnrich' ...
** testing if installed package can be loaded
* MD5 sums
packaged installation of 'PWMEnrich' as PWMEnrich_2.0.0.zip
* DONE (PWMEnrich)