IdMappingRetrieval 1.5.0 Alex Lisovich , Roger Day
 | Snapshot Date: 2013-03-24 17:01:43 -0700 (Sun, 24 Mar 2013) |  | URL: https://hedgehog.fhcrc.org/bioconductor/trunk/madman/Rpacks/IdMappingRetrieval |  | Last Changed Rev: 70052 / Revision: 74774 |  | Last Changed Date: 2012-10-01 15:43:56 -0700 (Mon, 01 Oct 2012) |  
  | george2  | Linux (Ubuntu 12.04.1 LTS) / x86_64  |  OK  |  WARNINGS  |  | 
| moscato2  | Windows Server 2008 R2 Enterprise SP1 (64-bit) / x64  |  OK  |  WARNINGS  | [ OK ] | 
| petty  | Mac OS X Leopard (10.5.8) / i386  |  OK  |  WARNINGS  |  OK  | 
install for i386
* installing *source* package 'IdMappingRetrieval' ...
** R
** demo
** inst
** preparing package for lazy loading
This is  ENVISIONQuery   1.7.0   2011-07-17 
Warning in setGenericS3.default(name, export = exportGeneric, envir = envir,  :
  Renamed the preexisting function getServices to getServices.default, which was defined in environment ENVISIONQuery.
** help
*** installing help indices
** building package indices
** installing vignettes
   'IdMappingRetrieval.Rnw' using 'latin-9' 
** testing if installed package can be loaded
This is  ENVISIONQuery   1.7.0   2011-07-17 
install for x64
* installing *source* package 'IdMappingRetrieval' ...
** testing if installed package can be loaded
This is  ENVISIONQuery   1.7.0   2011-07-17 
* MD5 sums
packaged installation of 'IdMappingRetrieval' as IdMappingRetrieval_1.5.0.zip
* DONE (IdMappingRetrieval)