RPA 1.15.41 Leo Lahti
Snapshot Date: 2013-03-24 17:01:43 -0700 (Sun, 24 Mar 2013) | URL: https://hedgehog.fhcrc.org/bioconductor/trunk/madman/Rpacks/RPA | Last Changed Rev: 74376 / Revision: 74774 | Last Changed Date: 2013-03-15 04:48:16 -0700 (Fri, 15 Mar 2013) |
| george2 | Linux (Ubuntu 12.04.1 LTS) / x86_64 | OK | OK | |
moscato2 | Windows Server 2008 R2 Enterprise SP1 (64-bit) / x64 | OK | OK | [ OK ] |
petty | Mac OS X Leopard (10.5.8) / i386 | OK | OK | OK |
install for i386
* installing *source* package 'RPA' ...
** R
** inst
** preparing package for lazy loading
Package LibPath Item
[1,] "affydata" "E:/biocbld/bbs-2.12-bioc/R/library" "Dilution"
Title
[1,] "AffyBatch instance Dilution"
in method for 'show' with signature '"rpa"': no definition for class "rpa"
** help
*** installing help indices
** building package indices
** installing vignettes
'RPA.Rnw'
** testing if installed package can be loaded
Package LibPath Item
[1,] "affydata" "E:/biocbld/bbs-2.12-bioc/R/library" "Dilution"
Title
[1,] "AffyBatch instance Dilution"
install for x64
* installing *source* package 'RPA' ...
** testing if installed package can be loaded
Package LibPath Item
[1,] "affydata" "E:/biocbld/bbs-2.12-bioc/R/library" "Dilution"
Title
[1,] "AffyBatch instance Dilution"
* MD5 sums
packaged installation of 'RPA' as RPA_1.15.41.zip
* DONE (RPA)