ppiStats 1.25.0 Tony Chiang
 | Snapshot Date: 2013-03-24 17:01:43 -0700 (Sun, 24 Mar 2013) |  | URL: https://hedgehog.fhcrc.org/bioconductor/trunk/madman/Rpacks/ppiStats |  | Last Changed Rev: 70052 / Revision: 74774 |  | Last Changed Date: 2012-10-01 15:43:56 -0700 (Mon, 01 Oct 2012) |  
  | george2  | Linux (Ubuntu 12.04.1 LTS) / x86_64  |  OK  |  OK  |  | 
| moscato2  | Windows Server 2008 R2 Enterprise SP1 (64-bit) / x64  |  OK  |  OK  | [ OK ] | 
| petty  | Mac OS X Leopard (10.5.8) / i386  |  OK  |  OK  |  OK  | 
install for i386
* installing *source* package 'ppiStats' ...
** R
** inst
** preparing package for lazy loading
*** Deprecation warning ***:
The package 'ppiData' is deprecated and will not be supported after Bioconductor release 2.11
** help
*** installing help indices
** building package indices
** installing vignettes
   'ppiStats.Rnw' 
** testing if installed package can be loaded
*** Deprecation warning ***:
The package 'ppiData' is deprecated and will not be supported after Bioconductor release 2.11
install for x64
* installing *source* package 'ppiStats' ...
** testing if installed package can be loaded
*** Deprecation warning ***:
The package 'ppiData' is deprecated and will not be supported after Bioconductor release 2.11
* MD5 sums
packaged installation of 'ppiStats' as ppiStats_1.25.0.zip
* DONE (ppiStats)