ggbio 1.7.14 Tengfei Yin
Snapshot Date: 2013-03-24 17:01:43 -0700 (Sun, 24 Mar 2013) | URL: https://hedgehog.fhcrc.org/bioconductor/trunk/madman/Rpacks/ggbio | Last Changed Rev: 74576 / Revision: 74774 | Last Changed Date: 2013-03-19 13:40:33 -0700 (Tue, 19 Mar 2013) |
| george2 | Linux (Ubuntu 12.04.1 LTS) / x86_64 | OK | WARNINGS | |
moscato2 | Windows Server 2008 R2 Enterprise SP1 (64-bit) / x64 | OK | WARNINGS | [ OK ] |
petty | Mac OS X Leopard (10.5.8) / i386 | OK | WARNINGS | OK |
install for i386
* installing *source* package 'ggbio' ...
** R
** inst
** preparing package for lazy loading
No methods found in "GenomicRanges" for requests: summary
Creating a new generic function for 'rescale' in package 'ggbio'
Creating a generic function for 'summary' from package 'base' in package 'ggbio'
Creating a generic function for 'print' from package 'base' in package 'ggbio'
Creating a new generic function for 'xlim' in package 'ggbio'
Creating a generic function for 'update' from package 'stats' in package 'ggbio'
Creating a new generic function for 'geom_rect' in package 'ggbio'
Creating a new generic function for 'geom_segment' in package 'ggbio'
Creating a new generic function for 'geom_bar' in package 'ggbio'
Creating a new generic function for 'stat_identity' in package 'ggbio'
Creating a new generic function for 'stat_bin' in package 'ggbio'
** help
*** installing help indices
** building package indices
** installing vignettes
'ggbio.Rnw'
** testing if installed package can be loaded
No methods found in "GenomicRanges" for requests: summary
install for x64
* installing *source* package 'ggbio' ...
** testing if installed package can be loaded
No methods found in "GenomicRanges" for requests: summary
* MD5 sums
packaged installation of 'ggbio' as ggbio_1.7.14.zip
* DONE (ggbio)