| gaggle 1.27.1 Christopher Bare
 
 | Snapshot Date: 2013-03-24 17:01:43 -0700 (Sun, 24 Mar 2013) |  | URL: https://hedgehog.fhcrc.org/bioconductor/trunk/madman/Rpacks/gaggle |  | Last Changed Rev: 70685 / Revision: 74774 |  | Last Changed Date: 2012-10-19 10:50:22 -0700 (Fri, 19 Oct 2012) | 
 | george2 | Linux (Ubuntu 12.04.1 LTS) / x86_64 | OK | OK |  | 
| moscato2 | Windows Server 2008 R2 Enterprise SP1 (64-bit) / x64 | OK | OK | [ OK ] | 
| petty | Mac OS X Leopard (10.5.8) / i386 | OK | OK | OK | 
install for i386
* installing *source* package 'gaggle' ...
** R
** inst
** preparing package for lazy loading
** help
*** installing help indices
** building package indices
** installing vignettes
   'gaggle.Rnw' 
** testing if installed package can be loaded
onLoad -- libname: E:/biocbld/bbs-2.12-bioc/meat/gaggle.buildbin-libdir pkgname: gaggle 
path to jar: E:/biocbld/bbs-2.12-bioc/meat/gaggle.buildbin-libdir/gaggle/jars/gaggleRShell.jar 
      script:  gaggle.R $Revision: 4499 $   $Date: 2010-08-10 17:15:03 -0700 (Tue, 10 Aug 2010) $ 
  os version:  Windows Server 2008 R2 
 jvm version:  1.7.0_13 
install for x64
* installing *source* package 'gaggle' ...
** testing if installed package can be loaded
onLoad -- libname: E:/biocbld/bbs-2.12-bioc/meat/gaggle.buildbin-libdir pkgname: gaggle 
path to jar: E:/biocbld/bbs-2.12-bioc/meat/gaggle.buildbin-libdir/gaggle/jars/gaggleRShell.jar 
      script:  gaggle.R $Revision: 4499 $   $Date: 2010-08-10 17:15:03 -0700 (Tue, 10 Aug 2010) $ 
  os version:  Windows Server 2008 R2 
 jvm version:  1.7.0_09 
* MD5 sums
packaged installation of 'gaggle' as gaggle_1.27.1.zip
* DONE (gaggle)