Starr 1.15.2 Benedikt Zacher
 | Snapshot Date: 2013-03-24 17:01:43 -0700 (Sun, 24 Mar 2013) |  | URL: https://hedgehog.fhcrc.org/bioconductor/trunk/madman/Rpacks/Starr |  | Last Changed Rev: 73963 / Revision: 74774 |  | Last Changed Date: 2013-03-06 01:59:25 -0800 (Wed, 06 Mar 2013) |  
  | george2  | Linux (Ubuntu 12.04.1 LTS) / x86_64  |  OK  |  OK  |  | 
| moscato2  | Windows Server 2008 R2 Enterprise SP1 (64-bit) / x64  |  OK  |  OK  | [ OK ] | 
| petty  | Mac OS X Leopard (10.5.8) / i386  |  OK  |  OK  |  OK  | 
install for i386
* installing *source* package 'Starr' ...
   **********************************************
   WARNING: this package has a configure script
         It probably needs manual configuration
   **********************************************
** libs
gcc -m32 -I"E:/biocbld/bbs-2.12-bioc/R/library/zlibbioc/include" -I"E:/biocbld/BBS-2˜1.12-/R/include" -DNDEBUG     -I"d:/RCompile/CRANpkg/extralibs64/local/include"     -O3 -Wall  -std=gnu99 -mtune=core2 -c ahocorasick.c -o ahocorasick.o
gcc -m32 -I"E:/biocbld/bbs-2.12-bioc/R/library/zlibbioc/include" -I"E:/biocbld/BBS-2˜1.12-/R/include" -DNDEBUG     -I"d:/RCompile/CRANpkg/extralibs64/local/include"     -O3 -Wall  -std=gnu99 -mtune=core2 -c collect.c -o collect.o
gcc -m32 -I"E:/biocbld/bbs-2.12-bioc/R/library/zlibbioc/include" -I"E:/biocbld/BBS-2˜1.12-/R/include" -DNDEBUG     -I"d:/RCompile/CRANpkg/extralibs64/local/include"     -O3 -Wall  -std=gnu99 -mtune=core2 -c rm_small_peak.c -o rm_small_peak.o
gcc -m32 -I"E:/biocbld/bbs-2.12-bioc/R/library/zlibbioc/include" -I"E:/biocbld/BBS-2˜1.12-/R/include" -DNDEBUG     -I"d:/RCompile/CRANpkg/extralibs64/local/include"     -O3 -Wall  -std=gnu99 -mtune=core2 -c sort_by_genomic.c -o sort_by_genomic.o
gcc -m32 -shared -s -static-libgcc -o Starr.dll tmp.def ahocorasick.o collect.o rm_small_peak.o sort_by_genomic.o -LE:/biocbld/bbs-2.12-bioc/R/library/zlibbioc/libs/i386 -lzlib1bioc -Ld:/RCompile/CRANpkg/extralibs64/local/lib/i386 -Ld:/RCompile/CRANpkg/extralibs64/local/lib -LE:/biocbld/BBS-2˜1.12-/R/bin/i386 -lR
installing to E:/biocbld/bbs-2.12-bioc/meat/Starr.buildbin-libdir/Starr/libs/i386
** R
** inst
** preparing package for lazy loading
** help
*** installing help indices
** building package indices
** installing vignettes
   'Starr.Rnw' 
** testing if installed package can be loaded
install for x64
* installing *source* package 'Starr' ...
   **********************************************
   WARNING: this package has a configure script
         It probably needs manual configuration
   **********************************************
** libs
gcc -m64 -I"E:/biocbld/bbs-2.12-bioc/R/library/zlibbioc/include" -I"E:/biocbld/BBS-2˜1.12-/R/include" -DNDEBUG     -I"d:/RCompile/CRANpkg/extralibs64/local/include"     -O2 -Wall  -std=gnu99 -mtune=core2 -c ahocorasick.c -o ahocorasick.o
gcc -m64 -I"E:/biocbld/bbs-2.12-bioc/R/library/zlibbioc/include" -I"E:/biocbld/BBS-2˜1.12-/R/include" -DNDEBUG     -I"d:/RCompile/CRANpkg/extralibs64/local/include"     -O2 -Wall  -std=gnu99 -mtune=core2 -c collect.c -o collect.o
gcc -m64 -I"E:/biocbld/bbs-2.12-bioc/R/library/zlibbioc/include" -I"E:/biocbld/BBS-2˜1.12-/R/include" -DNDEBUG     -I"d:/RCompile/CRANpkg/extralibs64/local/include"     -O2 -Wall  -std=gnu99 -mtune=core2 -c rm_small_peak.c -o rm_small_peak.o
gcc -m64 -I"E:/biocbld/bbs-2.12-bioc/R/library/zlibbioc/include" -I"E:/biocbld/BBS-2˜1.12-/R/include" -DNDEBUG     -I"d:/RCompile/CRANpkg/extralibs64/local/include"     -O2 -Wall  -std=gnu99 -mtune=core2 -c sort_by_genomic.c -o sort_by_genomic.o
gcc -m64 -shared -s -static-libgcc -o Starr.dll tmp.def ahocorasick.o collect.o rm_small_peak.o sort_by_genomic.o -LE:/biocbld/bbs-2.12-bioc/R/library/zlibbioc/libs/x64 -lzlib1bioc -Ld:/RCompile/CRANpkg/extralibs64/local/lib/x64 -Ld:/RCompile/CRANpkg/extralibs64/local/lib -LE:/biocbld/BBS-2˜1.12-/R/bin/x64 -lR
installing to E:/biocbld/bbs-2.12-bioc/meat/Starr.buildbin-libdir/Starr/libs/x64
** testing if installed package can be loaded
* MD5 sums
packaged installation of 'Starr' as Starr_1.15.2.zip
* DONE (Starr)