epigenomix 0.99.0 Hans-Ulrich Klein
Snapshot Date: 2013-03-24 17:01:43 -0700 (Sun, 24 Mar 2013) | URL: https://hedgehog.fhcrc.org/bioconductor/trunk/madman/Rpacks/epigenomix | Last Changed Rev: 74535 / Revision: 74774 | Last Changed Date: 2013-03-18 16:40:59 -0700 (Mon, 18 Mar 2013) |
| george2 | Linux (Ubuntu 12.04.1 LTS) / x86_64 | OK | OK | |
moscato2 | Windows Server 2008 R2 Enterprise SP1 (64-bit) / x64 | OK | [ OK ] | OK |
petty | Mac OS X Leopard (10.5.8) / i386 | OK | OK | OK |
* using log directory 'E:/biocbld/bbs-2.12-bioc/meat/epigenomix.Rcheck'
* using R version 3.0.0 beta (2013-03-19 r62328)
* using platform: i386-w64-mingw32 (32-bit)
* using session charset: ISO8859-1
* using option '--no-vignettes'
* checking for file 'epigenomix/DESCRIPTION' ... OK
* checking extension type ... Package
* this is package 'epigenomix' version '0.99.0'
* checking package namespace information ... OK
* checking package dependencies ... OK
* checking if this is a source package ... OK
* checking if there is a namespace ... OK
* checking for hidden files and directories ... OK
* checking for portable file names ... OK
* checking whether package 'epigenomix' can be installed ... OK
* checking installed package size ... OK
* checking package directory ... OK
* checking DESCRIPTION meta-information ... OK
* checking top-level files ... OK
* checking for left-over files ... OK
* checking index information ... OK
* checking package subdirectories ... OK
* checking R files for non-ASCII characters ... OK
* checking R files for syntax errors ... OK
* loading checks for arch 'i386'
** checking whether the package can be loaded ... OK
** checking whether the package can be loaded with stated dependencies ... OK
** checking whether the package can be unloaded cleanly ... OK
** checking whether the namespace can be loaded with stated dependencies ... OK
** checking whether the namespace can be unloaded cleanly ... OK
* loading checks for arch 'x64'
** checking whether the package can be loaded ... OK
** checking whether the package can be loaded with stated dependencies ... OK
** checking whether the package can be unloaded cleanly ... OK
** checking whether the namespace can be loaded with stated dependencies ... OK
** checking whether the namespace can be unloaded cleanly ... OK
* checking for unstated dependencies in R code ... OK
* checking S3 generic/method consistency ... OK
* checking replacement functions ... OK
* checking foreign function calls ... OK
* checking R code for possible problems ... OK
* checking Rd files ... OK
* checking Rd metadata ... OK
* checking Rd cross-references ... OK
* checking for missing documentation entries ... OK
* checking for code/documentation mismatches ... OK
* checking Rd \usage sections ... OK
* checking Rd contents ... OK
* checking for unstated dependencies in examples ... OK
* checking contents of 'data' directory ... OK
* checking data for non-ASCII characters ... OK
* checking data for ASCII and uncompressed saves ... OK
* checking installed files from 'inst/doc' ... OK
* checking examples ...
** running examples for arch 'i386' ... [99s] OK
Examples with CPU or elapsed time > 5s
user system elapsed
plotChains 40.72 0.02 40.73
bayesMixModel 32.67 0.04 32.69
mlMixModel 18.52 0.01 18.55
** running examples for arch 'x64' ... [105s] OK
Examples with CPU or elapsed time > 5s
user system elapsed
plotChains 44.85 0.00 44.85
bayesMixModel 33.27 0.00 33.29
mlMixModel 19.44 0.02 19.47
* checking for unstated dependencies in vignettes ... OK
* checking package vignettes in 'inst/doc' ... OK
* checking running R code from vignettes ... SKIPPED
* checking re-building of vignettes ... SKIPPED
* checking PDF version of manual ... OK
install for i386
* installing *source* package 'epigenomix' ...
** R
** data
** inst
** preparing package for lazy loading
** help
*** installing help indices
** building package indices
** installing vignettes
'epigenomix.Rnw'
** testing if installed package can be loaded
install for x64
* installing *source* package 'epigenomix' ...
** testing if installed package can be loaded
* MD5 sums
packaged installation of 'epigenomix' as epigenomix_0.99.0.zip
* DONE (epigenomix)