GeneMeta 1.31.1 Bioconductor Package Maintainer
 | Snapshot Date: 2013-03-24 17:01:43 -0700 (Sun, 24 Mar 2013) |  | URL: https://hedgehog.fhcrc.org/bioconductor/trunk/madman/Rpacks/GeneMeta |  | Last Changed Rev: 70318 / Revision: 74774 |  | Last Changed Date: 2012-10-08 17:18:00 -0700 (Mon, 08 Oct 2012) |  
  | george2  | Linux (Ubuntu 12.04.1 LTS) / x86_64  |  OK  |  OK  |  | 
| moscato2  | Windows Server 2008 R2 Enterprise SP1 (64-bit) / x64  |  OK  |  OK  | [ OK ] | 
| petty  | Mac OS X Leopard (10.5.8) / i386  |  OK  |  OK  |  OK  | 
install for i386
* installing *source* package 'GeneMeta' ...
** R
** data
** inst
** preparing package for lazy loading
** help
*** installing help indices
** building package indices
** installing vignettes
   'GeneMeta.Rnw' 
** testing if installed package can be loaded
install for x64
* installing *source* package 'GeneMeta' ...
** testing if installed package can be loaded
* MD5 sums
packaged installation of 'GeneMeta' as GeneMeta_1.31.1.zip
* DONE (GeneMeta)