SCAN.UPC 1.99.4 Stephen R. Piccolo
Snapshot Date: 2013-03-24 17:01:43 -0700 (Sun, 24 Mar 2013) | URL: https://hedgehog.fhcrc.org/bioconductor/trunk/madman/Rpacks/SCAN.UPC | Last Changed Rev: 73976 / Revision: 74774 | Last Changed Date: 2013-03-06 10:43:31 -0800 (Wed, 06 Mar 2013) |
| george2 | Linux (Ubuntu 12.04.1 LTS) / x86_64 | OK | OK | |
moscato2 | Windows Server 2008 R2 Enterprise SP1 (64-bit) / x64 | OK | OK | [ OK ] |
petty | Mac OS X Leopard (10.5.8) / i386 | OK | OK | OK |
install for i386
* installing *source* package 'SCAN.UPC' ...
** R
** inst
** preparing package for lazy loading
Warning: replacing previous import 'show' when loading 'oligo'
** help
*** installing help indices
** building package indices
** installing vignettes
'SCAN.vignette.Rnw' using 'UTF-8'
** testing if installed package can be loaded
Warning: replacing previous import 'show' when loading 'oligo'
install for x64
* installing *source* package 'SCAN.UPC' ...
** testing if installed package can be loaded
Warning: replacing previous import 'show' when loading 'oligo'
* MD5 sums
packaged installation of 'SCAN.UPC' as SCAN.UPC_1.99.4.zip
* DONE (SCAN.UPC)