a4Base 1.7.1 Tobias Verbeke , Willem Ligtenberg
Snapshot Date: 2013-03-24 17:01:43 -0700 (Sun, 24 Mar 2013) | URL: https://hedgehog.fhcrc.org/bioconductor/trunk/madman/Rpacks/a4Base | Last Changed Rev: 74147 / Revision: 74774 | Last Changed Date: 2013-03-11 03:17:59 -0700 (Mon, 11 Mar 2013) |
| george2 | Linux (Ubuntu 12.04.1 LTS) / x86_64 | OK | WARNINGS | |
moscato2 | Windows Server 2008 R2 Enterprise SP1 (64-bit) / x64 | OK | WARNINGS | [ OK ] |
petty | Mac OS X Leopard (10.5.8) / i386 | OK | WARNINGS | OK |
install for i386
* installing *source* package 'a4Base' ...
** R
** data
** inst
** preparing package for lazy loading
'.path.package' is deprecated.
Use 'path.package' instead.
See help("Deprecated")
** help
*** installing help indices
** building package indices
** testing if installed package can be loaded
'.path.package' is deprecated.
Use 'path.package' instead.
See help("Deprecated")
install for x64
* installing *source* package 'a4Base' ...
** testing if installed package can be loaded
'.path.package' is deprecated.
Use 'path.package' instead.
See help("Deprecated")
* MD5 sums
packaged installation of 'a4Base' as a4Base_1.7.1.zip
* DONE (a4Base)