| Clonality 1.7.0 Irina Ostrovnaya
 
 | Snapshot Date: 2013-03-24 17:01:43 -0700 (Sun, 24 Mar 2013) |  | URL: https://hedgehog.fhcrc.org/bioconductor/trunk/madman/Rpacks/Clonality |  | Last Changed Rev: 73423 / Revision: 74774 |  | Last Changed Date: 2013-02-12 11:43:13 -0800 (Tue, 12 Feb 2013) | 
 | george2 | Linux (Ubuntu 12.04.1 LTS) / x86_64 | OK | OK |  | 
| moscato2 | Windows Server 2008 R2 Enterprise SP1 (64-bit) / x64 | OK | OK | [ OK ] | 
| petty | Mac OS X Leopard (10.5.8) / i386 | OK | WARNINGS | OK | 
install for i386
* installing *source* package 'Clonality' ...
** R
** inst
** preparing package for lazy loading
** help
*** installing help indices
** building package indices
** installing vignettes
   'Clonality.Rnw' 
** testing if installed package can be loaded
install for x64
* installing *source* package 'Clonality' ...
** testing if installed package can be loaded
* MD5 sums
packaged installation of 'Clonality' as Clonality_1.7.0.zip
* DONE (Clonality)