| GLYPH TABLE - These are the glyphs used in this report to indicate the following package status: |
| - TIMEOUT |
BUILD, CHECK or BUILD BIN of package took more than 40 minutes |
| - ERROR |
BUILD, CHECK or BUILD BIN of package returned an error |
| - WARNINGS |
CHECK of package produced warnings |
| - OK |
BUILD, CHECK or BUILD BIN of package was OK |
| - skipped |
CHECK or BUILD BIN of package was skipped because the BUILD step failed (or because something bad happened with the Build System itself) |
| Click on any glyph in the report below to see the status details (command output). |
| lamb1 |
Linux (SUSE 10.1) | x86_64 | | | |
| [wellington] |
Linux (SUSE 9.2) | i686 | | | |
| lemming |
Windows Server 2003 (32-bit) | x64 | | | |
|
| ABarray 1.4.2 | Yongming Andrew Sun | OK | OK | |
| aCGH 1.10.0 | Jane Fridlyand | OK | OK | |
| ACME 1.2.1 | Sean Davis | OK | OK | |
| adSplit 1.6.0 | Claudio Lottaz | OK | OK | |
| affxparser 1.8.3 | Kasper Daniel Hansen | OK | OK | |
| affy 1.14.2 | Rafael A. Irizarry | OK | OK | |
| affycomp 1.12.0 | Rafael A. Irizarry | OK | OK | |
| affycoretools 1.8.1 | James W. MacDonald | OK | OK | |
| affyio 1.4.1 | Benjamin Milo Bolstad | OK | OK | |
| affylmGUI 1.10.4 | Keith Satterley | OK | OK | |
| affypdnn 1.10.0 | Laurent Gautier | OK | OK | |
| affyPLM 1.12.0 | Ben Bolstad | OK | OK | |
| affyQCReport 1.14.0 | Craig Parman | OK | OK | |
| altcdfenvs 1.10.0 | Laurent Gautier | OK | OK | |
| annaffy 1.8.1 | Colin A. Smith | OK | OK | |
| AnnBuilder 1.14.0 | J. Zhang | OK | OK | |
| annotate 1.14.1 | Biocore Team | OK | OK | |
| annotationTools 1.4.0 | Alexandre Kuhn | OK | OK | |
| apComplex 2.2.0 | Denise Scholtens | OK | OK | |
| aroma.light 1.4.0 | Henrik Bengtsson | OK | OK | |
| arrayMagic 1.14.0 | Andreas Buness | OK | OK | |
| arrayQCplot 2.4.0 | Eun-kyung Lee | OK | ERROR | |
| arrayQuality 1.12.0 | Agnes Paquet | OK | OK | |
| beadarray 1.4.0 | Mark Dunning | OK | OK | |
| beadarraySNP 1.2.0 | Jan Oosting | OK | OK | |
| BeadExplorer 1.2.0 | Gareth Elvidge | OK | OK | |
| bgx 1.0.21 | Ernest Turro | OK | OK | |
| bim 1.8.2 | Brian S. Yandell | ERROR | skipped | |
| Biobase 1.14.1 | Biocore Team | OK | OK | |
| biocViews 1.4.0 | Seth Falcon | OK | OK | |
| bioDist 1.8.0 | Biocore Team | OK | OK | |
| biomaRt 1.10.1 | Steffen Durinck | OK | WARNINGS | |
| BioMVCClass 1.4.0 | Elizabeth Whalen | OK | OK | |
| Biostrings 2.4.8 | H. Pages | OK | OK | |
| bridge 1.8.0 | Raphael Gottardo | OK | OK | |
| BSgenome 1.4.1 | H. Pages | OK | OK | |
| BufferedMatrix 1.0.1 | Benjamin Milo Bolstad | OK | OK | |
| BufferedMatrixMethods 1.0.0 | B. M. Bolstad | skipped | skipped | |
| CALIB 1.2.0 | Hui Zhao | OK | OK | |
| Category 2.2.3 | S. Falcon | OK | OK | |
| cellHTS 1.6.0 | Ligia Bras | OK | OK | |
| cghMCR 1.6.0 | J. Zhang | OK | OK | |
| ChromoViz 1.8.0 | Jihoon Kim | OK | WARNINGS | |
| clusterStab 1.8.0 | James W. MacDonald | OK | OK | |
| CoCiteStats 1.8.0 | R. Gentleman | OK | OK | |
| codelink 1.4.0 | Diego Diez | OK | OK | |
| convert 1.10.0 | Yee Hwa (Jean) Yang | OK | OK | |
| copa 1.4.0 | James W. MacDonald | OK | OK | |
| CORREP 1.2.0 | Dongxiao Zhu | OK | OK | |
| cosmo 1.2.0 | Oliver Bembom | OK | OK | |
| cosmoGUI 1.2.0 | Oliver Bembom | OK | OK | |
| ctc 1.10.0 | Antoine Lucas | OK | OK | |
| daMA 1.8.0 | Jobst Landgrebe | OK | OK | |
| DEDS 1.8.0 | Yuanyuan Xiao | OK | OK | |
| diffGeneAnalysis 1.18.0 | Choudary Jagarlamudi | OK | OK | |
| DNAcopy 1.10.0 | E. S. Venkatraman | OK | OK | |
| DynDoc 1.14.0 | Biocore Team | OK | OK | |
| EBarrays 1.8.1 | Deepayan Sarkar | OK | OK | |
| EBImage 2.0.1 | Oleg Sklyar | ERROR | skipped | |
| ecolitk 1.8.0 | Laurent | ERROR | skipped | |
| edd 1.14.0 | Vince Carey | OK | OK | |
| exonmap 1.0.07 | Michal Okoniewski | OK | ERROR | |
| factDesign 1.10.0 | Denise Scholtens | OK | OK | |
| fbat 1.0.0 | Weiliang Qiu | OK | OK | |
| fdrame 1.8.0 | Effi Kenigsberg | OK | OK | |
| flowCore 1.0.2 | Nolwenn Le Meur | OK | OK | |
| flowViz 1.0.0 | Florian Hahne | OK | ERROR | |
| gaggle 1.4.0 | Paul Shannon | OK | OK | |
| gcrma 2.8.1 | Z. Wu | OK | OK | |
| genArise 1.12.0 | IFC Development Team | OK | OK | |
| genefilter 1.14.1 | Biocore Team | OK | OK | |
| GeneMeta 1.8.0 | Biocore Team | OK | OK | |
| geneplotter 1.14.0 | Biocore Team | OK | OK | |
| GeneR 2.6.0 | Y. d'Aubenton-Carafa | OK | OK | |
| geneRecommender 1.8.0 | Greg Hather | OK | OK | |
| GeneSpring 2.10.0 | Thon de Boer | OK | OK | |
| GeneticsBase 1.0.0 | Gregory Warnes | ERROR | skipped | |
| GeneticsDesign 1.0.0 | Weiliang Qiu | OK | OK | |
| GeneticsPed 1.0.0 | Gregor Gorjanc | OK | OK | |
| GeneTraffic 1.8.0 | Daniel Iordan | OK | OK | |
| GeneTS 2.14.0 | Korbinian Strimmer | OK | OK | |
| GEOquery 2.0.6 | Sean Davis | OK | OK | |
| GGtools 1.4.0 | Vince Carey | OK | OK | |
| GLAD 1.10.0 | Philippe Hupe | OK | OK | |
| GlobalAncova 3.2.0 | R. Meister | OK | OK | |
| globaltest 4.6.0 | Jelle Goeman | OK | OK | |
| GOstats 2.2.6 | S. Falcon | OK | OK | |
| goTools 1.8.0 | Agnes Paquet | OK | OK | |
| gpls 1.8.0 | Biocore Team | OK | OK | |
| graph 1.14.2 | Seth Falcon | OK | WARNINGS | |
| GraphAT 1.8.0 | Thomas LaFramboise | OK | OK | |
| Harshlight 1.4.0 | Maurizio Pellegrino | OK | WARNINGS | |
| Heatplus 1.6.0 | Alexander Ploner | OK | OK | |
| HEM 1.8.0 | HyungJun Cho | OK | OK | |
| hexbin 1.10.0 | Nicholas Lewin-Koh | OK | OK | |
| hopach 1.10.0 | Katherine S. Pollard | OK | OK | |
| hypergraph 1.8.0 | Seth Falcon | OK | OK | |
| Icens 1.8.0 | Biocore Team | OK | OK | |
| idiogram 1.10.0 | Karl J. Dykema | OK | OK | |
| impute 1.8.0 | Balasubramanian Narasimhan | OK | OK | |
| iSNetwork 1.6.0 | Elizabeth Whalen | OK | OK | |
| iSPlot 1.10.0 | Elizabeth Whalen | OK | OK | |
| KEGGSOAP 1.10.0 | J. Zhang | OK | OK | |
| lapmix 1.2.0 | Yann Ruffieux | OK | OK | |
| LBE 1.4.0 | Cyril Dalmasso | OK | OK | |
| limma 2.10.5 | Gordon Smyth | OK | OK | |
| limmaGUI 1.12.0 | Keith Satterley | OK | OK | |
| LMGene 1.6.0 | John Tillinghast | OK | WARNINGS | |
| logicFS 1.6.0 | Holger Schwender | OK | OK | |
| LPE 1.10.0 | Nitin Jain | OK | OK | |
| lumi 1.2.0 | Pan Du | OK | OK | |
| maanova 1.6.0 | Lei Wu | OK | WARNINGS | |
| macat 1.10.0 | Joern Toedling | OK | OK | |
| maCorrPlot 1.6.0 | Alexander Ploner | OK | OK | |
| maDB 1.8.1 | Johannes Rainer | OK | OK | |
| made4 1.10.1 | Aedin Culhane | OK | OK | |
| makecdfenv 1.14.0 | James W. MacDonald | OK | OK | |
| makePlatformDesign 1.0.0 | Benilton Carvalho | OK | OK | |
| MANOR 1.8.0 | Pierre Neuvial | OK | OK | |
| MantelCorr 1.6.0 | Brian Steinmeyer | OK | OK | |
| marray 1.14.0 | Yee Hwa (Jean) Yang | OK | OK | |
| maSigPro 1.9.2 | Ana Conesa | OK | OK | |
| MassSpecWavelet 1.2.0 | Pan Du | OK | OK | |
| matchprobes 1.8.1 | Biocore Team | OK | OK | |
| MeasurementError.cor 1.8.0 | Beiying Ding | OK | OK | |
| MergeMaid 2.8.0 | Xiaogang Zhong | OK | OK | |
| metaArray 1.10.0 | Hyungwon Choi | OK | OK | |
| Mfuzz 1.6.0 | Matthias Futschik | OK | OK | |
| MiPP 1.8.0 | Sukwoo Kim | OK | OK | |
| MLInterfaces 1.10.3 | V. Carey | OK | OK | |
| multtest 1.14.0 | Katherine S. Pollard | OK | OK | |
| MVCClass 1.10.0 | Elizabeth Whalen | OK | OK | |
| nem 1.6.0 | Florian Markowetz | OK | OK | |
| nnNorm 2.0.0 | Adi Laurentiu Tarca | OK | OK | |
| OCplus 1.10.0 | Alexander Ploner | OK | OK | |
| oligo 1.0.2-6 | Benilton Carvalho | ERROR | skipped | |
| OLIN 1.12.0 | Matthias Futschik | OK | OK | |
| OLINgui 1.10.0 | Matthias Futschik | OK | OK | |
| oneChannelGUI 1.2.20 | Raffaele A Calogero | OK | WARNINGS | |
| ontoTools 1.12.1 | Vince Carey | OK | OK | |
| OrderedList 1.8.0 | Claudio Lottaz | OK | OK | |
| pamr 1.34.0 | Rob Tibshirani | OK | OK | |
| panp 1.7.1 | Peter Warren | OK | OK | |
| pathRender 1.4.0 | Li Long | OK | OK | |
| pcaMethods 1.12.0 | Wolfram Stacklies | OK | OK | |
| pcot2 1.4.0 | Sarah Song | OK | OK | |
| pdInfoBuilder 1.0.0 | Seth Falcon | OK | OK | |
| pdmclass 1.8.0 | James W. MacDonald | OK | OK | |
| PGSEA 1.2.0 | Karl Dykema | OK | OK | |
| pgUtils 1.8.0 | Johannes Rainer | OK | OK | |
| pickgene 1.8.0 | Brian S. Yandell | OK | OK | |
| pkgDepTools 1.2.1 | Seth Falcon | OK | OK | |
| plgem 1.8.0 | Mattia Pelizzola | OK | OK | |
| plier 1.6.0 | Crispin Miller | OK | OK | |
| ppiStats 1.2.0 | Tony Chiang | ERROR | skipped | |
| prada 1.12.0 | Florian Hahne | OK | OK | |
| PROcess 1.12.0 | Xiaochun Li | OK | OK | |
| puma 1.2.3 | Richard Pearson | OK | OK | |
| quantsmooth 1.2.0 | Jan Oosting | OK | OK | |
| qvalue 1.10.0 | John D. Storey | OK | OK | |
| rama 1.8.0 | Raphael Gottardo | OK | OK | |
| RankProd 2.8.0 | Fangxin Hong | OK | OK | |
| RbcBook1 1.4.0 | Vince Carey | OK | OK | |
| RBGL 1.12.0 | Li Long | OK | OK | |
| rbsurv 1.2.0 | Sukwoo Kim | OK | OK | |
| Rdbi 1.10.0 | Jianhua Zhang | OK | OK | |
| RdbiPgSQL 1.10.0 | Jianhua Zhang | OK | OK | |
| reb 1.10.1 | Karl J. Dykema | OK | WARNINGS | |
| RefPlus 1.4.0 | Kai-Ming Chang | OK | OK | |
| Resourcerer 1.10.0 | Jianhua Zhang | OK | OK | |
| rflowcyt 1.8.0 | N. LeMeur | OK | WARNINGS | |
| Rgraphviz 1.14.1 | Li Long | OK | OK | |
| rHVDM 1.2.0 | Martino Barenco | OK | OK | |
| Ringo 1.0.0 | J. Toedling | OK | OK | |
| RMAGEML 2.10.0 | Steffen Durinck | OK | OK | |
| RMAPPER 1.6.0 | VJ Carey | OK | OK | |
| ROC 1.10.0 | Vince Carey | OK | OK | |
| Rredland 1.4.0 | VJ Carey | OK | ERROR | |
| RSNPper 1.10.0 | VJ Carey | ERROR | skipped | |
| Ruuid 1.14.0 | Biocore Team | OK | WARNINGS | |
| RWebServices 1.0.0 | Biocore Team | OK | OK | |
| safe 1.8.0 | William T. Barry | OK | OK | |
| SAGElyzer 1.14.0 | Jianhua Zhang | OK | WARNINGS | |
| SAGx 1.10.1 | Per Broberg | OK | OK | |
| SBMLR 1.30.0 | Tomas Radivoyevitch | OK | OK | |
| ScISI 1.8.0 | Tony Chiang | OK | WARNINGS | |
| SemSim 1.2.0 | Xiang Guo | OK | OK | |
| seqLogo 1.2.0 | Oliver Bembom | OK | OK | |
| siggenes 1.10.1 | Holger Schwender | OK | OK | |
| sigPathway 1.4.0 | Weil Lai | OK | OK | |
| simpleaffy 2.10.31 | Crispin Miller | OK | OK | |
| simulatorAPMS 1.8.0 | Tony Chiang | OK | OK | |
| sizepower 1.6.0 | Weiliang Qiu | OK | OK | |
| SLqPCR 1.2.0 | Matthias Kohl | OK | OK | |
| snapCGH 1.4.0 | John Marioni | OK | OK | |
| SNPchip 1.0.0 | Robert Scharpf | OK | OK | |
| spikeLI 1.4.0 | Enrico Carlon | OK | OK | |
| splicegear 1.8.0 | Laurent | OK | OK | |
| splots 1.2.0 | Oleg Sklyar | OK | OK | |
| spotSegmentation 1.10.0 | Chris Fraley | OK | OK | |
| sscore 1.8.0 | Richard Kennedy | OK | OK | |
| ssize 1.8.0 | Gregory R. Warnes | OK | OK | |
| stepNorm 1.8.0 | Yuanyuan Xiao | OK | OK | |
| tilingArray 1.14.0 | W. Huber | OK | OK | |
| tkWidgets 1.14.0 | J. Zhang | OK | OK | |
| topGO 1.2.1 | Adrian Alexa | OK | OK | |
| twilight 1.12.0 | Stefanie Scheid | OK | OK | |
| TypeInfo 1.2.0 | Duncan Temple Lang | OK | OK | |
| vsn 2.2.0 | Wolfgang Huber | OK | OK | |
| weaver 1.2.0 | Seth Falcon | OK | OK | |
| webbioc 1.8.0 | Colin A. Smith | OK | OK | |
| widgetInvoke 1.8.0 | Jeff Gentry | OK | ERROR | |
| widgetTools 1.12.0 | Jianhua Zhang | OK | OK | |
| xcms 1.8.0 | Colin A. Smith | OK | ERROR | |