Back to the "Multiple platform build/check report"
| Package 10/214 | Hostname | OS | Arch | BUILD | CHECK | BUILD BIN |
affylmGUI1.10.4Keith SatterleyLast Changed Date: 2007-06-25 06:28:05 -0700 Last Changed Rev: 25541 | lamb1 | Linux (SUSE 10.1) | x86_64 | OK | OK | |
| wellington | Linux (SUSE 9.2) | i686 | [ OK ] | OK | ||
| lemming | Windows Server 2003 (32-bit) | x64 | OK | OK | OK |
| Package: affylmGUI |
| Version: 1.10.4 |
| Command: /loc/biocbuild/bbs-2.0-bioc/R/bin/R CMD build affylmGUI |
| RetCode: 0 |
| Time: 19.8 seconds |
| Status: OK |
| PackageFile: affylmGUI_1.10.4.tar.gz |
* checking for file 'affylmGUI/DESCRIPTION' ... OK
* preparing 'affylmGUI':
* checking DESCRIPTION meta-information ... OK
* checking whether 'INDEX' is up-to-date ... NO
* use '--force' to overwrite the existing 'INDEX'
* installing the package to re-build vignettes
* Installing *source* package 'affylmGUI' ...
** R
** inst
** preparing package for lazy loading
Loading required package: limma
Loading required package: tcltk
Loading Tcl/Tk interface ... done
Loading required package: affy
Loading required package: Biobase
Loading required package: tools
Welcome to Bioconductor
Vignettes contain introductory material. To view, type
'openVignette()'. To cite Bioconductor, see
'citation("Biobase")' and for packages 'citation(pkgname)'.
Loading required package: affyio
** help
>>> Building/Updating help pages for package 'affylmGUI'
Formats: text html latex example
ALGchangeLog text html latex
affylmGUI text html latex
** building package indices ...
* DONE (affylmGUI)
* creating vignettes ... OK
* removing junk files
* checking for LF line-endings in source files
* checking for empty or unneeded directories
* building 'affylmGUI_1.10.4.tar.gz'