Back to the "Multiple platform build/check report"
| Package 202/214 | Hostname | OS | Arch | BUILD | CHECK | BUILD BIN | 
| ssize1.8.0Gregory R. WarnesLast Changed Date: 2007-04-24 11:21:48 -0700 Last Changed Rev: 24214 | lamb1 | Linux (SUSE 10.1) | x86_64 | OK | OK | |
| wellington | Linux (SUSE 9.2) | i686 | [ OK ] | OK | ||
| lemming | Windows Server 2003 (32-bit) | x64 | OK | OK | OK | 
| Package: ssize | 
| Version: 1.8.0 | 
| Command: /loc/biocbuild/bbs-2.0-bioc/R/bin/R CMD build ssize | 
| RetCode: 0 | 
| Time: 44.3 seconds | 
| Status: OK | 
| PackageFile: ssize_1.8.0.tar.gz | 
* checking for file 'ssize/DESCRIPTION' ... OK
* preparing 'ssize':
* checking DESCRIPTION meta-information ... OK
* installing the package to re-build vignettes
* Installing *source* package 'ssize' ...
** R
** data
** inst
** help
 >>> Building/Updating help pages for package 'ssize'
     Formats: text html latex example 
  exp.sd                            text    html    latex   example
  pow                               text    html    latex   example
** building package indices ...
* DONE (ssize)
* creating vignettes ... OK
* removing junk files
* checking for LF line-endings in source files
* checking for empty or unneeded directories
* building 'ssize_1.8.0.tar.gz'