Back to the "Multiple platform build/check report"
| Package 134/214 | Hostname | OS | Arch | BUILD | CHECK | BUILD BIN |
nnNorm2.0.0Adi Laurentiu TarcaLast Changed Date: 2007-04-24 11:21:48 -0700 Last Changed Rev: 24214 | lamb1 | Linux (SUSE 10.1) | x86_64 | OK | OK | |
| wellington | Linux (SUSE 9.2) | i686 | [ OK ] | OK | ||
| lemming | Windows Server 2003 (32-bit) | x64 | OK | OK | OK |
| Package: nnNorm |
| Version: 2.0.0 |
| Command: /loc/biocbuild/bbs-2.0-bioc/R/bin/R CMD build nnNorm |
| RetCode: 0 |
| Time: 316.2 seconds |
| Status: OK |
| PackageFile: nnNorm_2.0.0.tar.gz |
* checking for file 'nnNorm/DESCRIPTION' ... OK
* preparing 'nnNorm':
* checking DESCRIPTION meta-information ... OK
* checking whether 'INDEX' is up-to-date ... NO
* use '--force' to overwrite the existing 'INDEX'
* installing the package to re-build vignettes
* Installing *source* package 'nnNorm' ...
** R
** inst
** help
>>> Building/Updating help pages for package 'nnNorm'
Formats: text html latex example
compNorm text html latex example
detectSpatialBias text html latex example
maNormNN text html latex example
** building package indices ...
* DONE (nnNorm)
* creating vignettes ... OK
* removing junk files
* checking for LF line-endings in source files
* checking for empty or unneeded directories
* building 'nnNorm_2.0.0.tar.gz'