Back to the "Multiple platform build/check report"
| Package 115/214 | Hostname | OS | Arch | BUILD | CHECK | BUILD BIN |
maDB1.8.1Johannes RainerLast Changed Date: 2007-05-17 02:16:30 -0700 Last Changed Rev: 24755 | lamb1 | Linux (SUSE 10.1) | x86_64 | OK | OK | |
| wellington | Linux (SUSE 9.2) | i686 | [ OK ] | OK | ||
| lemming | Windows Server 2003 (32-bit) | x64 | OK | ERROR | ERROR |
| Package: maDB |
| Version: 1.8.1 |
| Command: /loc/biocbuild/bbs-2.0-bioc/R/bin/R CMD build maDB |
| RetCode: 0 |
| Time: 2.8 seconds |
| Status: OK |
| PackageFile: maDB_1.8.1.tar.gz |
* checking for file 'maDB/DESCRIPTION' ... OK * preparing 'maDB': * checking DESCRIPTION meta-information ... OK * removing junk files * checking for LF line-endings in source files * checking for empty or unneeded directories * building 'maDB_1.8.1.tar.gz'