Back to the "Multiple platform build/check report"
| Package 86/214 | Hostname | OS | Arch | BUILD | CHECK | BUILD BIN |
globaltest4.6.0Jelle GoemanLast Changed Date: 2007-04-24 11:21:48 -0700 Last Changed Rev: 24214 | lamb1 | Linux (SUSE 10.1) | x86_64 | OK | OK | |
| wellington | Linux (SUSE 9.2) | i686 | [ OK ] | OK | ||
| lemming | Windows Server 2003 (32-bit) | x64 | OK | OK | OK |
| Package: globaltest |
| Version: 4.6.0 |
| Command: /loc/biocbuild/bbs-2.0-bioc/R/bin/R CMD build globaltest |
| RetCode: 0 |
| Time: 260.9 seconds |
| Status: OK |
| PackageFile: globaltest_4.6.0.tar.gz |
* checking for file 'globaltest/DESCRIPTION' ... OK
* preparing 'globaltest':
* checking DESCRIPTION meta-information ... OK
* installing the package to re-build vignettes
* Installing *source* package 'globaltest' ...
** R
** data
** inst
** save image
Loading required package: multtest
Loading required package: Biobase
Loading required package: tools
Welcome to Bioconductor
Vignettes contain introductory material. To view, type
'openVignette()'. To cite Bioconductor, see
'citation("Biobase")' and for packages 'citation(pkgname)'.
Loading required package: survival
Loading required package: splines
Creating a new generic function for "fitted.values" in "globaltest"
Creating a new generic function for "residuals" in "globaltest"
** preparing package for lazy loading
Loading required package: multtest
Loading required package: Biobase
Loading required package: tools
Welcome to Bioconductor
Vignettes contain introductory material. To view, type
'openVignette()'. To cite Bioconductor, see
'citation("Biobase")' and for packages 'citation(pkgname)'.
Loading required package: survival
Loading required package: splines
** help
>>> Building/Updating help pages for package 'globaltest'
Formats: text html latex example
GOstructure text html latex
annotation.vandeVijver text html latex
checkerboard text html latex example
geneplot text html latex example
globaltest text html latex example
gostructure.vandeVijver text html latex
gt.barplot-class text html latex
gt.result-class text html latex
gtGO text html latex example
mlogit text html latex example
multtest text html latex example
permutations text html latex example
regressionplot text html latex example
sampleplot text html latex example
sampling text html latex example
vandeVijver text html latex
** building package indices ...
* DONE (globaltest)
* creating vignettes ... OK
* removing junk files
* checking for LF line-endings in source files
* checking for empty or unneeded directories
* building 'globaltest_4.6.0.tar.gz'