Back to the "Multiple platform build/check report"
| Package 8/214 | Hostname | OS | Arch | BUILD | CHECK | BUILD BIN |
affycoretools1.8.1James W. MacDonaldLast Changed Date: 2007-07-23 10:40:45 -0700 Last Changed Rev: 25933 | lamb1 | Linux (SUSE 10.1) | x86_64 | OK | OK | |
| wellington | Linux (SUSE 9.2) | i686 | [ OK ] | OK | ||
| lemming | Windows Server 2003 (32-bit) | x64 | OK | OK | OK |
| Package: affycoretools |
| Version: 1.8.1 |
| Command: /loc/biocbuild/bbs-2.0-bioc/R/bin/R CMD build affycoretools |
| RetCode: 0 |
| Time: 104.8 seconds |
| Status: OK |
| PackageFile: affycoretools_1.8.1.tar.gz |
* checking for file 'affycoretools/DESCRIPTION' ... OK
* preparing 'affycoretools':
* checking DESCRIPTION meta-information ... OK
* installing the package to re-build vignettes
* Installing *source* package 'affycoretools' ...
** R
** inst
** preparing package for lazy loading
Loading required package: affy
Loading required package: Biobase
Loading required package: tools
Welcome to Bioconductor
Vignettes contain introductory material. To view, type
'openVignette()'. To cite Bioconductor, see
'citation("Biobase")' and for packages 'citation(pkgname)'.
Loading required package: affyio
Loading required package: limma
Loading required package: GOstats
Loading required package: graph
Loading required package: GO
Loading required package: annotate
Loading required package: RBGL
Loading required package: Category
Loading required package: KEGG
Loading required package: genefilter
Loading required package: survival
Loading required package: splines
Loading required package: Matrix
Loading required package: lattice
Loading required package: biomaRt
Loading required package: XML
Attaching package: 'XML'
The following object(s) are masked from package:graph :
addNode
Loading required package: RCurl
Attaching package: 'biomaRt'
The following object(s) are masked from package:annotate :
getGO
Loading required package: gcrma
Loading required package: matchprobes
Loading required package: xtable
Loading required package: annaffy
** help
>>> Building/Updating help pages for package 'affycoretools'
Formats: text html latex example
affystart text html latex
annBM text html latex example
convert.back text html latex
extractStats text html latex
foldFilt text html latex
foldFiltBM text html latex
getCols text html latex
getIndex text html latex
getOrder text html latex
getSymbol text html latex
getUniqueLL text html latex
getans text html latex
houtSig text html latex
hyperG2annaffy text html latex
hyperGoutput text html latex
intNames text html latex
limma2annaffy text html latex
limma2biomaRt text html latex
make.cl text html latex
makeFCList text html latex
makeIndices text html latex
pca.legend text html latex
plotDeg text html latex example
plotMA text html latex
plotPCA text html latex
probes2table text html latex
probes2tableBM text html latex
tableFilt text html latex
vennCounts2 text html latex example
vennSelect text html latex
vennSelectBM text html latex
vennSelectFC text html latex
** building package indices ...
* DONE (affycoretools)
* creating vignettes ... OK
* removing junk files
* checking for LF line-endings in source files
* checking for empty or unneeded directories
* building 'affycoretools_1.8.1.tar.gz'