Back to the "Multiple platform build/check report"
| Package 177/214 | Hostname | OS | Arch | BUILD | CHECK | BUILD BIN |
ROC1.10.0Vince CareyLast Changed Date: 2007-04-24 11:21:48 -0700 Last Changed Rev: 24214 | lamb1 | Linux (SUSE 10.1) | x86_64 | OK | OK | |
| wellington | Linux (SUSE 9.2) | i686 | [ OK ] | OK | ||
| lemming | Windows Server 2003 (32-bit) | x64 | OK | OK | OK |
| Package: ROC |
| Version: 1.10.0 |
| Command: /loc/biocbuild/bbs-2.0-bioc/R/bin/R CMD build ROC |
| RetCode: 0 |
| Time: 21.9 seconds |
| Status: OK |
| PackageFile: ROC_1.10.0.tar.gz |
* checking for file 'ROC/DESCRIPTION' ... OK
* preparing 'ROC':
* checking DESCRIPTION meta-information ... OK
* cleaning src
* installing the package to re-build vignettes
* Installing *source* package 'ROC' ...
** libs
g++ -I/loc/biocbuild/bbs-2.0-bioc/R/include -I/loc/biocbuild/bbs-2.0-bioc/R/include -I/usr/local/include -fpic -g -O2 -Wall -c ROC.cc -o ROC.o
g++ -shared -L/usr/local/lib -o ROC.so ROC.o -L/loc/biocbuild/bbs-2.0-bioc/R/lib -lR
** R
** inst
** save image
** help
>>> Building/Updating help pages for package 'ROC'
Formats: text html latex example
AUC text html latex example
plot-methods text html latex example
rocc-class text html latex example
rocdemo.sca text html latex example
trapezint text html latex example
** building package indices ...
* DONE (ROC)
* creating vignettes ... OK
* cleaning src
* removing junk files
* checking for LF line-endings in source files
* checking for empty or unneeded directories
* building 'ROC_1.10.0.tar.gz'