Back to the "Multiple platform build/check report"
| Package 174/214 | Hostname | OS | Arch | BUILD | CHECK | BUILD BIN |
Ringo1.0.0J. ToedlingLast Changed Date: 2007-04-25 10:13:36 -0700 Last Changed Rev: 24275 | lamb1 | Linux (SUSE 10.1) | x86_64 | OK | OK | |
| wellington | Linux (SUSE 9.2) | i686 | [ OK ] | OK | ||
| lemming | Windows Server 2003 (32-bit) | x64 | OK | OK | OK |
| Package: Ringo |
| Version: 1.0.0 |
| Command: /loc/biocbuild/bbs-2.0-bioc/R/bin/R CMD build Ringo |
| RetCode: 0 |
| Time: 42.9 seconds |
| Status: OK |
| PackageFile: Ringo_1.0.0.tar.gz |
* checking for file 'Ringo/DESCRIPTION' ... OK
* preparing 'Ringo':
* checking DESCRIPTION meta-information ... OK
* cleaning src
* installing the package to re-build vignettes
* Installing *source* package 'Ringo' ...
** libs
g++ -I/loc/biocbuild/bbs-2.0-bioc/R/include -I/loc/biocbuild/bbs-2.0-bioc/R/include -I/usr/local/include -fpic -g -O2 -Wall -c mmedian.cpp -o mmedian.o
g++ -shared -L/usr/local/lib -o Ringo.so mmedian.o -L/loc/biocbuild/bbs-2.0-bioc/R/lib -lR
** R
** inst
** save image
Loading required package: Biobase
Loading required package: tools
Welcome to Bioconductor
Vignettes contain introductory material. To view, type
'openVignette()'. To cite Bioconductor, see
'citation("Biobase")' and for packages 'citation(pkgname)'.
Loading required package: geneplotter
Loading required package: annotate
Loading required package: lattice
KernSmooth 2.22 installed
Copyright M. P. Wand 1997
Loading required package: limma
Loading required package: vsn
Loading required package: affy
Loading required package: affyio
Loading required package: RColorBrewer
** help
>>> Building/Updating help pages for package 'Ringo'
Formats: text html latex example
Ringo-internal text html latex
arrayImage text html latex example
asExprSet text html latex example
autocorr text html latex example
chipAlongChrom text html latex example
computeRunningMedians text html latex example
corrPlot text html latex example
findPeaksOnSmoothed text html latex example
ftr2xys text html latex example
newPeak text html latex example
nimblegenNorm text html latex
peakByThreshold text html latex example
peakClass text html latex example
plotAutocorr text html latex example
plot_peak text html latex example
preprocess text html latex example
readNimblegen text html latex example
relatePeaks text html latex example
sliding_median text html latex example
sliding_quantile text html latex example
** building package indices ...
* DONE (Ringo)
* creating vignettes ... OK
* cleaning src
* removing junk files
* checking for LF line-endings in source files
* checking for empty or unneeded directories
* building 'Ringo_1.0.0.tar.gz'