Back to the "Multiple platform build/check report"
| Package 140/214 | Hostname | OS | Arch | BUILD | CHECK | BUILD BIN |
ontoTools1.12.1Vince CareyLast Changed Date: 2007-04-27 12:58:42 -0700 Last Changed Rev: 24345 | lamb1 | Linux (SUSE 10.1) | x86_64 | OK | OK | |
| wellington | Linux (SUSE 9.2) | i686 | [ OK ] | OK | ||
| lemming | Windows Server 2003 (32-bit) | x64 | OK | OK | OK |
| Package: ontoTools |
| Version: 1.12.1 |
| Command: /loc/biocbuild/bbs-2.0-bioc/R/bin/R CMD build ontoTools |
| RetCode: 0 |
| Time: 769.5 seconds |
| Status: OK |
| PackageFile: ontoTools_1.12.1.tar.gz |
* checking for file 'ontoTools/DESCRIPTION' ... OK
* preparing 'ontoTools':
* checking DESCRIPTION meta-information ... OK
* installing the package to re-build vignettes
* Installing *source* package 'ontoTools' ...
** R
** data
** inst
** save image
Loading required package: graph
Loading required package: SparseM
Package SparseM (0.73) loaded. To cite, see citation("SparseM")
Loading required package: GO
Loading required package: Biobase
Loading required package: tools
Welcome to Bioconductor
Vignettes contain introductory material. To view, type
'openVignette()'. To cite Bioconductor, see
'citation("Biobase")' and for packages 'citation(pkgname)'.
Loading required package: annotate
[1] "rootedDAG"
[1] "root"
[1] "root"
[1] "DAG"
[1] "DAG"
[1] "getMatrix"
[1] "getMatrix"
[1] "compoundGraph"
[1] "grList"
[1] "grList"
[1] "between"
[1] "between"
[1] "toDot"
[1] "toDot"
[1] "toDot"
[1] "toDot"
[1] "toDot"
[1] "toDot"
[1] "toDot"
[1] "toDot"
[1] "toDot"
[1] "toDot"
[1] "toDot"
[1] "toDot"
[1] "adjMat"
[1] "adjMat"
[1] TRUE
[1] "namedSparse"
[1] "dimnames"
[1] "rowinds"
[1] "colinds"
[1] "mat"
[1] "mat"
[1] "["
[1] "rowinds"
[1] "colinds"
[1] "dimnames<-"
[1] "mat"
[1] "mat"
[1] "nrow"
[1] "nrow"
[1] "ncol"
[1] "ncol"
[1] "dimnames"
[1] "as.matrix"
[1] "colSums"
[1] "rowSums"
[1] "colSums"
[1] "rowSums"
[1] "Arith"
[1] "%*%"
[1] "+"
[1] "maxval"
[1] "maxval"
[1] "show"
[1] "t"
[1] "ontology"
[1] "name"
[1] "name"
[1] "OVersion"
[1] "OVersion"
[1] "rDAG"
[1] "rDAG"
[1] "show"
[1] "accessMat"
[1] "accessMat"
[1] "OOC"
[1] "ontology"
[1] "ontology"
[1] "OOmap"
[1] "OOmap"
[1] "show"
[1] "coverageMat"
[1] "coverageMat"
[1] "provStruct"
[1] "show"
[1] "nomenclature"
[1] "taggedHierNomenclature"
[1] "show"
[1] "GDIontology"
[1] "show"
[1] "parents"
[1] "parents"
[1] "children"
[1] "children"
Creating a new generic function for "grep" in "ontoTools"
[1] "grep"
[1] "getTerms"
[1] "getTerms"
[1] "annotationResource"
[1] "symMapping"
[1] "typedSymMapping"
[1] "show"
[1] "GDIplatform"
[1] "show"
[1] "getDefs"
[1] "getDefs"
[1] "GDILabel"
[1] "exptArchive"
[1] "show"
[1] "exptSample"
[1] "show"
[1] "annoSource"
** help
>>> Building/Updating help pages for package 'ontoTools'
Formats: text html latex example
A.csr text html latex
GDI text html latex example
LLGOMFcp text html latex
OOC-class text html latex example
SGDIvocab text html latex example
STMA text html latex example
accessMat text html latex example
buildGOgraph text html latex example
compoundGraph-class text html latex example
depthStruct text html latex example
gomfAmat text html latex
litOnto text html latex
namedSparse-class text html latex example
ontology-class text html latex example
ooMapLL2GOMFdemo text html latex
otkvEnv2namedSparse text html latex example
rootedDAG-class text html latex example
semsim text html latex example
taggedHierNomenclature-class text html latex example
toDot-methods text html latex example
** building package indices ...
* DONE (ontoTools)
* creating vignettes ... OK
* removing junk files
* checking for LF line-endings in source files
* checking for empty or unneeded directories
* building 'ontoTools_1.12.1.tar.gz'