Back to the "Multiple platform build/check report"
| Package 120/214 | Hostname | OS | Arch | BUILD | CHECK | BUILD BIN | 
| MantelCorr1.6.0Brian SteinmeyerLast Changed Date: 2007-04-24 11:21:48 -0700 Last Changed Rev: 24214 | lamb1 | Linux (SUSE 10.1) | x86_64 | OK | OK | |
| wellington | Linux (SUSE 9.2) | i686 | [ OK ] | OK | ||
| lemming | Windows Server 2003 (32-bit) | x64 | OK | OK | OK | 
| Package: MantelCorr | 
| Version: 1.6.0 | 
| Command: /loc/biocbuild/bbs-2.0-bioc/R/bin/R CMD build MantelCorr | 
| RetCode: 0 | 
| Time: 60.8 seconds | 
| Status: OK | 
| PackageFile: MantelCorr_1.6.0.tar.gz | 
* checking for file 'MantelCorr/DESCRIPTION' ... OK
* preparing 'MantelCorr':
* checking DESCRIPTION meta-information ... OK
* installing the package to re-build vignettes
* Installing *source* package 'MantelCorr' ...
** R
** data
** inst
** help
 >>> Building/Updating help pages for package 'MantelCorr'
     Formats: text html latex example 
  ClusterGeneList                   text    html    latex   example
  ClusterList                       text    html    latex   example
  DistMatrices                      text    html    latex   example
  GetClusters                       text    html    latex   example
  GolubTrain                        text    html    latex   example
  MantelCorrs                       text    html    latex   example
  PermutationTest                   text    html    latex   example
** building package indices ...
* DONE (MantelCorr)
* creating vignettes ... OK
* removing junk files
* checking for LF line-endings in source files
* checking for empty or unneeded directories
* building 'MantelCorr_1.6.0.tar.gz'