Back to the "Multiple platform build/check report"
| Package 61/214 | Hostname | OS | Arch | BUILD | CHECK | BUILD BIN |
edd1.14.0Vince CareyLast Changed Date: 2007-04-24 11:21:48 -0700 Last Changed Rev: 24214 | lamb1 | Linux (SUSE 10.1) | x86_64 | OK | OK | |
| wellington | Linux (SUSE 9.2) | i686 | [ OK ] | OK | ||
| lemming | Windows Server 2003 (32-bit) | x64 | OK | OK | OK |
| Package: edd |
| Version: 1.14.0 |
| Command: /loc/biocbuild/bbs-2.0-bioc/R/bin/R CMD build edd |
| RetCode: 0 |
| Time: 120.2 seconds |
| Status: OK |
| PackageFile: edd_1.14.0.tar.gz |
* checking for file 'edd/DESCRIPTION' ... OK
* preparing 'edd':
* checking DESCRIPTION meta-information ... OK
* installing the package to re-build vignettes
* Installing *source* package 'edd' ...
** R
** inst
** save image
Loading required package: golubEsets
Loading required package: Biobase
Loading required package: tools
Welcome to Bioconductor
Vignettes contain introductory material. To view, type
'openVignette()'. To cite Bioconductor, see
'citation("Biobase")' and for packages 'citation(pkgname)'.
Loading required package: class
Loading required package: nnet
Loading required package: xtable
** help
>>> Building/Updating help pages for package 'edd'
Formats: text html latex example
centerScale text html latex example
edd text html latex example
eddDist-class text html latex example
eddObsolete text html latex example
flatQQNorm text html latex example
latEDtable text html latex example
makeCandmat.raw text html latex example
maxKSp text html latex example
plotED text html latex example
** building package indices ...
* DONE (edd)
* creating vignettes ... OK
* removing junk files
* checking for LF line-endings in source files
* checking for empty or unneeded directories
* building 'edd_1.14.0.tar.gz'