Back to the "Multiple platform build/check report"
| Package 188/214 | Hostname | OS | Arch | BUILD | CHECK | BUILD BIN |
seqLogo1.2.0Oliver BembomLast Changed Date: 2007-04-24 11:21:48 -0700 Last Changed Rev: 24214 | lamb1 | Linux (SUSE 10.1) | x86_64 | OK | OK | |
| wellington | Linux (SUSE 9.2) | i686 | [ OK ] | OK | ||
| lemming | Windows Server 2003 (32-bit) | x64 | OK | OK | OK |
| Package: seqLogo |
| Version: 1.2.0 |
| Command: /loc/biocbuild/bbs-2.0-bioc/R/bin/R CMD build seqLogo |
| RetCode: 0 |
| Time: 14.8 seconds |
| Status: OK |
| PackageFile: seqLogo_1.2.0.tar.gz |
* checking for file 'seqLogo/DESCRIPTION' ... OK
* preparing 'seqLogo':
* checking DESCRIPTION meta-information ... OK
* installing the package to re-build vignettes
* Installing *source* package 'seqLogo' ...
** R
** inst
** preparing package for lazy loading
Loading required package: grid
Creating a new generic function for "plot" in "seqLogo"
Creating a new generic function for "summary" in "seqLogo"
Creating a new generic function for "print" in "seqLogo"
** help
>>> Building/Updating help pages for package 'seqLogo'
Formats: text html latex example
makePWM text html latex example
pwm-class text html latex example
seqLogo text html latex example
** building package indices ...
* DONE (seqLogo)
* creating vignettes ... OK
* removing junk files
* checking for LF line-endings in source files
* checking for empty or unneeded directories
* building 'seqLogo_1.2.0.tar.gz'