Back to the "Multiple platform build/check report"
| Package 79/214 | Hostname | OS | Arch | BUILD | CHECK | BUILD BIN | 
| GeneticsPed1.0.0Gregor GorjancLast Changed Date: 2007-04-24 11:21:48 -0700 Last Changed Rev: 24214 | lamb1 | Linux (SUSE 10.1) | x86_64 | OK | OK | |
| wellington | Linux (SUSE 9.2) | i686 | [ OK ] | OK | ||
| lemming | Windows Server 2003 (32-bit) | x64 | OK | OK | OK | 
| Package: GeneticsPed | 
| Version: 1.0.0 | 
| Command: /loc/biocbuild/bbs-2.0-bioc/R/bin/R CMD build GeneticsPed | 
| RetCode: 0 | 
| Time: 49.7 seconds | 
| Status: OK | 
| PackageFile: GeneticsPed_1.0.0.tar.gz | 
* checking for file 'GeneticsPed/DESCRIPTION' ... OK
* preparing 'GeneticsPed':
* checking DESCRIPTION meta-information ... OK
* cleaning src
* installing the package to re-build vignettes
* Installing *source* package 'GeneticsPed' ...
** libs
g++ -I/loc/biocbuild/bbs-2.0-bioc/R/include -I/loc/biocbuild/bbs-2.0-bioc/R/include  -I/usr/local/include    -fpic  -g -O2 -Wall -c ainverse.cc -o ainverse.o
g++ -I/loc/biocbuild/bbs-2.0-bioc/R/include -I/loc/biocbuild/bbs-2.0-bioc/R/include  -I/usr/local/include    -fpic  -g -O2 -Wall -c eibd.cc -o eibd.o
g77   -fpic  -g -O2 -Wall -c ggmatmult.f -o ggmatmult.o
g77   -fpic  -g -O2 -Wall -c gpi.f -o gpi.o
g++ -I/loc/biocbuild/bbs-2.0-bioc/R/include -I/loc/biocbuild/bbs-2.0-bioc/R/include  -I/usr/local/include    -fpic  -g -O2 -Wall -c inbreed.cc -o inbreed.o
g++ -I/loc/biocbuild/bbs-2.0-bioc/R/include -I/loc/biocbuild/bbs-2.0-bioc/R/include  -I/usr/local/include    -fpic  -g -O2 -Wall -c inverseAdditive.cc -o inverseAdditive.o
g++ -I/loc/biocbuild/bbs-2.0-bioc/R/include -I/loc/biocbuild/bbs-2.0-bioc/R/include  -I/usr/local/include    -fpic  -g -O2 -Wall -c meuwissen.cc -o meuwissen.o
g++ -I/loc/biocbuild/bbs-2.0-bioc/R/include -I/loc/biocbuild/bbs-2.0-bioc/R/include  -I/usr/local/include    -fpic  -g -O2 -Wall -c pedSort.cc -o pedSort.o
g++ -I/loc/biocbuild/bbs-2.0-bioc/R/include -I/loc/biocbuild/bbs-2.0-bioc/R/include  -I/usr/local/include    -fpic  -g -O2 -Wall -c pedtemplate.cc -o pedtemplate.o
g++ -I/loc/biocbuild/bbs-2.0-bioc/R/include -I/loc/biocbuild/bbs-2.0-bioc/R/include  -I/usr/local/include    -fpic  -g -O2 -Wall -c register.cc -o register.o
gcc -std=gnu99 -I/loc/biocbuild/bbs-2.0-bioc/R/include -I/loc/biocbuild/bbs-2.0-bioc/R/include  -I/usr/local/include    -fpic  -g -O2 -Wall -c sargolzaei.c -o sargolzaei.o
sargolzaei.c: In function `sargolzaei':
sargolzaei.c:62: warning: statement with no effect
sargolzaei.c:19: warning: `S' might be used uninitialized in this function
sargolzaei.c:19: warning: `MIP' might be used uninitialized in this function
sargolzaei.c:19: warning: `N' might be used uninitialized in this function
g++ -I/loc/biocbuild/bbs-2.0-bioc/R/include -I/loc/biocbuild/bbs-2.0-bioc/R/include  -I/usr/local/include    -fpic  -g -O2 -Wall -c sortped.cc -o sortped.o
g++ -shared -L/usr/local/lib -o GeneticsPed.so ainverse.o eibd.o ggmatmult.o gpi.o inbreed.o inverseAdditive.o meuwissen.o pedSort.o pedtemplate.o register.o sargolzaei.o sortped.o  -lg2c -lm -lgcc_s -L/loc/biocbuild/bbs-2.0-bioc/R/lib -lR
** R
** data
** inst
** preparing package for lazy loading
Loading required package: gdata
Loading required package: MASS
** help
 >>> Building/Updating help pages for package 'GeneticsPed'
     Formats: text html latex example 
  Mrode                             text    html    latex   example
  TDT                               text    html    latex   example
  check                             text    html    latex   example
  codeUnit                          text    html    latex   example
  extend                            text    html    latex   example
  family                            text    html    latex   example
  founder                           text    html    latex   example
  geneContribution                  text    html    latex   example
  generatePedigree                  text    html    latex   example
  generation                        text    html    latex   example
  gpi                               text    html    latex   example
  inbreeding                        text    html    latex   example
  model.matrix                      text    html    latex   example
  nIndividual                       text    html    latex   example
  pedigree                          text    html    latex   example
  relationshipAdditive              text    html    latex   example
  removeIndividual                  text    html    latex   example
  sort.pedigree                     text    html    latex   example
  summary.pedigree                  text    html    latex   example
  undocumented                      text    html    latex
** building package indices ...
* DONE (GeneticsPed)
* creating vignettes ... OK
* cleaning src
* removing junk files
* checking for LF line-endings in source files
* checking for empty or unneeded directories
* building 'GeneticsPed_1.0.0.tar.gz'