Back to the "Multiple platform build/check report"
| Package 153/214 | Hostname | OS | Arch | BUILD | CHECK | BUILD BIN |
plgem1.8.0Mattia PelizzolaLast Changed Date: 2007-04-24 11:21:48 -0700 Last Changed Rev: 24214 | lamb1 | Linux (SUSE 10.1) | x86_64 | OK | OK | |
| wellington | Linux (SUSE 9.2) | i686 | [ OK ] | OK | ||
| lemming | Windows Server 2003 (32-bit) | x64 | OK | OK | OK |
| Package: plgem |
| Version: 1.8.0 |
| Command: /loc/biocbuild/bbs-2.0-bioc/R/bin/R CMD build plgem |
| RetCode: 0 |
| Time: 83.9 seconds |
| Status: OK |
| PackageFile: plgem_1.8.0.tar.gz |
* checking for file 'plgem/DESCRIPTION' ... OK
* preparing 'plgem':
* checking DESCRIPTION meta-information ... OK
* installing the package to re-build vignettes
* Installing *source* package 'plgem' ...
** R
** data
** inst
** help
>>> Building/Updating help pages for package 'plgem'
Formats: text html latex example
LPSeset text html latex example
plgem.deg text html latex example
plgem.fit text html latex example
plgem.obsStn text html latex example
run.plgem text html latex example
** building package indices ...
* DONE (plgem)
* creating vignettes ... OK
* removing junk files
* checking for LF line-endings in source files
* checking for empty or unneeded directories
* building 'plgem_1.8.0.tar.gz'