Back to the "Multiple platform build/check report"
| Package 149/214 | Hostname | OS | Arch | BUILD | CHECK | BUILD BIN | 
| PGSEA1.2.0Karl DykemaLast Changed Date: 2007-04-24 11:21:48 -0700 Last Changed Rev: 24214 | lamb1 | Linux (SUSE 10.1) | x86_64 | OK | OK | |
| wellington | Linux (SUSE 9.2) | i686 | [ OK ] | OK | ||
| lemming | Windows Server 2003 (32-bit) | x64 | OK | OK | OK | 
| Package: PGSEA | 
| Version: 1.2.0 | 
| Command: /loc/biocbuild/bbs-2.0-bioc/R/bin/R CMD build PGSEA | 
| RetCode: 0 | 
| Time: 53.6 seconds | 
| Status: OK | 
| PackageFile: PGSEA_1.2.0.tar.gz | 
* checking for file 'PGSEA/DESCRIPTION' ... OK
* preparing 'PGSEA':
* checking DESCRIPTION meta-information ... OK
* installing the package to re-build vignettes
* Installing *source* package 'PGSEA' ...
** R
** data
** inst
** help
 >>> Building/Updating help pages for package 'PGSEA'
     Formats: text html latex example 
  GOLUBmcs                          text    html    latex   example
  PGSEA                             text    html    latex   example
  VAImcs                            text    html    latex   example
  aggregateExprs                    text    html    latex   example
  convertSmc                        text    html    latex   example
  editSmc                           text    html    latex   example
  go2smc                            text    html    latex   example
  nbEset                            text    html    latex   example
  readGmt                           text    html    latex   example
  readSmc                           text    html    latex   example
  scanSmc                           text    html    latex   example
  smcPlot                           text    html    latex   example
  writeGmt                          text    html    latex   example
  writeSmc                          text    html    latex   example
** building package indices ...
* DONE (PGSEA)
* creating vignettes ... OK
* removing junk files
* checking for LF line-endings in source files
* checking for empty or unneeded directories
* building 'PGSEA_1.2.0.tar.gz'