Back to the "Multiple platform build/check report"
| Package 196/214 | Hostname | OS | Arch | BUILD | CHECK | BUILD BIN |
SNPchip1.0.0Robert ScharpfLast Changed Date: 2007-04-24 11:21:48 -0700 Last Changed Rev: 24214 | lamb1 | Linux (SUSE 10.1) | x86_64 | OK | OK | |
| wellington | Linux (SUSE 9.2) | i686 | [ OK ] | OK | ||
| lemming | Windows Server 2003 (32-bit) | x64 | OK | OK | OK |
| Package: SNPchip |
| Version: 1.0.0 |
| Command: /loc/biocbuild/bbs-2.0-bioc/R/bin/R CMD build SNPchip |
| RetCode: 0 |
| Time: 69.6 seconds |
| Status: OK |
| PackageFile: SNPchip_1.0.0.tar.gz |
* checking for file 'SNPchip/DESCRIPTION' ... OK
* preparing 'SNPchip':
* checking DESCRIPTION meta-information ... OK
* installing the package to re-build vignettes
* Installing *source* package 'SNPchip' ...
** R
** data
** inst
** save image
Loading required package: Biobase
Loading required package: tools
Welcome to Bioconductor
Vignettes contain introductory material. To view, type
'openVignette()'. To cite Bioconductor, see
'citation("Biobase")' and for packages 'citation(pkgname)'.
Loading required package: geneplotter
Loading required package: annotate
Loading required package: lattice
KernSmooth 2.22 installed
Copyright M. P. Wand 1997
Loading required package: oligo
Loading required package: affyio
Loading required package: splines
Loading required package: RSQLite
Loading required package: DBI
Loading required package: BufferedMatrix
Loading required package: BufferedMatrixMethods
This is the oligo package
** help
>>> Building/Updating help pages for package 'SNPchip'
Formats: text html latex example
AnnotatedSnpCallSet-class text html latex example
AnnotatedSnpCopyNumberSet-class text html latex example
AnnotatedSnpSet-class text html latex example
addFeatureData-method text html latex
alleleA text html latex example
alleleB text html latex example
annSnpset text html latex example
centromere text html latex example
chromosome text html latex
chromosomeAnnotation text html latex example
chromosomeSize text html latex example
coerce-methods text html latex
copyNumber text html latex
cytoband text html latex example
dbSnpId text html latex example
enzyme text html latex example
fData text html latex example
fragmentLength text html latex example
getSnpAnnotation text html latex example
hapmap text html latex example
initialize-methods text html latex
plotCytoband text html latex example
plotSnp text html latex example
position text html latex
show-methods text html latex
showSummary text html latex example
smoothSnp text html latex example
summary-methods text html latex
unsplitS4 text html latex example
** building package indices ...
* DONE (SNPchip)
* creating vignettes ... OK
* removing junk files
* checking for LF line-endings in source files
* checking for empty or unneeded directories
* building 'SNPchip_1.0.0.tar.gz'