This page was generated on 2024-03-08 16:41:48 -0500 (Fri, 08 Mar 2024).
|
| Hostname | OS | Arch (*) | R version | Installed pkgs |
|---|---|---|---|---|
| nebbiolo2 | Linux (Ubuntu 22.04.3 LTS) | x86_64 | 4.1.3 (2022-03-10) -- "One Push-Up" | 655 |
| Click on any hostname to see more info about the system (e.g. compilers) (*) as reported by 'uname -p', except on Windows and Mac OS X | ||||
| QUICK STATS | OS / Arch | INSTALL | BUILD | CHECK | BUILD BIN | |||||||||||||
| nebbiolo2 | Linux (Ubuntu 22.04.3 LTS) / x86_64 |
|
|
| ||||||||||||||
| Package | Maintainer | INSTALL | BUILD | CHECK | BUILD BIN | |||||||||||||
| 1/118 | affxparser 1.74.0 (landing page) | Kasper Daniel Hansen | OK | OK | WARNINGS | |||||||||||||
| 2/118 | affy 1.80.0 (landing page) | Robert D. Shear | OK | OK | WARNINGS | |||||||||||||
| 3/118 | affyio 1.72.0 (landing page) | Ben Bolstad | OK | OK | WARNINGS | |||||||||||||
| 4/118 | affyPLM 1.78.0 (landing page) | Ben Bolstad | OK | OK | WARNINGS | |||||||||||||
| 5/118 | annotate 1.80.0 (landing page) | Bioconductor Package Maintainer | OK | OK | OK | |||||||||||||
| 6/118 | AnnotationDbi 1.64.1 (landing page) | Bioconductor Package Maintainer | OK | OK | OK | |||||||||||||
| 7/118 | AnnotationFilter 1.26.0 (landing page) | Bioconductor Package Maintainer | OK | OK | OK | |||||||||||||
| 8/118 | AnnotationForge 1.44.0 (landing page) | Bioconductor Package Maintainer | OK | OK | OK | |||||||||||||
| 9/118 | AnnotationHub 3.10.0 (landing page) | Bioconductor Package Maintainer | OK | OK | WARNINGS | |||||||||||||
| 10/118 | apeglm 1.24.0 (landing page) | Anqi Zhu | OK | OK | OK | |||||||||||||
| 11/118 | basilisk 1.14.3 (landing page) | Aaron Lun | OK | OK | OK | |||||||||||||
| 12/118 | basilisk.utils 1.14.1 (landing page) | Aaron Lun | OK | OK | OK | |||||||||||||
| 13/118 | beachmat 2.18.1 (landing page) | Aaron Lun | OK | ERROR | skipped | |||||||||||||
| 14/118 | Biobase 2.62.0 (landing page) | Bioconductor Package Maintainer | OK | OK | WARNINGS | |||||||||||||
| 15/118 | BiocBaseUtils 1.4.0 (landing page) | Marcel Ramos | OK | OK | OK | |||||||||||||
| 16/118 | BiocCheck 1.38.2 (landing page) | Marcel Ramos | OK | OK | OK | |||||||||||||
| 17/118 | BiocFileCache 2.10.1 (landing page) | Lori Shepherd | OK | OK | OK | |||||||||||||
| 18/118 | BiocGenerics 0.48.1 (landing page) | Hervé Pagès | OK | OK | WARNINGS | |||||||||||||
| 19/118 | BiocIO 1.12.0 (landing page) | Marcel Ramos | OK | OK | OK | |||||||||||||
| 20/118 | BiocNeighbors 1.20.2 (landing page) | Aaron Lun | OK | OK | OK | |||||||||||||
| 21/118 | BiocParallel 1.36.0 (landing page) | Martin Morgan | OK | OK | OK | |||||||||||||
| 22/118 | BiocSingular 1.18.0 (landing page) | Aaron Lun | OK | OK | OK | |||||||||||||
| 23/118 | BiocStyle 2.30.0 (landing page) | Bioconductor Package | OK | OK | OK | |||||||||||||
| 24/118 | BiocVersion 3.18.1 (landing page) | Bioconductor Package Maintainer | OK | OK | OK | |||||||||||||
| 25/118 | biocViews 1.70.0 (landing page) | Bioconductor Package Maintainer | OK | OK | OK | |||||||||||||
| 26/118 | biomaRt 2.58.2 (landing page) | Mike Smith | OK | OK | OK | |||||||||||||
| 27/118 | Biostrings 2.70.2 (landing page) | Hervé Pagès | OK | OK | WARNINGS | |||||||||||||
| 28/118 | biovizBase 1.50.0 (landing page) | Michael Lawrence | OK | OK | WARNINGS | |||||||||||||
| 29/118 | BSgenome 1.70.2 (landing page) | Hervé Pagès | OK | OK | WARNINGS | |||||||||||||
| 30/118 | BSgenomeForge 1.2.2 (landing page) | Hervé Pagès | OK | ERROR | skipped | |||||||||||||
| 31/118 | clusterProfiler 4.10.1 (landing page) | Guangchuang Yu | ERROR | ERROR | skipped | |||||||||||||
| 32/118 | ComplexHeatmap 2.18.0 (landing page) | Zuguang Gu | OK | OK | OK | |||||||||||||
| 33/118 | csaw 1.36.1 (landing page) | Aaron Lun | OK | OK | OK | |||||||||||||
| 34/118 | cytolib 2.14.1 (landing page) | Mike Jiang | OK | OK | WARNINGS | |||||||||||||
| 35/118 | DelayedArray 0.28.0 (landing page) | Hervé Pagès | OK | OK | WARNINGS | |||||||||||||
| 36/118 | DelayedMatrixStats 1.24.0 (landing page) | Peter Hickey | OK | OK | OK | |||||||||||||
| 37/118 | DESeq2 1.42.1 (landing page) | Michael Love | OK | OK | OK | |||||||||||||
| 38/118 | DEXSeq 1.48.0 (landing page) | Alejandro Reyes | OK | OK | OK | |||||||||||||
| 39/118 | dir.expiry 1.10.0 (landing page) | Aaron Lun | OK | OK | OK | |||||||||||||
| 40/118 | DOSE 3.28.2 (landing page) | Guangchuang Yu | ERROR | ERROR | skipped | |||||||||||||
| 41/118 | edgeR 4.0.16 (landing page) | Yunshun Chen | OK | OK | OK | |||||||||||||
| 42/118 | eds 1.4.0 (landing page) | Avi Srivastava | OK | OK | OK | |||||||||||||
| 43/118 | enrichplot 1.22.0 (landing page) | Guangchuang Yu | ERROR | ERROR | skipped | |||||||||||||
| 44/118 | ensembldb 2.26.0 (landing page) | Johannes Rainer | OK | OK | OK | |||||||||||||
| 45/118 | ExperimentHub 2.10.0 (landing page) | Bioconductor Package Maintainer | OK | OK | OK | |||||||||||||
| 46/118 | fgsea 1.28.0 (landing page) | Alexey Sergushichev | OK | OK | OK | |||||||||||||
| 47/118 | fishpond 2.8.0 (landing page) | Michael Love | OK | OK | OK | |||||||||||||
| 48/118 | flowCore 2.14.1 (landing page) | Mike Jiang | OK | ERROR | skipped | |||||||||||||
| 49/118 | gcrma 2.74.0 (landing page) | Z. Wu | OK | OK | OK | |||||||||||||
| 50/118 | gdsfmt 1.38.0 (landing page) | Xiuwen Zheng | OK | OK | OK | |||||||||||||
| 51/118 | genefilter 1.84.0 (landing page) | Bioconductor Package Maintainer | OK | OK | WARNINGS | |||||||||||||
| 52/118 | geneplotter 1.80.0 (landing page) | Bioconductor Package Maintainer | OK | OK | OK | |||||||||||||
| 53/118 | GenomeInfoDb 1.38.7 (landing page) | Hervé Pagès | OK | OK | OK | |||||||||||||
| 54/118 | GenomicAlignments 1.38.2 (landing page) | Hervé Pagès | OK | OK | OK | |||||||||||||
| 55/118 | GenomicFeatures 1.54.3 (landing page) | H. Pagès | OK | ERROR | skipped | |||||||||||||
| 56/118 | GenomicRanges 1.54.1 (landing page) | Hervé Pagès | OK | OK | OK | |||||||||||||
| 57/118 | GEOquery 2.70.0 (landing page) | Sean Davis | OK | OK | OK | |||||||||||||
| 58/118 | ggbio 1.50.0 (landing page) | Michael Lawrence | OK | OK | WARNINGS | |||||||||||||
| 59/118 | ggtree 3.10.1 (landing page) | Guangchuang Yu | OK | OK | OK | |||||||||||||
| 60/118 | glmGamPoi 1.14.3 (landing page) | Constantin Ahlmann-Eltze | OK | OK | OK | |||||||||||||
| 61/118 | GOSemSim 2.28.1 (landing page) | Guangchuang Yu | ERROR | ERROR | skipped | |||||||||||||
| 62/118 | graph 1.80.0 (landing page) | Bioconductor Package Maintainer | OK | OK | OK | |||||||||||||
| 63/118 | Gviz 1.46.1 (landing page) | Robert Ivanek | OK | OK | OK | |||||||||||||
| 64/118 | HDF5Array 1.30.1 (landing page) | Hervé Pagès | OK | OK | OK | |||||||||||||
| 65/118 | illuminaio 0.44.0 (landing page) | Kasper Daniel Hansen | OK | OK | OK | |||||||||||||
| 66/118 | impute 1.76.0 (landing page) | Balasubramanian Narasimhan | OK | OK | OK | |||||||||||||
| 67/118 | interactiveDisplayBase 1.40.0 (landing page) | Bioconductor Package Maintainer | OK | OK | OK | |||||||||||||
| 68/118 | IRanges 2.36.0 (landing page) | Hervé Pagès | OK | OK | WARNINGS | |||||||||||||
| 69/118 | KEGGgraph 1.62.0 (landing page) | Jitao David Zhang | OK | OK | OK | |||||||||||||
| 70/118 | KEGGREST 1.42.0 (landing page) | Bioconductor Package Maintainer | OK | OK | OK | |||||||||||||
| 71/118 | limma 3.58.1 (landing page) | Gordon Smyth | OK | OK | OK | |||||||||||||
| 72/118 | MatrixGenerics 1.14.0 (landing page) | Peter Hickey | OK | OK | OK | |||||||||||||
| 73/118 | metapod 1.10.1 (landing page) | Aaron Lun | OK | OK | OK | |||||||||||||
| 74/118 | microRNA 1.60.0 (landing page) | "James F. Reid" | OK | OK | OK | |||||||||||||
| 75/118 | MsCoreUtils 1.14.1 (landing page) | RforMassSpectrometry Package Maintainer | OK | OK | ERROR | |||||||||||||
| 76/118 | MSnbase 2.28.1 (landing page) | Laurent Gatto | OK | OK | OK | |||||||||||||
| 77/118 | multtest 2.58.0 (landing page) | Katherine S. Pollard | OK | OK | WARNINGS | |||||||||||||
| 78/118 | mzID 1.40.0 (landing page) | Laurent Gatto | OK | OK | OK | |||||||||||||
| 79/118 | mzR 2.36.0 (landing page) | Steffen Neumann | OK | OK | WARNINGS | |||||||||||||
| 80/118 | OrganismDbi 1.44.0 (landing page) | Bioconductor Package Maintainer | OK | OK | OK | |||||||||||||
| 81/118 | pcaMethods 1.94.0 (landing page) | Henning Redestig | OK | OK | OK | |||||||||||||
| 82/118 | preprocessCore 1.64.0 (landing page) | Ben Bolstad | OK | OK | OK | |||||||||||||
| 83/118 | ProtGenerics 1.34.0 (landing page) | Laurent Gatto | OK | OK | WARNINGS | |||||||||||||
| 84/118 | qvalue 2.34.0 (landing page) | John D. Storey | OK | OK | OK | |||||||||||||
| 85/118 | RBGL 1.78.0 (landing page) | Bioconductor Package Maintainer | OK | OK | WARNINGS | |||||||||||||
| 86/118 | rBiopaxParser 2.42.0 (landing page) | Frank Kramer | OK | OK | OK | |||||||||||||
| 87/118 | Rdisop 1.62.0 (landing page) | Steffen Neumann | OK | OK | OK | |||||||||||||
| 88/118 | ResidualMatrix 1.12.0 (landing page) | Aaron Lun | OK | OK | OK | |||||||||||||
| 89/118 | Rgraphviz 2.46.0 (landing page) | Kasper Daniel Hansen | OK | OK | WARNINGS | |||||||||||||
| 90/118 | rhdf5 2.46.1 (landing page) | Mike Smith | OK | OK | OK | |||||||||||||
| 91/118 | rhdf5filters 1.14.1 (landing page) | Mike Smith | OK | OK | OK | |||||||||||||
| 92/118 | Rhdf5lib 1.24.2 (landing page) | Mike Smith | OK | OK | OK | |||||||||||||
| 93/118 | Rhtslib 2.4.1 (landing page) | Hervé Pagès | OK | OK | OK | |||||||||||||
| 94/118 | ROC 1.78.0 (landing page) | Vince Carey | OK | OK | OK | |||||||||||||
| 95/118 | RProtoBufLib 2.14.0 (landing page) | Mike Jiang | OK | OK | WARNINGS | |||||||||||||
| 96/118 | Rsamtools 2.18.0 (landing page) | Bioconductor Package Maintainer | OK | OK | WARNINGS | |||||||||||||
| 97/118 | Rsubread 2.16.1 (landing page) | Wei Shi | OK | OK | OK | |||||||||||||
| 98/118 | rtracklayer 1.62.0 (landing page) | Michael Lawrence | OK | OK | WARNINGS | |||||||||||||
| 99/118 | S4Arrays 1.2.1 (landing page) | Hervé Pagès | OK | OK | OK | |||||||||||||
| 100/118 | S4Vectors 0.40.2 (landing page) | Hervé Pagès | OK | OK | ERROR | |||||||||||||
| 101/118 | ScaledMatrix 1.10.0 (landing page) | Aaron Lun | OK | OK | OK | |||||||||||||
| 102/118 | scuttle 1.12.0 (landing page) | Aaron Lun | OK | OK | OK | |||||||||||||
| 103/118 | ShortRead 1.60.0 (landing page) | Bioconductor Package Maintainer | OK | OK | WARNINGS | |||||||||||||
| 104/118 | SingleCellExperiment 1.24.0 (landing page) | Davide Risso | OK | OK | OK | |||||||||||||
| 105/118 | snpStats 1.52.0 (landing page) | David Clayton | OK | OK | WARNINGS | |||||||||||||
| 106/118 | SparseArray 1.2.4 (landing page) | Hervé Pagès | OK | OK | OK | |||||||||||||
| 107/118 | sparseMatrixStats 1.14.0 (landing page) | Constantin Ahlmann-Eltze | OK | OK | OK | |||||||||||||
| 108/118 | SPIA 2.54.0 (landing page) | Adi Laurentiu Tarca | OK | OK | OK | |||||||||||||
| 109/118 | SummarizedExperiment 1.32.0 (landing page) | Hervé Pagès | OK | OK | OK | |||||||||||||
| 110/118 | treeio 1.26.0 (landing page) | Guangchuang Yu | OK | OK | OK | |||||||||||||
| 111/118 | tximeta 1.20.3 (landing page) | Michael Love | OK | OK | OK | |||||||||||||
| 112/118 | tximport 1.30.0 (landing page) | Michael Love | OK | OK | OK | |||||||||||||
| 113/118 | VariantAnnotation 1.48.1 (landing page) | Bioconductor Package Maintainer | OK | OK | OK | |||||||||||||
| 114/118 | vsn 3.70.0 (landing page) | Wolfgang Huber | OK | OK | OK | |||||||||||||
| 115/118 | widgetTools 1.80.0 (landing page) | Jianhua Zhang | OK | OK | OK | |||||||||||||
| 116/118 | XVector 0.42.0 (landing page) | Hervé Pagès | OK | OK | WARNINGS | |||||||||||||
| 117/118 | zellkonverter 1.12.1 (landing page) | Luke Zappia | OK | OK | OK | |||||||||||||
| 118/118 | zlibbioc 1.48.0 (landing page) | Bioconductor Package Maintainer | OK | OK | WARNINGS | |||||||||||||