| Back to Using R 4.1.3 to BUILD/CHECK a small subset of 3.18 packages | 
This page was generated on 2024-03-08 16:41:48 -0500 (Fri, 08 Mar 2024).
| Hostname | OS | Arch (*) | R version | Installed pkgs | 
|---|---|---|---|---|
| nebbiolo2 | Linux (Ubuntu 22.04.3 LTS) | x86_64 | 4.1.3 (2022-03-10) -- "One Push-Up" | 655 | 
| Click on any hostname to see more info about the system (e.g. compilers) (*) as reported by 'uname -p', except on Windows and Mac OS X | ||||
| Package 53/118 | Hostname | OS / Arch | INSTALL | BUILD | CHECK | BUILD BIN | |||||||
| GenomeInfoDb 1.38.7  (landing page) Hervé Pagès 
  | nebbiolo2 | Linux (Ubuntu 22.04.3 LTS) / x86_64 | OK | OK | OK | ||||||||
| 
To the developers/maintainers of the GenomeInfoDb package: - Use the following Renviron settings to reproduce errors and warnings. - If 'R CMD check' started to fail recently on the Linux builder(s) over a missing dependency, add the missing dependency to 'Suggests:' in your DESCRIPTION file. See Renviron.bioc for more information.  | 
| Package: GenomeInfoDb | 
| Version: 1.38.7 | 
| Command: /home/hpages/bbs-3.18-bioc-R41/R/bin/R CMD check --install=check:GenomeInfoDb.install-out.txt --library=/home/hpages/bbs-3.18-bioc-R41/R/site-library --timings GenomeInfoDb_1.38.7.tar.gz | 
| StartedAt: 2024-03-08 16:07:46 -0500 (Fri, 08 Mar 2024) | 
| EndedAt: 2024-03-08 16:18:39 -0500 (Fri, 08 Mar 2024) | 
| EllapsedTime: 653.0 seconds | 
| RetCode: 0 | 
| Status: OK | 
| CheckDir: GenomeInfoDb.Rcheck | 
| Warnings: 0 | 
##############################################################################
##############################################################################
###
### Running command:
###
###   /home/hpages/bbs-3.18-bioc-R41/R/bin/R CMD check --install=check:GenomeInfoDb.install-out.txt --library=/home/hpages/bbs-3.18-bioc-R41/R/site-library --timings GenomeInfoDb_1.38.7.tar.gz
###
##############################################################################
##############################################################################
* using log directory ‘/home/hpages/bbs-3.18-bioc-R41/meat/GenomeInfoDb.Rcheck’
* using R version 4.1.3 (2022-03-10)
* using platform: x86_64-pc-linux-gnu (64-bit)
* using session charset: UTF-8
* checking for file ‘GenomeInfoDb/DESCRIPTION’ ... OK
* this is package ‘GenomeInfoDb’ version ‘1.38.7’
* package encoding: UTF-8
* checking package namespace information ... OK
* checking package dependencies ... OK
* checking if this is a source package ... OK
* checking if there is a namespace ... OK
* checking for hidden files and directories ... OK
* checking for portable file names ... OK
* checking for sufficient/correct file permissions ... OK
* checking whether package ‘GenomeInfoDb’ can be installed ... OK
* checking installed package size ... NOTE
  installed size is  5.3Mb
  sub-directories of 1Mb or more:
    extdata   3.7Mb
* checking package directory ... OK
* checking ‘build’ directory ... OK
* checking DESCRIPTION meta-information ... OK
* checking top-level files ... OK
* checking for left-over files ... OK
* checking index information ... OK
* checking package subdirectories ... OK
* checking R files for non-ASCII characters ... OK
* checking R files for syntax errors ... OK
* checking whether the package can be loaded ... OK
* checking whether the package can be loaded with stated dependencies ... OK
* checking whether the package can be unloaded cleanly ... OK
* checking whether the namespace can be loaded with stated dependencies ... OK
* checking whether the namespace can be unloaded cleanly ... OK
* checking loading without being on the library search path ... OK
* checking dependencies in R code ... NOTE
Unexported object imported by a ':::' call: ‘utils:::.roman2numeric’
  See the note in ?`:::` about the use of this operator.
* checking S3 generic/method consistency ... OK
* checking replacement functions ... OK
* checking foreign function calls ... OK
* checking R code for possible problems ... OK
* checking Rd files ... OK
* checking Rd metadata ... OK
* checking Rd cross-references ... OK
* checking for missing documentation entries ... OK
* checking for code/documentation mismatches ... OK
* checking Rd \usage sections ... OK
* checking Rd contents ... OK
* checking for unstated dependencies in examples ... OK
* checking files in ‘vignettes’ ... OK
* checking examples ... OK
Examples with CPU (user + system) or elapsed time > 5s
                          user system elapsed
loadTaxonomyDb          11.174  0.368  11.548
GenomeDescription-class  8.925  0.339   9.266
seqlevelsStyle           3.494  0.312   6.966
getChromInfoFromEnsembl  1.055  0.159  47.189
* checking for unstated dependencies in ‘tests’ ... OK
* checking tests ...
  Running ‘run_unitTests.R’
 OK
* checking for unstated dependencies in vignettes ... OK
* checking package vignettes in ‘inst/doc’ ... OK
* checking running R code from vignettes ...
  ‘Accept-organism-for-GenomeInfoDb.Rmd’ using ‘UTF-8’... OK
  ‘GenomeInfoDb.Rnw’ using ‘UTF-8’... OK
 NONE
* checking re-building of vignette outputs ... OK
* checking PDF version of manual ... OK
* DONE
Status: 2 NOTEs
See
  ‘/home/hpages/bbs-3.18-bioc-R41/meat/GenomeInfoDb.Rcheck/00check.log’
for details.
GenomeInfoDb.Rcheck/00install.out
############################################################################## ############################################################################## ### ### Running command: ### ### /home/hpages/bbs-3.18-bioc-R41/R/bin/R CMD INSTALL GenomeInfoDb ### ############################################################################## ############################################################################## * installing to library ‘/home/hpages/bbs-3.18-bioc-R41/R/site-library’ * installing *source* package ‘GenomeInfoDb’ ... ** using staged installation ** R ** inst ** byte-compile and prepare package for lazy loading ** help *** installing help indices ** building package indices ** installing vignettes ** testing if installed package can be loaded from temporary location ** testing if installed package can be loaded from final location ** testing if installed package keeps a record of temporary installation path * DONE (GenomeInfoDb)
GenomeInfoDb.Rcheck/tests/run_unitTests.Rout
R version 4.1.3 (2022-03-10) -- "One Push-Up"
Copyright (C) 2022 The R Foundation for Statistical Computing
Platform: x86_64-pc-linux-gnu (64-bit)
R is free software and comes with ABSOLUTELY NO WARRANTY.
You are welcome to redistribute it under certain conditions.
Type 'license()' or 'licence()' for distribution details.
R is a collaborative project with many contributors.
Type 'contributors()' for more information and
'citation()' on how to cite R or R packages in publications.
Type 'demo()' for some demos, 'help()' for on-line help, or
'help.start()' for an HTML browser interface to help.
Type 'q()' to quit R.
> require("GenomeInfoDb") || stop("unable to load GenomeInfoDb package")
Loading required package: GenomeInfoDb
Loading required package: BiocGenerics
Attaching package: 'BiocGenerics'
The following objects are masked from 'package:stats':
    IQR, mad, sd, var, xtabs
The following objects are masked from 'package:base':
    Filter, Find, Map, Position, Reduce, anyDuplicated, aperm, append,
    as.data.frame, basename, cbind, colnames, dirname, do.call,
    duplicated, eval, evalq, get, grep, grepl, intersect, is.unsorted,
    lapply, mapply, match, mget, order, paste, pmax, pmax.int, pmin,
    pmin.int, rank, rbind, rownames, sapply, setdiff, sort, table,
    tapply, union, unique, unsplit, which.max, which.min
Loading required package: S4Vectors
Loading required package: stats4
Attaching package: 'S4Vectors'
The following objects are masked from 'package:base':
    I, expand.grid, unname
Loading required package: IRanges
[1] TRUE
> GenomeInfoDb:::.test()
RUNIT TEST PROTOCOL -- Fri Mar  8 16:18:13 2024 
*********************************************** 
Number of test functions: 21 
Number of errors: 0 
Number of failures: 0 
 
1 Test Suite : 
GenomeInfoDb RUnit Tests - 21 test functions, 0 errors, 0 failures
Number of test functions: 21 
Number of errors: 0 
Number of failures: 0 
There were 50 or more warnings (use warnings() to see the first 50)
> 
> proc.time()
   user  system elapsed 
401.080   5.250 480.047 
GenomeInfoDb.Rcheck/GenomeInfoDb-Ex.timings
| name | user | system | elapsed | |
| GenomeDescription-class | 8.925 | 0.339 | 9.266 | |
| NCBI-utils | 0.251 | 0.009 | 1.339 | |
| Seqinfo-class | 0.383 | 0.000 | 0.383 | |
| getChromInfoFromEnsembl | 1.055 | 0.159 | 47.189 | |
| getChromInfoFromNCBI | 0.720 | 0.042 | 1.674 | |
| getChromInfoFromUCSC | 1.429 | 0.064 | 2.874 | |
| loadTaxonomyDb | 11.174 | 0.368 | 11.548 | |
| mapGenomeBuilds | 0.044 | 0.000 | 0.044 | |
| rankSeqlevels | 0.136 | 0.000 | 0.136 | |
| seqinfo | 3.881 | 0.178 | 4.071 | |
| seqlevels-wrappers | 4.394 | 0.243 | 4.638 | |
| seqlevelsStyle | 3.494 | 0.312 | 6.966 | |