| Back to Using R 4.1.3 to BUILD/CHECK a small subset of 3.18 packages | 
This page was generated on 2024-03-08 16:41:48 -0500 (Fri, 08 Mar 2024).
| Hostname | OS | Arch (*) | R version | Installed pkgs | 
|---|---|---|---|---|
| nebbiolo2 | Linux (Ubuntu 22.04.3 LTS) | x86_64 | 4.1.3 (2022-03-10) -- "One Push-Up" | 655 | 
| Click on any hostname to see more info about the system (e.g. compilers) (*) as reported by 'uname -p', except on Windows and Mac OS X | ||||
| Package 98/118 | Hostname | OS / Arch | INSTALL | BUILD | CHECK | BUILD BIN | |||||||
| rtracklayer 1.62.0  (landing page) Michael Lawrence 
  | nebbiolo2 | Linux (Ubuntu 22.04.3 LTS) / x86_64 | OK | OK | WARNINGS | ||||||||
| 
To the developers/maintainers of the rtracklayer package: - Use the following Renviron settings to reproduce errors and warnings. - If 'R CMD check' started to fail recently on the Linux builder(s) over a missing dependency, add the missing dependency to 'Suggests:' in your DESCRIPTION file. See Renviron.bioc for more information.  | 
| Package: rtracklayer | 
| Version: 1.62.0 | 
| Command: /home/hpages/bbs-3.18-bioc-R41/R/bin/R CMD build --keep-empty-dirs --no-resave-data rtracklayer | 
| StartedAt: 2024-03-08 15:49:47 -0500 (Fri, 08 Mar 2024) | 
| EndedAt: 2024-03-08 15:51:29 -0500 (Fri, 08 Mar 2024) | 
| EllapsedTime: 101.9 seconds | 
| RetCode: 0 | 
| Status: OK | 
| PackageFile: rtracklayer_1.62.0.tar.gz | 
| PackageFileSize: 3.872 MiB | 
##############################################################################
##############################################################################
###
### Running command:
###
###   /home/hpages/bbs-3.18-bioc-R41/R/bin/R CMD build --keep-empty-dirs --no-resave-data rtracklayer
###
##############################################################################
##############################################################################
* checking for file ‘rtracklayer/DESCRIPTION’ ... OK
* preparing ‘rtracklayer’:
* checking DESCRIPTION meta-information ... OK
* cleaning src
* installing the package to build vignettes
* creating vignettes ... OK
* cleaning src
* checking for LF line-endings in source and make files and shell scripts
* checking for empty or unneeded directories
* looking to see if a ‘data/datalist’ file should be added
  NB: this package now depends on R (>= 3.5.0)
  WARNING: Added dependency on R >= 3.5.0 because serialized objects in
  serialize/load version 3 cannot be read in older versions of R.
  File(s) containing such objects:
    ‘rtracklayer/data/cpneTrack.rda’
* building ‘rtracklayer_1.62.0.tar.gz’
Warning in sprintf(gettext(fmt, domain = domain), ...) :
  one argument not used by format 'invalid uid value replaced by that for user 'nobody''
Warning: invalid uid value replaced by that for user 'nobody'
Warning in sprintf(gettext(fmt, domain = domain), ...) :
  one argument not used by format 'invalid gid value replaced by that for user 'nobody''
Warning: invalid gid value replaced by that for user 'nobody'