Back to Using R 4.1.3 to BUILD/CHECK a small subset of 3.18 packages |
This page was generated on 2024-03-08 16:41:48 -0500 (Fri, 08 Mar 2024).
Hostname | OS | Arch (*) | R version | Installed pkgs |
---|---|---|---|---|
nebbiolo2 | Linux (Ubuntu 22.04.3 LTS) | x86_64 | 4.1.3 (2022-03-10) -- "One Push-Up" | 655 |
Click on any hostname to see more info about the system (e.g. compilers) (*) as reported by 'uname -p', except on Windows and Mac OS X |
Package 71/118 | Hostname | OS / Arch | INSTALL | BUILD | CHECK | BUILD BIN | |||||||
limma 3.58.1 (landing page) Gordon Smyth
| nebbiolo2 | Linux (Ubuntu 22.04.3 LTS) / x86_64 | OK | OK | OK | ||||||||
To the developers/maintainers of the limma package: - Use the following Renviron settings to reproduce errors and warnings. - If 'R CMD check' started to fail recently on the Linux builder(s) over a missing dependency, add the missing dependency to 'Suggests:' in your DESCRIPTION file. See Renviron.bioc for more information. |
Package: limma |
Version: 3.58.1 |
Command: /home/hpages/bbs-3.18-bioc-R41/R/bin/R CMD build --keep-empty-dirs --no-resave-data limma |
StartedAt: 2024-03-08 15:46:44 -0500 (Fri, 08 Mar 2024) |
EndedAt: 2024-03-08 15:47:11 -0500 (Fri, 08 Mar 2024) |
EllapsedTime: 27.0 seconds |
RetCode: 0 |
Status: OK |
PackageFile: limma_3.58.1.tar.gz |
PackageFileSize: 2.833 MiB |
############################################################################## ############################################################################## ### ### Running command: ### ### /home/hpages/bbs-3.18-bioc-R41/R/bin/R CMD build --keep-empty-dirs --no-resave-data limma ### ############################################################################## ############################################################################## * checking for file ‘limma/DESCRIPTION’ ... OK * preparing ‘limma’: * checking DESCRIPTION meta-information ... OK * cleaning src * installing the package to process help pages * saving partial Rd database * creating vignettes ... OK * cleaning src * checking for LF line-endings in source and make files and shell scripts * checking for empty or unneeded directories * building ‘limma_3.58.1.tar.gz’ Warning in sprintf(gettext(fmt, domain = domain), ...) : one argument not used by format 'invalid uid value replaced by that for user 'nobody'' Warning: invalid uid value replaced by that for user 'nobody' Warning in sprintf(gettext(fmt, domain = domain), ...) : one argument not used by format 'invalid gid value replaced by that for user 'nobody'' Warning: invalid gid value replaced by that for user 'nobody'