| Back to Using R 4.1.3 to BUILD/CHECK a small subset of 3.18 packages |
This page was generated on 2024-03-08 16:41:48 -0500 (Fri, 08 Mar 2024).
| Hostname | OS | Arch (*) | R version | Installed pkgs |
|---|---|---|---|---|
| nebbiolo2 | Linux (Ubuntu 22.04.3 LTS) | x86_64 | 4.1.3 (2022-03-10) -- "One Push-Up" | 655 |
| Click on any hostname to see more info about the system (e.g. compilers) (*) as reported by 'uname -p', except on Windows and Mac OS X | ||||
| Package 111/118 | Hostname | OS / Arch | INSTALL | BUILD | CHECK | BUILD BIN | |||||||
| tximeta 1.20.3 (landing page) Michael Love
| nebbiolo2 | Linux (Ubuntu 22.04.3 LTS) / x86_64 | OK | OK | OK | ||||||||
|
To the developers/maintainers of the tximeta package: - Use the following Renviron settings to reproduce errors and warnings. - If 'R CMD check' started to fail recently on the Linux builder(s) over a missing dependency, add the missing dependency to 'Suggests:' in your DESCRIPTION file. See Renviron.bioc for more information. |
| Package: tximeta |
| Version: 1.20.3 |
| Command: /home/hpages/bbs-3.18-bioc-R41/R/bin/R CMD build --keep-empty-dirs --no-resave-data tximeta |
| StartedAt: 2024-03-08 15:52:00 -0500 (Fri, 08 Mar 2024) |
| EndedAt: 2024-03-08 15:53:32 -0500 (Fri, 08 Mar 2024) |
| EllapsedTime: 91.6 seconds |
| RetCode: 0 |
| Status: OK |
| PackageFile: tximeta_1.20.3.tar.gz |
| PackageFileSize: 1.605 MiB |
############################################################################## ############################################################################## ### ### Running command: ### ### /home/hpages/bbs-3.18-bioc-R41/R/bin/R CMD build --keep-empty-dirs --no-resave-data tximeta ### ############################################################################## ############################################################################## * checking for file ‘tximeta/DESCRIPTION’ ... OK * preparing ‘tximeta’: * checking DESCRIPTION meta-information ... OK * installing the package to build vignettes * creating vignettes ... OK * checking for LF line-endings in source and make files and shell scripts * checking for empty or unneeded directories * building ‘tximeta_1.20.3.tar.gz’ Warning in sprintf(gettext(fmt, domain = domain), ...) : one argument not used by format 'invalid uid value replaced by that for user 'nobody'' Warning: invalid uid value replaced by that for user 'nobody' Warning in sprintf(gettext(fmt, domain = domain), ...) : one argument not used by format 'invalid gid value replaced by that for user 'nobody'' Warning: invalid gid value replaced by that for user 'nobody'