Back to Using R 4.1.3 to BUILD/CHECK a small subset of 3.18 packages

This page was generated on 2024-03-08 16:41:47 -0500 (Fri, 08 Mar 2024).

HostnameOSArch (*)R versionInstalled pkgs
nebbiolo2Linux (Ubuntu 22.04.3 LTS)x86_644.1.3 (2022-03-10) -- "One Push-Up" 655
Click on any hostname to see more info about the system (e.g. compilers)      (*) as reported by 'uname -p', except on Windows and Mac OS X

Package 11/118HostnameOS / ArchINSTALLBUILDCHECKBUILD BIN
basilisk 1.14.3  (landing page)
Aaron Lun
Snapshot Date: 2024-03-08 15:25:35 -0500 (Fri, 08 Mar 2024)
git_url: https://git.bioconductor.org/packages/basilisk
git_branch: RELEASE_3_18
git_last_commit: 6412875
git_last_commit_date: 2024-02-17 16:37:02 -0500 (Sat, 17 Feb 2024)
nebbiolo2Linux (Ubuntu 22.04.3 LTS) / x86_64  OK    OK    OK  

INSTALL results for basilisk on nebbiolo2


To the developers/maintainers of the basilisk package:
- Use the following Renviron settings to reproduce errors and warnings.
- If 'R CMD check' started to fail recently on the Linux builder(s) over a missing dependency, add the missing dependency to 'Suggests:' in your DESCRIPTION file. See Renviron.bioc for more information.

raw results


Summary

Package: basilisk
Version: 1.14.3
Command: /home/hpages/bbs-3.18-bioc-R41/R/bin/R CMD INSTALL basilisk
StartedAt: 2024-03-08 15:28:33 -0500 (Fri, 08 Mar 2024)
EndedAt: 2024-03-08 15:28:38 -0500 (Fri, 08 Mar 2024)
EllapsedTime: 5.0 seconds
RetCode: 0
Status:   OK  

Command output

##############################################################################
##############################################################################
###
### Running command:
###
###   /home/hpages/bbs-3.18-bioc-R41/R/bin/R CMD INSTALL basilisk
###
##############################################################################
##############################################################################


* installing to library ‘/home/hpages/bbs-3.18-bioc-R41/R/site-library’
* installing *source* package ‘basilisk’ ...
** using non-staged installation via StagedInstall field
** R
** inst
** byte-compile and prepare package for lazy loading
** help
*** installing help indices
** building package indices
** installing vignettes
** testing if installed package can be loaded
* DONE (basilisk)