Back to Using R 4.1.3 to BUILD/CHECK a small subset of 3.18 packages

This page was generated on 2024-03-08 16:41:47 -0500 (Fri, 08 Mar 2024).

HostnameOSArch (*)R versionInstalled pkgs
nebbiolo2Linux (Ubuntu 22.04.3 LTS)x86_644.1.3 (2022-03-10) -- "One Push-Up" 655
Click on any hostname to see more info about the system (e.g. compilers)      (*) as reported by 'uname -p', except on Windows and Mac OS X

Package 6/118HostnameOS / ArchINSTALLBUILDCHECKBUILD BIN
AnnotationDbi 1.64.1  (landing page)
Bioconductor Package Maintainer
Snapshot Date: 2024-03-08 15:25:35 -0500 (Fri, 08 Mar 2024)
git_url: https://git.bioconductor.org/packages/AnnotationDbi
git_branch: RELEASE_3_18
git_last_commit: e5b997e
git_last_commit_date: 2023-11-01 17:02:57 -0500 (Wed, 01 Nov 2023)
nebbiolo2Linux (Ubuntu 22.04.3 LTS) / x86_64  OK    OK    OK  

BUILD results for AnnotationDbi on nebbiolo2


To the developers/maintainers of the AnnotationDbi package:
- Use the following Renviron settings to reproduce errors and warnings.
- If 'R CMD check' started to fail recently on the Linux builder(s) over a missing dependency, add the missing dependency to 'Suggests:' in your DESCRIPTION file. See Renviron.bioc for more information.

raw results


Summary

Package: AnnotationDbi
Version: 1.64.1
Command: /home/hpages/bbs-3.18-bioc-R41/R/bin/R CMD build --keep-empty-dirs --no-resave-data AnnotationDbi
StartedAt: 2024-03-08 15:41:31 -0500 (Fri, 08 Mar 2024)
EndedAt: 2024-03-08 15:42:35 -0500 (Fri, 08 Mar 2024)
EllapsedTime: 63.7 seconds
RetCode: 0
Status:   OK  
PackageFile: AnnotationDbi_1.64.1.tar.gz
PackageFileSize: 4.158 MiB

Command output

##############################################################################
##############################################################################
###
### Running command:
###
###   /home/hpages/bbs-3.18-bioc-R41/R/bin/R CMD build --keep-empty-dirs --no-resave-data AnnotationDbi
###
##############################################################################
##############################################################################


* checking for file ‘AnnotationDbi/DESCRIPTION’ ... OK
* preparing ‘AnnotationDbi’:
* checking DESCRIPTION meta-information ... OK
* installing the package to build vignettes
* creating vignettes ... OK
* checking for LF line-endings in source and make files and shell scripts
* checking for empty or unneeded directories
* building ‘AnnotationDbi_1.64.1.tar.gz’
Warning in sprintf(gettext(fmt, domain = domain), ...) :
  one argument not used by format 'invalid uid value replaced by that for user 'nobody''
Warning: invalid uid value replaced by that for user 'nobody'
Warning in sprintf(gettext(fmt, domain = domain), ...) :
  one argument not used by format 'invalid gid value replaced by that for user 'nobody''
Warning: invalid gid value replaced by that for user 'nobody'