| Back to Using R 4.1.3 to BUILD/CHECK a small subset of 3.18 packages | 
This page was generated on 2024-03-08 16:41:47 -0500 (Fri, 08 Mar 2024).
| Hostname | OS | Arch (*) | R version | Installed pkgs | 
|---|---|---|---|---|
| nebbiolo2 | Linux (Ubuntu 22.04.3 LTS) | x86_64 | 4.1.3 (2022-03-10) -- "One Push-Up" | 655 | 
| Click on any hostname to see more info about the system (e.g. compilers) (*) as reported by 'uname -p', except on Windows and Mac OS X | ||||
| Package 24/118 | Hostname | OS / Arch | INSTALL | BUILD | CHECK | BUILD BIN | |||||||
| BiocVersion 3.18.1  (landing page) Bioconductor Package Maintainer 
  | nebbiolo2 | Linux (Ubuntu 22.04.3 LTS) / x86_64 | OK | OK | OK | ||||||||
| 
To the developers/maintainers of the BiocVersion package: - Use the following Renviron settings to reproduce errors and warnings. - If 'R CMD check' started to fail recently on the Linux builder(s) over a missing dependency, add the missing dependency to 'Suggests:' in your DESCRIPTION file. See Renviron.bioc for more information.  | 
| Package: BiocVersion | 
| Version: 3.18.1 | 
| Command: /home/hpages/bbs-3.18-bioc-R41/R/bin/R CMD build --keep-empty-dirs --no-resave-data BiocVersion | 
| StartedAt: 2024-03-08 15:41:50 -0500 (Fri, 08 Mar 2024) | 
| EndedAt: 2024-03-08 15:41:51 -0500 (Fri, 08 Mar 2024) | 
| EllapsedTime: 1.0 seconds | 
| RetCode: 0 | 
| Status: OK | 
| PackageFile: BiocVersion_3.18.1.tar.gz | 
| PackageFileSize: 984 bytes | 
############################################################################## ############################################################################## ### ### Running command: ### ### /home/hpages/bbs-3.18-bioc-R41/R/bin/R CMD build --keep-empty-dirs --no-resave-data BiocVersion ### ############################################################################## ############################################################################## * checking for file ‘BiocVersion/DESCRIPTION’ ... OK * preparing ‘BiocVersion’: * checking DESCRIPTION meta-information ... OK * checking for LF line-endings in source and make files and shell scripts * checking for empty or unneeded directories Omitted ‘LazyData’ from DESCRIPTION * creating default NAMESPACE file * building ‘BiocVersion_3.18.1.tar.gz’ Warning in sprintf(gettext(fmt, domain = domain), ...) : one argument not used by format 'invalid uid value replaced by that for user 'nobody'' Warning: invalid uid value replaced by that for user 'nobody' Warning in sprintf(gettext(fmt, domain = domain), ...) : one argument not used by format 'invalid gid value replaced by that for user 'nobody'' Warning: invalid gid value replaced by that for user 'nobody'