Back to Using R 4.1.3 to BUILD/CHECK a small subset of 3.18 packages |
This page was generated on 2024-03-08 16:41:48 -0500 (Fri, 08 Mar 2024).
Hostname | OS | Arch (*) | R version | Installed pkgs |
---|---|---|---|---|
nebbiolo2 | Linux (Ubuntu 22.04.3 LTS) | x86_64 | 4.1.3 (2022-03-10) -- "One Push-Up" | 655 |
Click on any hostname to see more info about the system (e.g. compilers) (*) as reported by 'uname -p', except on Windows and Mac OS X |
Package 105/118 | Hostname | OS / Arch | INSTALL | BUILD | CHECK | BUILD BIN | |||||||
snpStats 1.52.0 (landing page) David Clayton
| nebbiolo2 | Linux (Ubuntu 22.04.3 LTS) / x86_64 | OK | OK | WARNINGS | ||||||||
To the developers/maintainers of the snpStats package: - Use the following Renviron settings to reproduce errors and warnings. - If 'R CMD check' started to fail recently on the Linux builder(s) over a missing dependency, add the missing dependency to 'Suggests:' in your DESCRIPTION file. See Renviron.bioc for more information. |
Package: snpStats |
Version: 1.52.0 |
Command: /home/hpages/bbs-3.18-bioc-R41/R/bin/R CMD check --install=check:snpStats.install-out.txt --library=/home/hpages/bbs-3.18-bioc-R41/R/site-library --timings snpStats_1.52.0.tar.gz |
StartedAt: 2024-03-08 16:16:57 -0500 (Fri, 08 Mar 2024) |
EndedAt: 2024-03-08 16:19:52 -0500 (Fri, 08 Mar 2024) |
EllapsedTime: 175.3 seconds |
RetCode: 0 |
Status: WARNINGS |
CheckDir: snpStats.Rcheck |
Warnings: 1 |
############################################################################## ############################################################################## ### ### Running command: ### ### /home/hpages/bbs-3.18-bioc-R41/R/bin/R CMD check --install=check:snpStats.install-out.txt --library=/home/hpages/bbs-3.18-bioc-R41/R/site-library --timings snpStats_1.52.0.tar.gz ### ############################################################################## ############################################################################## * using log directory ‘/home/hpages/bbs-3.18-bioc-R41/meat/snpStats.Rcheck’ * using R version 4.1.3 (2022-03-10) * using platform: x86_64-pc-linux-gnu (64-bit) * using session charset: UTF-8 * checking for file ‘snpStats/DESCRIPTION’ ... OK * this is package ‘snpStats’ version ‘1.52.0’ * checking package namespace information ... OK * checking package dependencies ... OK * checking if this is a source package ... OK * checking if there is a namespace ... OK * checking for hidden files and directories ... OK * checking for portable file names ... OK * checking for sufficient/correct file permissions ... OK * checking whether package ‘snpStats’ can be installed ... WARNING Found the following significant warnings: /usr/include/x86_64-linux-gnu/bits/string_fortified.h:95:10: warning: ‘__builtin_strncpy’ output may be truncated copying 127 bytes from a string of length 127 [-Wstringop-truncation] readped.c:234:33: warning: ‘%d’ directive output may be truncated writing between 1 and 11 bytes into a region of size between 0 and 127 [-Wformat-truncation=] testBig.c:31:27: warning: ‘%d’ directive writing between 1 and 10 bytes into a region of size 9 [-Wformat-overflow=] See ‘/home/hpages/bbs-3.18-bioc-R41/meat/snpStats.Rcheck/00install.out’ for details. * checking installed package size ... NOTE installed size is 6.1Mb sub-directories of 1Mb or more: data 4.1Mb * checking package directory ... OK * checking ‘build’ directory ... OK * checking DESCRIPTION meta-information ... OK * checking top-level files ... OK * checking for left-over files ... OK * checking index information ... OK * checking package subdirectories ... OK * checking R files for non-ASCII characters ... OK * checking R files for syntax errors ... OK * checking whether the package can be loaded ... OK * checking whether the package can be loaded with stated dependencies ... OK * checking whether the package can be unloaded cleanly ... OK * checking whether the namespace can be loaded with stated dependencies ... OK * checking whether the namespace can be unloaded cleanly ... OK * checking loading without being on the library search path ... OK * checking dependencies in R code ... OK * checking S3 generic/method consistency ... OK * checking replacement functions ... OK * checking foreign function calls ... OK * checking R code for possible problems ... OK * checking Rd files ... OK * checking Rd metadata ... OK * checking Rd cross-references ... OK * checking for missing documentation entries ... OK * checking for code/documentation mismatches ... OK * checking Rd \usage sections ... OK * checking Rd contents ... OK * checking for unstated dependencies in examples ... OK * checking contents of ‘data’ directory ... OK * checking data for non-ASCII characters ... OK * checking data for ASCII and uncompressed saves ... OK * checking line endings in C/C++/Fortran sources/headers ... OK * checking line endings in Makefiles ... OK * checking compilation flags in Makevars ... OK * checking for GNU extensions in Makefiles ... OK * checking for portable use of $(BLAS_LIBS) and $(LAPACK_LIBS) ... OK * checking use of PKG_*FLAGS in Makefiles ... OK * checking compiled code ... NOTE Note: information on .o files is not available File ‘/home/hpages/bbs-3.18-bioc-R41/R/site-library/snpStats/libs/snpStats.so’: Found ‘rand’, possibly from ‘rand’ (C) File ‘snpStats/libs/snpStats.so’: Found non-API call to R: ‘R_data_class’ Compiled code should not call entry points which might terminate R nor write to stdout/stderr instead of to the console, nor use Fortran I/O nor system RNGs. The detected symbols are linked into the code but might come from libraries and not actually be called. Compiled code should not call non-API entry points in R. See ‘Writing portable packages’ in the ‘Writing R Extensions’ manual. * checking files in ‘vignettes’ ... OK * checking examples ... OK * checking for unstated dependencies in vignettes ... OK * checking package vignettes in ‘inst/doc’ ... OK * checking running R code from vignettes ... ‘Fst-vignette.Rnw’... OK ‘data-input-vignette.Rnw’... OK ‘differences.Rnw’... OK ‘imputation-vignette.Rnw’... OK ‘ld-vignette.Rnw’... OK ‘pca-vignette.Rnw’... OK ‘snpStats-vignette.Rnw’... OK ‘tdt-vignette.Rnw’... OK OK * checking re-building of vignette outputs ... OK * checking PDF version of manual ... OK * DONE Status: 1 WARNING, 2 NOTEs See ‘/home/hpages/bbs-3.18-bioc-R41/meat/snpStats.Rcheck/00check.log’ for details.
snpStats.Rcheck/00install.out
############################################################################## ############################################################################## ### ### Running command: ### ### /home/hpages/bbs-3.18-bioc-R41/R/bin/R CMD INSTALL snpStats ### ############################################################################## ############################################################################## * installing to library ‘/home/hpages/bbs-3.18-bioc-R41/R/site-library’ * installing *source* package ‘snpStats’ ... ** using staged installation ** libs gcc -I"/home/hpages/bbs-3.18-bioc-R41/R/include" -DNDEBUG -I/usr/local/include -fpic -g -O2 -Wall -c Runcertain.c -o Runcertain.o gcc -I"/home/hpages/bbs-3.18-bioc-R41/R/include" -DNDEBUG -I/usr/local/include -fpic -g -O2 -Wall -c bind.c -o bind.o gcc -I"/home/hpages/bbs-3.18-bioc-R41/R/include" -DNDEBUG -I/usr/local/include -fpic -g -O2 -Wall -c count_gt.c -o count_gt.o gcc -I"/home/hpages/bbs-3.18-bioc-R41/R/include" -DNDEBUG -I/usr/local/include -fpic -g -O2 -Wall -c covwin.c -o covwin.o gcc -I"/home/hpages/bbs-3.18-bioc-R41/R/include" -DNDEBUG -I/usr/local/include -fpic -g -O2 -Wall -c force_hom.c -o force_hom.o gcc -I"/home/hpages/bbs-3.18-bioc-R41/R/include" -DNDEBUG -I/usr/local/include -fpic -g -O2 -Wall -c fst.c -o fst.o gcc -I"/home/hpages/bbs-3.18-bioc-R41/R/include" -DNDEBUG -I/usr/local/include -fpic -g -O2 -Wall -c glm_test.c -o glm_test.o gcc -I"/home/hpages/bbs-3.18-bioc-R41/R/include" -DNDEBUG -I/usr/local/include -fpic -g -O2 -Wall -c glm_test_R.c -o glm_test_R.o glm_test_R.c: In function ‘snp_rhs_score’: glm_test_R.c:368:7: warning: unused variable ‘max_name_length’ [-Wunused-variable] 368 | int max_name_length = MAX_NAME_LENGTH -1; | ^~~~~~~~~~~~~~~ gcc -I"/home/hpages/bbs-3.18-bioc-R41/R/include" -DNDEBUG -I/usr/local/include -fpic -g -O2 -Wall -c hash_index.c -o hash_index.o gcc -I"/home/hpages/bbs-3.18-bioc-R41/R/include" -DNDEBUG -I/usr/local/include -fpic -g -O2 -Wall -c hphase.c -o hphase.o gcc -I"/home/hpages/bbs-3.18-bioc-R41/R/include" -DNDEBUG -I/usr/local/include -fpic -g -O2 -Wall -c imputation.c -o imputation.o gcc -I"/home/hpages/bbs-3.18-bioc-R41/R/include" -DNDEBUG -I/usr/local/include -fpic -g -O2 -Wall -c in.c -o in.o gcc -I"/home/hpages/bbs-3.18-bioc-R41/R/include" -DNDEBUG -I/usr/local/include -fpic -g -O2 -Wall -c input.c -o input.o In file included from /usr/include/string.h:535, from input.c:6: In function ‘strncpy’, inlined from ‘simplify_names’ at input.c:788:5: /usr/include/x86_64-linux-gnu/bits/string_fortified.h:95:10: warning: ‘__builtin_strncpy’ output may be truncated copying 127 bytes from a string of length 127 [-Wstringop-truncation] 95 | return __builtin___strncpy_chk (__dest, __src, __len, | ^~~~~~~~~~~~~~~~~~~~~~~~~~~~~~~~~~~~~~~~~~~~~~ 96 | __glibc_objsize (__dest)); | ~~~~~~~~~~~~~~~~~~~~~~~~~ In function ‘strncpy’, inlined from ‘insnp_new’ at input.c:442:4: /usr/include/x86_64-linux-gnu/bits/string_fortified.h:95:10: warning: ‘__builtin_strncpy’ output may be truncated copying 127 bytes from a string of length 127 [-Wstringop-truncation] 95 | return __builtin___strncpy_chk (__dest, __src, __len, | ^~~~~~~~~~~~~~~~~~~~~~~~~~~~~~~~~~~~~~~~~~~~~~ 96 | __glibc_objsize (__dest)); | ~~~~~~~~~~~~~~~~~~~~~~~~~ In function ‘strncpy’, inlined from ‘insnp_new’ at input.c:438:4: /usr/include/x86_64-linux-gnu/bits/string_fortified.h:95:10: warning: ‘__builtin_strncpy’ output may be truncated copying 127 bytes from a string of length 127 [-Wstringop-truncation] 95 | return __builtin___strncpy_chk (__dest, __src, __len, | ^~~~~~~~~~~~~~~~~~~~~~~~~~~~~~~~~~~~~~~~~~~~~~ 96 | __glibc_objsize (__dest)); | ~~~~~~~~~~~~~~~~~~~~~~~~~ In function ‘strncpy’, inlined from ‘insnp_new’ at input.c:435:4: /usr/include/x86_64-linux-gnu/bits/string_fortified.h:95:10: warning: ‘__builtin_strncpy’ output may be truncated copying 127 bytes from a string of length 127 [-Wstringop-truncation] 95 | return __builtin___strncpy_chk (__dest, __src, __len, | ^~~~~~~~~~~~~~~~~~~~~~~~~~~~~~~~~~~~~~~~~~~~~~ 96 | __glibc_objsize (__dest)); | ~~~~~~~~~~~~~~~~~~~~~~~~~ In function ‘strncpy’, inlined from ‘insnp_new’ at input.c:432:4: /usr/include/x86_64-linux-gnu/bits/string_fortified.h:95:10: warning: ‘__builtin_strncpy’ output may be truncated copying 127 bytes from a string of length 127 [-Wstringop-truncation] 95 | return __builtin___strncpy_chk (__dest, __src, __len, | ^~~~~~~~~~~~~~~~~~~~~~~~~~~~~~~~~~~~~~~~~~~~~~ 96 | __glibc_objsize (__dest)); | ~~~~~~~~~~~~~~~~~~~~~~~~~ In function ‘strncpy’, inlined from ‘insnp_new’ at input.c:429:4: /usr/include/x86_64-linux-gnu/bits/string_fortified.h:95:10: warning: ‘__builtin_strncpy’ output may be truncated copying 127 bytes from a string of length 127 [-Wstringop-truncation] 95 | return __builtin___strncpy_chk (__dest, __src, __len, | ^~~~~~~~~~~~~~~~~~~~~~~~~~~~~~~~~~~~~~~~~~~~~~ 96 | __glibc_objsize (__dest)); | ~~~~~~~~~~~~~~~~~~~~~~~~~ gcc -I"/home/hpages/bbs-3.18-bioc-R41/R/include" -DNDEBUG -I/usr/local/include -fpic -g -O2 -Wall -c invert.c -o invert.o gcc -I"/home/hpages/bbs-3.18-bioc-R41/R/include" -DNDEBUG -I/usr/local/include -fpic -g -O2 -Wall -c ipf.c -o ipf.o gcc -I"/home/hpages/bbs-3.18-bioc-R41/R/include" -DNDEBUG -I/usr/local/include -fpic -g -O2 -Wall -c ld.c -o ld.o gcc -I"/home/hpages/bbs-3.18-bioc-R41/R/include" -DNDEBUG -I/usr/local/include -fpic -g -O2 -Wall -c misc.c -o misc.o gcc -I"/home/hpages/bbs-3.18-bioc-R41/R/include" -DNDEBUG -I/usr/local/include -fpic -g -O2 -Wall -c mla.c -o mla.o gcc -I"/home/hpages/bbs-3.18-bioc-R41/R/include" -DNDEBUG -I/usr/local/include -fpic -g -O2 -Wall -c mvphenotype.c -o mvphenotype.o gcc -I"/home/hpages/bbs-3.18-bioc-R41/R/include" -DNDEBUG -I/usr/local/include -fpic -g -O2 -Wall -c outdata.c -o outdata.o gcc -I"/home/hpages/bbs-3.18-bioc-R41/R/include" -DNDEBUG -I/usr/local/include -fpic -g -O2 -Wall -c plink.c -o plink.o gcc -I"/home/hpages/bbs-3.18-bioc-R41/R/include" -DNDEBUG -I/usr/local/include -fpic -g -O2 -Wall -c read_uncertain.c -o read_uncertain.o gcc -I"/home/hpages/bbs-3.18-bioc-R41/R/include" -DNDEBUG -I/usr/local/include -fpic -g -O2 -Wall -c readped.c -o readped.o readped.c: In function ‘readped’: readped.c:234:33: warning: ‘%d’ directive output may be truncated writing between 1 and 11 bytes into a region of size between 0 and 127 [-Wformat-truncation=] 234 | snprintf(fmid, MAX_ID, "%s%c%d", fid, sepchar, memi); | ^~ In file included from /usr/include/stdio.h:894, from /home/hpages/bbs-3.18-bioc-R41/R/include/R.h:45, from readped.c:3: /usr/include/x86_64-linux-gnu/bits/stdio2.h:71:10: note: ‘__builtin___snprintf_chk’ output between 3 and 140 bytes into a destination of size 128 71 | return __builtin___snprintf_chk (__s, __n, __USE_FORTIFY_LEVEL - 1, | ^~~~~~~~~~~~~~~~~~~~~~~~~~~~~~~~~~~~~~~~~~~~~~~~~~~~~~~~~~~~ 72 | __glibc_objsize (__s), __fmt, | ~~~~~~~~~~~~~~~~~~~~~~~~~~~~~ 73 | __va_arg_pack ()); | ~~~~~~~~~~~~~~~~~ gcc -I"/home/hpages/bbs-3.18-bioc-R41/R/include" -DNDEBUG -I/usr/local/include -fpic -g -O2 -Wall -c single_snp_tests.c -o single_snp_tests.o single_snp_tests.c: In function ‘score_single’: single_snp_tests.c:223:11: warning: ‘name_index’ may be used uninitialized in this function [-Wmaybe-uninitialized] 223 | do_impute(Snps, n, NULL, subset, nsubj, name_index, Rule, gt2ht, | ^~~~~~~~~~~~~~~~~~~~~~~~~~~~~~~~~~~~~~~~~~~~~~~~~~~~~~~~~~~~~~~~ 224 | xadd, xdom); | ~~~~~~~~~~~ gcc -I"/home/hpages/bbs-3.18-bioc-R41/R/include" -DNDEBUG -I/usr/local/include -fpic -g -O2 -Wall -c snp_summary.c -o snp_summary.o gcc -I"/home/hpages/bbs-3.18-bioc-R41/R/include" -DNDEBUG -I/usr/local/include -fpic -g -O2 -Wall -c snpmpy.c -o snpmpy.o gcc -I"/home/hpages/bbs-3.18-bioc-R41/R/include" -DNDEBUG -I/usr/local/include -fpic -g -O2 -Wall -c solve_cubic.c -o solve_cubic.o gcc -I"/home/hpages/bbs-3.18-bioc-R41/R/include" -DNDEBUG -I/usr/local/include -fpic -g -O2 -Wall -c structure.c -o structure.o gcc -I"/home/hpages/bbs-3.18-bioc-R41/R/include" -DNDEBUG -I/usr/local/include -fpic -g -O2 -Wall -c subset.c -o subset.o gcc -I"/home/hpages/bbs-3.18-bioc-R41/R/include" -DNDEBUG -I/usr/local/include -fpic -g -O2 -Wall -c switch.c -o switch.o switch.c: In function ‘test_switch’: switch.c:32:8: warning: variable ‘female2’ set but not used [-Wunused-but-set-variable] 32 | int *female2 = NULL; | ^~~~~~~ gcc -I"/home/hpages/bbs-3.18-bioc-R41/R/include" -DNDEBUG -I/usr/local/include -fpic -g -O2 -Wall -c tdt.c -o tdt.o gcc -I"/home/hpages/bbs-3.18-bioc-R41/R/include" -DNDEBUG -I/usr/local/include -fpic -g -O2 -Wall -c testBig.c -o testBig.o testBig.c: In function ‘snp_big’: testBig.c:31:27: warning: ‘%d’ directive writing between 1 and 10 bytes into a region of size 9 [-Wformat-overflow=] 31 | sprintf(name, "Subject%d", i+1); | ^~ testBig.c:31:19: note: directive argument in the range [1, 2147483647] 31 | sprintf(name, "Subject%d", i+1); | ^~~~~~~~~~~ In file included from /usr/include/stdio.h:894, from /home/hpages/bbs-3.18-bioc-R41/R/include/R.h:45, from testBig.c:1: /usr/include/x86_64-linux-gnu/bits/stdio2.h:38:10: note: ‘__builtin___sprintf_chk’ output between 9 and 18 bytes into a destination of size 16 38 | return __builtin___sprintf_chk (__s, __USE_FORTIFY_LEVEL - 1, | ^~~~~~~~~~~~~~~~~~~~~~~~~~~~~~~~~~~~~~~~~~~~~~~~~~~~~~ 39 | __glibc_objsize (__s), __fmt, | ~~~~~~~~~~~~~~~~~~~~~~~~~~~~~ 40 | __va_arg_pack ()); | ~~~~~~~~~~~~~~~~~ gcc -I"/home/hpages/bbs-3.18-bioc-R41/R/include" -DNDEBUG -I/usr/local/include -fpic -g -O2 -Wall -c uncertain.c -o uncertain.o gcc -shared -L/home/hpages/bbs-3.18-bioc-R41/R/lib -L/usr/local/lib -o snpStats.so Runcertain.o bind.o count_gt.o covwin.o force_hom.o fst.o glm_test.o glm_test_R.o hash_index.o hphase.o imputation.o in.o input.o invert.o ipf.o ld.o misc.o mla.o mvphenotype.o outdata.o plink.o read_uncertain.o readped.o single_snp_tests.o snp_summary.o snpmpy.o solve_cubic.o structure.o subset.o switch.o tdt.o testBig.o uncertain.o -lz -L/home/hpages/bbs-3.18-bioc-R41/R/lib -lR installing to /home/hpages/bbs-3.18-bioc-R41/R/site-library/00LOCK-snpStats/00new/snpStats/libs ** R ** data ** inst ** byte-compile and prepare package for lazy loading ** help *** installing help indices ** building package indices ** installing vignettes ** testing if installed package can be loaded from temporary location ** checking absolute paths in shared objects and dynamic libraries ** testing if installed package can be loaded from final location ** testing if installed package keeps a record of temporary installation path * DONE (snpStats)
snpStats.Rcheck/snpStats-Ex.timings
name | user | system | elapsed | |
Fst | 0.485 | 0.036 | 0.522 | |
GlmEstimates-class | 0.001 | 0.000 | 0.001 | |
GlmTests-class | 0 | 0 | 0 | |
ImputationRules-class | 0 | 0 | 0 | |
SingleSnpTests-class | 0.000 | 0.000 | 0.001 | |
SnpMatrix-class | 0.160 | 0.012 | 0.173 | |
XSnpMatrix-class | 0.084 | 0.005 | 0.089 | |
chi.squared | 0.071 | 0.007 | 0.077 | |
families | 0.018 | 0.000 | 0.018 | |
filter.rules | 0 | 0 | 0 | |
for.exercise | 1.057 | 0.012 | 1.069 | |
ibsCount | 0.419 | 0.004 | 0.423 | |
ibsDist | 0.254 | 0.012 | 0.266 | |
imputation.maf | 0.001 | 0.000 | 0.000 | |
impute.snps | 0.588 | 0.052 | 0.639 | |
ld | 0.064 | 0.012 | 0.075 | |
mean2g | 0.08 | 0.00 | 0.08 | |
misinherits | 0.029 | 0.012 | 0.042 | |
mvtests | 0 | 0 | 0 | |
plotUncertainty | 0 | 0 | 0 | |
pool | 0.159 | 0.004 | 0.163 | |
pp | 0.057 | 0.000 | 0.058 | |
qq.chisq | 0 | 0 | 0 | |
random.snps | 0.003 | 0.000 | 0.003 | |
read.beagle | 0 | 0 | 0 | |
read.impute | 0 | 0 | 0 | |
read.long | 0 | 0 | 0 | |
read.mach | 0 | 0 | 0 | |
read.pedfile | 0 | 0 | 0 | |
row.summary | 0.111 | 0.004 | 0.115 | |
single.snp.tests | 0.088 | 0.004 | 0.092 | |
sm.compare | 0 | 0 | 0 | |
snp.cor | 0.374 | 0.004 | 0.378 | |
snp.imputation | 0.610 | 0.032 | 0.642 | |
snp.lhs.estimates | 0.172 | 0.008 | 0.180 | |
snp.lhs.tests | 0.08 | 0.00 | 0.08 | |
snp.pre.multiply | 0.084 | 0.004 | 0.088 | |
snp.rhs.estimates | 0.089 | 0.012 | 0.101 | |
snp.rhs.tests | 0.075 | 0.002 | 0.077 | |
switch.alleles | 0.091 | 0.002 | 0.092 | |
tdt.snp | 0.021 | 0.000 | 0.021 | |
test.allele.switch | 0.098 | 0.008 | 0.106 | |
testdata | 0.125 | 0.000 | 0.126 | |
write.plink | 0.120 | 0.004 | 0.124 | |
xxt | 0.311 | 0.000 | 0.311 | |