| Back to Using R 4.1.3 to BUILD/CHECK a small subset of 3.18 packages |
This page was generated on 2024-03-08 16:41:47 -0500 (Fri, 08 Mar 2024).
LibPath Version Built
abind /home/hpages/bbs-3.18-bioc-R41/R/site-library 1.4-5 4.1.3
affxparser /home/hpages/bbs-3.18-bioc-R41/R/site-library 1.74.0 4.1.3
affy /home/hpages/bbs-3.18-bioc-R41/R/site-library 1.80.0 4.1.3
affydata /home/hpages/bbs-3.18-bioc-R41/R/site-library 1.50.0 4.1.3
affyio /home/hpages/bbs-3.18-bioc-R41/R/site-library 1.72.0 4.1.3
AffymetrixDataTestFiles /home/hpages/bbs-3.18-bioc-R41/R/site-library 0.40.0 4.1.3
affyPLM /home/hpages/bbs-3.18-bioc-R41/R/site-library 1.78.0 4.1.3
aggregation /home/hpages/bbs-3.18-bioc-R41/R/site-library 1.0.1 4.1.3
airway /home/hpages/bbs-3.18-bioc-R41/R/site-library 1.22.0 4.1.3
ALL /home/hpages/bbs-3.18-bioc-R41/R/site-library 1.44.0 4.1.3
anndata /home/hpages/bbs-3.18-bioc-R41/R/site-library 0.7.5.6 4.1.3
annotate /home/hpages/bbs-3.18-bioc-R41/R/site-library 1.80.0 4.1.3
AnnotationDbi /home/hpages/bbs-3.18-bioc-R41/R/site-library 1.64.1 4.1.3
AnnotationFilter /home/hpages/bbs-3.18-bioc-R41/R/site-library 1.26.0 4.1.3
AnnotationForge /home/hpages/bbs-3.18-bioc-R41/R/site-library 1.44.0 4.1.3
AnnotationHub /home/hpages/bbs-3.18-bioc-R41/R/site-library 3.10.0 4.1.3
ape /home/hpages/bbs-3.18-bioc-R41/R/site-library 5.7-1 4.1.3
apeglm /home/hpages/bbs-3.18-bioc-R41/R/site-library 1.24.0 4.1.3
aplot /home/hpages/bbs-3.18-bioc-R41/R/site-library 0.2.2 4.1.3
arrow /home/hpages/bbs-3.18-bioc-R41/R/site-library 14.0.2.1 4.1.3
ash /home/hpages/bbs-3.18-bioc-R41/R/site-library 1.0-15 4.1.3
ashr /home/hpages/bbs-3.18-bioc-R41/R/site-library 2.2-63 4.1.3
askpass /home/hpages/bbs-3.18-bioc-R41/R/site-library 1.2.0 4.1.3
assertthat /home/hpages/bbs-3.18-bioc-R41/R/site-library 0.2.1 4.1.3
available /home/hpages/bbs-3.18-bioc-R41/R/site-library 1.1.0 4.1.3
aws.s3 /home/hpages/bbs-3.18-bioc-R41/R/site-library 0.3.21 4.1.3
aws.signature /home/hpages/bbs-3.18-bioc-R41/R/site-library 0.6.0 4.1.3
babelgene /home/hpages/bbs-3.18-bioc-R41/R/site-library 22.9 4.1.3
backports /home/hpages/bbs-3.18-bioc-R41/R/site-library 1.4.1 4.1.3
base64 /home/hpages/bbs-3.18-bioc-R41/R/site-library 2.0.1 4.1.3
base64enc /home/hpages/bbs-3.18-bioc-R41/R/site-library 0.1-3 4.1.3
base64url /home/hpages/bbs-3.18-bioc-R41/R/site-library 1.4 4.1.3
basilisk /home/hpages/bbs-3.18-bioc-R41/R/site-library 1.14.3 4.1.3
basilisk.utils /home/hpages/bbs-3.18-bioc-R41/R/site-library 1.14.1 4.1.3
batchtools /home/hpages/bbs-3.18-bioc-R41/R/site-library 0.9.17 4.1.3
BBmisc /home/hpages/bbs-3.18-bioc-R41/R/site-library 1.13 4.1.3
bbmle /home/hpages/bbs-3.18-bioc-R41/R/site-library 1.0.25.1 4.1.3
bdsmatrix /home/hpages/bbs-3.18-bioc-R41/R/site-library 1.3-7 4.1.3
beachmat /home/hpages/bbs-3.18-bioc-R41/R/site-library 2.18.1 4.1.3
bench /home/hpages/bbs-3.18-bioc-R41/R/site-library 1.1.3 4.1.3
BH /home/hpages/bbs-3.18-bioc-R41/R/site-library 1.84.0-0 4.1.3
BiasedUrn /home/hpages/bbs-3.18-bioc-R41/R/site-library 2.0.11 4.1.3
Biobase /home/hpages/bbs-3.18-bioc-R41/R/site-library 2.62.0 4.1.3
BiocBaseUtils /home/hpages/bbs-3.18-bioc-R41/R/site-library 1.4.0 4.1.3
BiocCheck /home/hpages/bbs-3.18-bioc-R41/R/site-library 1.38.2 4.1.3
BiocFileCache /home/hpages/bbs-3.18-bioc-R41/R/site-library 2.10.1 4.1.3
BiocGenerics /home/hpages/bbs-3.18-bioc-R41/R/site-library 0.48.1 4.1.3
BiocIO /home/hpages/bbs-3.18-bioc-R41/R/site-library 1.12.0 4.1.3
BiocManager /home/hpages/bbs-3.18-bioc-R41/R/site-library 1.30.22.4 4.1.3
BiocNeighbors /home/hpages/bbs-3.18-bioc-R41/R/site-library 1.20.2 4.1.3
BiocParallel /home/hpages/bbs-3.18-bioc-R41/R/site-library 1.36.0 4.1.3
BiocSingular /home/hpages/bbs-3.18-bioc-R41/R/site-library 1.18.0 4.1.3
BiocStyle /home/hpages/bbs-3.18-bioc-R41/R/site-library 2.30.0 4.1.3
biocthis /home/hpages/bbs-3.18-bioc-R41/R/site-library 1.12.0 4.1.3
BiocVersion /home/hpages/bbs-3.18-bioc-R41/R/site-library 3.18.1 4.1.3
biocViews /home/hpages/bbs-3.18-bioc-R41/R/site-library 1.70.0 4.1.3
biomaRt /home/hpages/bbs-3.18-bioc-R41/R/site-library 2.58.2 4.1.3
Biostrings /home/hpages/bbs-3.18-bioc-R41/R/site-library 2.70.2 4.1.3
biovizBase /home/hpages/bbs-3.18-bioc-R41/R/site-library 1.50.0 4.1.3
bit /home/hpages/bbs-3.18-bioc-R41/R/site-library 4.0.5 4.1.3
bit64 /home/hpages/bbs-3.18-bioc-R41/R/site-library 4.0.5 4.1.3
bitops /home/hpages/bbs-3.18-bioc-R41/R/site-library 1.0-7 4.1.3
blob /home/hpages/bbs-3.18-bioc-R41/R/site-library 1.2.4 4.1.3
bluster /home/hpages/bbs-3.18-bioc-R41/R/site-library 1.12.0 4.1.3
bookdown /home/hpages/bbs-3.18-bioc-R41/R/site-library 0.38 4.1.3
brew /home/hpages/bbs-3.18-bioc-R41/R/site-library 1.0-10 4.1.3
brio /home/hpages/bbs-3.18-bioc-R41/R/site-library 1.1.4 4.1.3
broom /home/hpages/bbs-3.18-bioc-R41/R/site-library 1.0.5 4.1.3
broom.helpers /home/hpages/bbs-3.18-bioc-R41/R/site-library 1.14.0 4.1.3
BSgenome /home/hpages/bbs-3.18-bioc-R41/R/site-library 1.70.2 4.1.3
BSgenome.Celegans.UCSC.ce11 /home/hpages/bbs-3.18-bioc-R41/R/site-library 1.4.2 4.1.3
BSgenome.Celegans.UCSC.ce2 /home/hpages/bbs-3.18-bioc-R41/R/site-library 1.4.0 4.1.3
BSgenome.Dmelanogaster.UCSC.dm3 /home/hpages/bbs-3.18-bioc-R41/R/site-library 1.4.0 4.1.3
BSgenome.Hsapiens.NCBI.GRCh38 /home/hpages/bbs-3.18-bioc-R41/R/site-library 1.3.1000 4.1.3
BSgenome.Hsapiens.UCSC.hg18 /home/hpages/bbs-3.18-bioc-R41/R/site-library 1.3.1000 4.1.3
BSgenome.Hsapiens.UCSC.hg19 /home/hpages/bbs-3.18-bioc-R41/R/site-library 1.4.3 4.1.3
BSgenome.Hsapiens.UCSC.hg38 /home/hpages/bbs-3.18-bioc-R41/R/site-library 1.4.5 4.1.3
BSgenome.Hsapiens.UCSC.hg38.masked /home/hpages/bbs-3.18-bioc-R41/R/site-library 1.4.5 4.1.3
BSgenome.Mmusculus.UCSC.mm10 /home/hpages/bbs-3.18-bioc-R41/R/site-library 1.4.3 4.1.3
BSgenome.Rnorvegicus.UCSC.rn5 /home/hpages/bbs-3.18-bioc-R41/R/site-library 1.4.0 4.1.3
BSgenome.Scerevisiae.UCSC.sacCer1 /home/hpages/bbs-3.18-bioc-R41/R/site-library 1.4.0 4.1.3
BSgenome.Scerevisiae.UCSC.sacCer2 /home/hpages/bbs-3.18-bioc-R41/R/site-library 1.4.0 4.1.3
BSgenomeForge /home/hpages/bbs-3.18-bioc-R41/R/site-library 1.2.2 4.1.3
bslib /home/hpages/bbs-3.18-bioc-R41/R/site-library 0.6.1 4.1.3
cachem /home/hpages/bbs-3.18-bioc-R41/R/site-library 1.0.8 4.1.3
Cairo /home/hpages/bbs-3.18-bioc-R41/R/site-library 1.6-2 4.1.3
callr /home/hpages/bbs-3.18-bioc-R41/R/site-library 3.7.5 4.1.3
caret /home/hpages/bbs-3.18-bioc-R41/R/site-library 6.0-94 4.1.3
caTools /home/hpages/bbs-3.18-bioc-R41/R/site-library 1.18.2 4.1.3
checkmate /home/hpages/bbs-3.18-bioc-R41/R/site-library 2.3.1 4.1.3
ChemmineR /home/hpages/bbs-3.18-bioc-R41/R/site-library 3.54.0 4.1.3
circlize /home/hpages/bbs-3.18-bioc-R41/R/site-library 0.4.16 4.1.3
cli /home/hpages/bbs-3.18-bioc-R41/R/site-library 3.6.2 4.1.3
clipr /home/hpages/bbs-3.18-bioc-R41/R/site-library 0.8.0 4.1.3
clisymbols /home/hpages/bbs-3.18-bioc-R41/R/site-library 1.2.0 4.1.3
clock /home/hpages/bbs-3.18-bioc-R41/R/site-library 0.7.0 4.1.3
clue /home/hpages/bbs-3.18-bioc-R41/R/site-library 0.3-65 4.1.3
coda /home/hpages/bbs-3.18-bioc-R41/R/site-library 0.19-4.1 4.1.3
colorspace /home/hpages/bbs-3.18-bioc-R41/R/site-library 2.1-0 4.1.3
commonmark /home/hpages/bbs-3.18-bioc-R41/R/site-library 1.9.1 4.1.3
ComplexHeatmap /home/hpages/bbs-3.18-bioc-R41/R/site-library 2.18.0 4.1.3
CompoundDb /home/hpages/bbs-3.18-bioc-R41/R/site-library 1.6.0 4.1.3
config /home/hpages/bbs-3.18-bioc-R41/R/site-library 0.3.2 4.1.3
corpcor /home/hpages/bbs-3.18-bioc-R41/R/site-library 1.6.10 4.1.3
covr /home/hpages/bbs-3.18-bioc-R41/R/site-library 3.6.4 4.1.3
cowplot /home/hpages/bbs-3.18-bioc-R41/R/site-library 1.1.3 4.1.3
cpp11 /home/hpages/bbs-3.18-bioc-R41/R/site-library 0.4.7 4.1.3
crayon /home/hpages/bbs-3.18-bioc-R41/R/site-library 1.5.2 4.1.3
credentials /home/hpages/bbs-3.18-bioc-R41/R/site-library 2.0.1 4.1.3
crosstalk /home/hpages/bbs-3.18-bioc-R41/R/site-library 1.2.1 4.1.3
crul /home/hpages/bbs-3.18-bioc-R41/R/site-library 1.4.0 4.1.3
csaw /home/hpages/bbs-3.18-bioc-R41/R/site-library 1.36.1 4.1.3
curl /home/hpages/bbs-3.18-bioc-R41/R/site-library 5.2.1 4.1.3
cytolib /home/hpages/bbs-3.18-bioc-R41/R/site-library 2.14.1 4.1.3
data.table /home/hpages/bbs-3.18-bioc-R41/R/site-library 1.15.2 4.1.3
DBI /home/hpages/bbs-3.18-bioc-R41/R/site-library 1.2.2 4.1.3
dbplyr /home/hpages/bbs-3.18-bioc-R41/R/site-library 2.4.0 4.1.3
DelayedArray /home/hpages/bbs-3.18-bioc-R41/R/site-library 0.28.0 4.1.3
DelayedMatrixStats /home/hpages/bbs-3.18-bioc-R41/R/site-library 1.24.0 4.1.3
deldir /home/hpages/bbs-3.18-bioc-R41/R/site-library 2.0-4 4.1.3
dendextend /home/hpages/bbs-3.18-bioc-R41/R/site-library 1.17.1 4.1.3
dendsort /home/hpages/bbs-3.18-bioc-R41/R/site-library 0.3.4 4.1.3
DEoptimR /home/hpages/bbs-3.18-bioc-R41/R/site-library 1.1-3 4.1.3
desc /home/hpages/bbs-3.18-bioc-R41/R/site-library 1.4.3 4.1.3
DESeq2 /home/hpages/bbs-3.18-bioc-R41/R/site-library 1.42.1 4.1.3
deSolve /home/hpages/bbs-3.18-bioc-R41/R/site-library 1.40 4.1.3
devtools /home/hpages/bbs-3.18-bioc-R41/R/site-library 2.4.5 4.1.3
DEXSeq /home/hpages/bbs-3.18-bioc-R41/R/site-library 1.48.0 4.1.3
diagram /home/hpages/bbs-3.18-bioc-R41/R/site-library 1.6.5 4.1.3
dichromat /home/hpages/bbs-3.18-bioc-R41/R/site-library 2.0-0.1 4.1.3
diffobj /home/hpages/bbs-3.18-bioc-R41/R/site-library 0.3.5 4.1.3
digest /home/hpages/bbs-3.18-bioc-R41/R/site-library 0.6.34 4.1.3
diptest /home/hpages/bbs-3.18-bioc-R41/R/site-library 0.77-0 4.1.3
dir.expiry /home/hpages/bbs-3.18-bioc-R41/R/site-library 1.10.0 4.1.3
doParallel /home/hpages/bbs-3.18-bioc-R41/R/site-library 1.0.17 4.1.3
doRNG /home/hpages/bbs-3.18-bioc-R41/R/site-library 1.8.6 4.1.3
dotCall64 /home/hpages/bbs-3.18-bioc-R41/R/site-library 1.1-1 4.1.3
downlit /home/hpages/bbs-3.18-bioc-R41/R/site-library 0.4.3 4.1.3
downloader /home/hpages/bbs-3.18-bioc-R41/R/site-library 0.4 4.1.3
dplyr /home/hpages/bbs-3.18-bioc-R41/R/site-library 1.1.4 4.1.3
dqrng /home/hpages/bbs-3.18-bioc-R41/R/site-library 0.3.2 4.1.3
drosophila2probe /home/hpages/bbs-3.18-bioc-R41/R/site-library 2.18.0 4.1.3
DT /home/hpages/bbs-3.18-bioc-R41/R/site-library 0.32 4.1.3
DynDoc /home/hpages/bbs-3.18-bioc-R41/R/site-library 1.80.0 4.1.3
e1071 /home/hpages/bbs-3.18-bioc-R41/R/site-library 1.7-14 4.1.3
edgeR /home/hpages/bbs-3.18-bioc-R41/R/site-library 4.0.16 4.1.3
eds /home/hpages/bbs-3.18-bioc-R41/R/site-library 1.4.0 4.1.3
ellipse /home/hpages/bbs-3.18-bioc-R41/R/site-library 0.5.0 4.1.3
ellipsis /home/hpages/bbs-3.18-bioc-R41/R/site-library 0.3.2 4.1.3
emdbook /home/hpages/bbs-3.18-bioc-R41/R/site-library 1.3.13 4.1.3
emojifont /home/hpages/bbs-3.18-bioc-R41/R/site-library 0.5.5 4.1.3
EnrichedHeatmap /home/hpages/bbs-3.18-bioc-R41/R/site-library 1.32.0 4.1.3
EnsDb.Hsapiens.v75 /home/hpages/bbs-3.18-bioc-R41/R/site-library 2.99.0 4.1.3
EnsDb.Hsapiens.v86 /home/hpages/bbs-3.18-bioc-R41/R/site-library 2.99.0 4.1.3
ensembldb /home/hpages/bbs-3.18-bioc-R41/R/site-library 2.26.0 4.1.3
etrunct /home/hpages/bbs-3.18-bioc-R41/R/site-library 0.1 4.1.3
europepmc /home/hpages/bbs-3.18-bioc-R41/R/site-library 0.4.3 4.1.3
evaluate /home/hpages/bbs-3.18-bioc-R41/R/site-library 0.23 4.1.3
ExperimentHub /home/hpages/bbs-3.18-bioc-R41/R/site-library 2.10.0 4.1.3
fansi /home/hpages/bbs-3.18-bioc-R41/R/site-library 1.0.6 4.1.3
farver /home/hpages/bbs-3.18-bioc-R41/R/site-library 2.1.1 4.1.3
fastcluster /home/hpages/bbs-3.18-bioc-R41/R/site-library 1.2.6 4.1.3
fastDummies /home/hpages/bbs-3.18-bioc-R41/R/site-library 1.7.3 4.1.3
fastmap /home/hpages/bbs-3.18-bioc-R41/R/site-library 1.1.1 4.1.3
fastmatch /home/hpages/bbs-3.18-bioc-R41/R/site-library 1.1-4 4.1.3
fauxpas /home/hpages/bbs-3.18-bioc-R41/R/site-library 0.5.2 4.1.3
fda /home/hpages/bbs-3.18-bioc-R41/R/site-library 6.1.7 4.1.3
FDb.UCSC.tRNAs /home/hpages/bbs-3.18-bioc-R41/R/site-library 1.0.1 4.1.3
fds /home/hpages/bbs-3.18-bioc-R41/R/site-library 1.8 4.1.3
fgsea /home/hpages/bbs-3.18-bioc-R41/R/site-library 1.28.0 4.1.3
fibroEset /home/hpages/bbs-3.18-bioc-R41/R/site-library 1.44.0 4.1.3
filelock /home/hpages/bbs-3.18-bioc-R41/R/site-library 1.0.3 4.1.3
fishpond /home/hpages/bbs-3.18-bioc-R41/R/site-library 2.8.0 4.1.3
fitdistrplus /home/hpages/bbs-3.18-bioc-R41/R/site-library 1.1-11 4.1.3
flexmix /home/hpages/bbs-3.18-bioc-R41/R/site-library 2.3-19 4.1.3
flowClust /home/hpages/bbs-3.18-bioc-R41/R/site-library 3.40.0 4.1.3
flowCore /home/hpages/bbs-3.18-bioc-R41/R/site-library 2.14.1 4.1.3
flowStats /home/hpages/bbs-3.18-bioc-R41/R/site-library 4.14.1 4.1.3
flowViz /home/hpages/bbs-3.18-bioc-R41/R/site-library 1.66.0 4.1.3
flowWorkspace /home/hpages/bbs-3.18-bioc-R41/R/site-library 4.14.2 4.1.3
flowWorkspaceData /home/hpages/bbs-3.18-bioc-R41/R/site-library 3.14.0 4.1.3
FNN /home/hpages/bbs-3.18-bioc-R41/R/site-library 1.1.4 4.1.3
fontawesome /home/hpages/bbs-3.18-bioc-R41/R/site-library 0.5.2 4.1.3
forcats /home/hpages/bbs-3.18-bioc-R41/R/site-library 1.0.0 4.1.3
foreach /home/hpages/bbs-3.18-bioc-R41/R/site-library 1.5.2 4.1.3
formatR /home/hpages/bbs-3.18-bioc-R41/R/site-library 1.14 4.1.3
Formula /home/hpages/bbs-3.18-bioc-R41/R/site-library 1.2-5 4.1.3
fpc /home/hpages/bbs-3.18-bioc-R41/R/site-library 2.2-11 4.1.3
fs /home/hpages/bbs-3.18-bioc-R41/R/site-library 1.6.3 4.1.3
futile.logger /home/hpages/bbs-3.18-bioc-R41/R/site-library 1.4.3 4.1.3
futile.options /home/hpages/bbs-3.18-bioc-R41/R/site-library 1.0.1 4.1.3
future /home/hpages/bbs-3.18-bioc-R41/R/site-library 1.33.1 4.1.3
future.apply /home/hpages/bbs-3.18-bioc-R41/R/site-library 1.11.1 4.1.3
gbm /home/hpages/bbs-3.18-bioc-R41/R/site-library 2.1.9 4.1.3
gcrma /home/hpages/bbs-3.18-bioc-R41/R/site-library 2.74.0 4.1.3
gdata /home/hpages/bbs-3.18-bioc-R41/R/site-library 3.0.0 4.1.3
gdsfmt /home/hpages/bbs-3.18-bioc-R41/R/site-library 1.38.0 4.1.3
genefilter /home/hpages/bbs-3.18-bioc-R41/R/site-library 1.84.0 4.1.3
geneplotter /home/hpages/bbs-3.18-bioc-R41/R/site-library 1.80.0 4.1.3
generics /home/hpages/bbs-3.18-bioc-R41/R/site-library 0.1.3 4.1.3
GenomeInfoDb /home/hpages/bbs-3.18-bioc-R41/R/site-library 1.38.7 4.1.3
GenomeInfoDbData /home/hpages/bbs-3.18-bioc-R41/R/site-library 1.2.11 4.1.3
GenomicAlignments /home/hpages/bbs-3.18-bioc-R41/R/site-library 1.38.2 4.1.3
GenomicFeatures /home/hpages/bbs-3.18-bioc-R41/R/site-library 1.54.3 4.1.3
GenomicRanges /home/hpages/bbs-3.18-bioc-R41/R/site-library 1.54.1 4.1.3
GEOquery /home/hpages/bbs-3.18-bioc-R41/R/site-library 2.70.0 4.1.3
gert /home/hpages/bbs-3.18-bioc-R41/R/site-library 2.0.1 4.1.3
GetoptLong /home/hpages/bbs-3.18-bioc-R41/R/site-library 1.0.5 4.1.3
GGally /home/hpages/bbs-3.18-bioc-R41/R/site-library 2.2.1 4.1.3
ggbio /home/hpages/bbs-3.18-bioc-R41/R/site-library 1.50.0 4.1.3
ggcyto /home/hpages/bbs-3.18-bioc-R41/R/site-library 1.30.2 4.1.3
ggforce /home/hpages/bbs-3.18-bioc-R41/R/site-library 0.4.2 4.1.3
ggfun /home/hpages/bbs-3.18-bioc-R41/R/site-library 0.1.4 4.1.3
ggimage /home/hpages/bbs-3.18-bioc-R41/R/site-library 0.3.3 4.1.3
ggnewscale /home/hpages/bbs-3.18-bioc-R41/R/site-library 0.4.10 4.1.3
ggplot2 /home/hpages/bbs-3.18-bioc-R41/R/site-library 3.5.0 4.1.3
ggplotify /home/hpages/bbs-3.18-bioc-R41/R/site-library 0.1.2 4.1.3
ggraph /home/hpages/bbs-3.18-bioc-R41/R/site-library 2.2.1 4.1.3
ggrepel /home/hpages/bbs-3.18-bioc-R41/R/site-library 0.9.5 4.1.3
ggridges /home/hpages/bbs-3.18-bioc-R41/R/site-library 0.5.6 4.1.3
ggstar /home/hpages/bbs-3.18-bioc-R41/R/site-library 1.0.4 4.1.3
ggstats /home/hpages/bbs-3.18-bioc-R41/R/site-library 0.5.1 4.1.3
ggtree /home/hpages/bbs-3.18-bioc-R41/R/site-library 3.10.1 4.1.3
ggupset /home/hpages/bbs-3.18-bioc-R41/R/site-library 0.3.0 4.1.3
ggvis /home/hpages/bbs-3.18-bioc-R41/R/site-library 0.4.9 4.1.3
gh /home/hpages/bbs-3.18-bioc-R41/R/site-library 1.4.0 4.1.3
gitcreds /home/hpages/bbs-3.18-bioc-R41/R/site-library 0.1.2 4.1.3
glmGamPoi /home/hpages/bbs-3.18-bioc-R41/R/site-library 1.14.3 4.1.3
GlobalOptions /home/hpages/bbs-3.18-bioc-R41/R/site-library 0.1.2 4.1.3
globals /home/hpages/bbs-3.18-bioc-R41/R/site-library 0.16.3 4.1.3
glue /home/hpages/bbs-3.18-bioc-R41/R/site-library 1.7.0 4.1.3
gmm /home/hpages/bbs-3.18-bioc-R41/R/site-library 1.8 4.1.3
GO.db /home/hpages/bbs-3.18-bioc-R41/R/site-library 3.18.0 4.1.3
goftest /home/hpages/bbs-3.18-bioc-R41/R/site-library 1.2-3 4.1.3
golubEsets /home/hpages/bbs-3.18-bioc-R41/R/site-library 1.44.0 4.1.3
gower /home/hpages/bbs-3.18-bioc-R41/R/site-library 1.0.1 4.1.3
gplots /home/hpages/bbs-3.18-bioc-R41/R/site-library 3.1.3.1 4.1.3
graph /home/hpages/bbs-3.18-bioc-R41/R/site-library 1.80.0 4.1.3
graphlayouts /home/hpages/bbs-3.18-bioc-R41/R/site-library 1.1.0 4.1.3
gridExtra /home/hpages/bbs-3.18-bioc-R41/R/site-library 2.3 4.1.3
gridGraphics /home/hpages/bbs-3.18-bioc-R41/R/site-library 0.5-1 4.1.3
gridtext /home/hpages/bbs-3.18-bioc-R41/R/site-library 0.1.5 4.1.3
grImport /home/hpages/bbs-3.18-bioc-R41/R/site-library 0.9-7 4.1.3
grImport2 /home/hpages/bbs-3.18-bioc-R41/R/site-library 0.3-1 4.1.3
GSA /home/hpages/bbs-3.18-bioc-R41/R/site-library 1.03.2 4.1.3
gson /home/hpages/bbs-3.18-bioc-R41/R/site-library 0.1.0 4.1.3
gtable /home/hpages/bbs-3.18-bioc-R41/R/site-library 0.3.4 4.1.3
gtools /home/hpages/bbs-3.18-bioc-R41/R/site-library 3.9.5 4.1.3
Gviz /home/hpages/bbs-3.18-bioc-R41/R/site-library 1.46.1 4.1.3
h5vcData /home/hpages/bbs-3.18-bioc-R41/R/site-library 2.22.0 4.1.3
hardhat /home/hpages/bbs-3.18-bioc-R41/R/site-library 1.3.1 4.1.3
haven /home/hpages/bbs-3.18-bioc-R41/R/site-library 2.5.4 4.1.3
HDF5Array /home/hpages/bbs-3.18-bioc-R41/R/site-library 1.30.1 4.1.3
HDO.db /home/hpages/bbs-3.18-bioc-R41/R/site-library 0.99.1 4.1.3
hdrcde /home/hpages/bbs-3.18-bioc-R41/R/site-library 3.4 4.1.3
here /home/hpages/bbs-3.18-bioc-R41/R/site-library 1.0.1 4.1.3
hexbin /home/hpages/bbs-3.18-bioc-R41/R/site-library 1.28.3 4.1.3
hgu133a.db /home/hpages/bbs-3.18-bioc-R41/R/site-library 3.13.0 4.1.3
hgu133aprobe /home/hpages/bbs-3.18-bioc-R41/R/site-library 2.18.0 4.1.3
hgu133plus2.db /home/hpages/bbs-3.18-bioc-R41/R/site-library 3.13.0 4.1.3
hgu95av2.db /home/hpages/bbs-3.18-bioc-R41/R/site-library 3.13.0 4.1.3
hgu95av2cdf /home/hpages/bbs-3.18-bioc-R41/R/site-library 2.18.0 4.1.3
hgu95av2probe /home/hpages/bbs-3.18-bioc-R41/R/site-library 2.18.0 4.1.3
highr /home/hpages/bbs-3.18-bioc-R41/R/site-library 0.10 4.1.3
Hmisc /home/hpages/bbs-3.18-bioc-R41/R/site-library 5.1-1 4.1.3
hms /home/hpages/bbs-3.18-bioc-R41/R/site-library 1.1.3 4.1.3
Homo.sapiens /home/hpages/bbs-3.18-bioc-R41/R/site-library 1.3.1 4.1.3
htmlTable /home/hpages/bbs-3.18-bioc-R41/R/site-library 2.4.2 4.1.3
htmltools /home/hpages/bbs-3.18-bioc-R41/R/site-library 0.5.7 4.1.3
htmlwidgets /home/hpages/bbs-3.18-bioc-R41/R/site-library 1.6.4 4.1.3
httpcode /home/hpages/bbs-3.18-bioc-R41/R/site-library 0.3.0 4.1.3
httpuv /home/hpages/bbs-3.18-bioc-R41/R/site-library 1.6.14 4.1.3
httr /home/hpages/bbs-3.18-bioc-R41/R/site-library 1.4.7 4.1.3
httr2 /home/hpages/bbs-3.18-bioc-R41/R/site-library 1.0.0 4.1.3
hu6800.db /home/hpages/bbs-3.18-bioc-R41/R/site-library 3.13.0 4.1.3
HubPub /home/hpages/bbs-3.18-bioc-R41/R/site-library 1.10.1 4.1.3
human.db0 /home/hpages/bbs-3.18-bioc-R41/R/site-library 3.18.0 4.1.3
humanCHRLOC /home/hpages/bbs-3.18-bioc-R41/R/site-library 2.1.6 4.1.3
humanStemCell /home/hpages/bbs-3.18-bioc-R41/R/site-library 0.42.0 4.1.3
hunspell /home/hpages/bbs-3.18-bioc-R41/R/site-library 3.0.3 4.1.3
hwriter /home/hpages/bbs-3.18-bioc-R41/R/site-library 1.3.2.1 4.1.3
ica /home/hpages/bbs-3.18-bioc-R41/R/site-library 1.0-3 4.1.3
IDPmisc /home/hpages/bbs-3.18-bioc-R41/R/site-library 1.1.21 4.1.3
igraph /home/hpages/bbs-3.18-bioc-R41/R/site-library 2.0.2 4.1.3
IlluminaDataTestFiles /home/hpages/bbs-3.18-bioc-R41/R/site-library 1.40.0 4.1.3
illuminaio /home/hpages/bbs-3.18-bioc-R41/R/site-library 0.44.0 4.1.3
impute /home/hpages/bbs-3.18-bioc-R41/R/site-library 1.76.0 4.1.3
imputeLCMD /home/hpages/bbs-3.18-bioc-R41/R/site-library 2.1 4.1.3
ini /home/hpages/bbs-3.18-bioc-R41/R/site-library 0.3.1 4.1.3
interactiveDisplayBase /home/hpages/bbs-3.18-bioc-R41/R/site-library 1.40.0 4.1.3
interp /home/hpages/bbs-3.18-bioc-R41/R/site-library 1.1-6 4.1.3
invgamma /home/hpages/bbs-3.18-bioc-R41/R/site-library 1.1 4.1.3
ipred /home/hpages/bbs-3.18-bioc-R41/R/site-library 0.9-14 4.1.3
IRanges /home/hpages/bbs-3.18-bioc-R41/R/site-library 2.36.0 4.1.3
irlba /home/hpages/bbs-3.18-bioc-R41/R/site-library 2.3.5.1 4.1.3
isoband /home/hpages/bbs-3.18-bioc-R41/R/site-library 0.2.7 4.1.3
iterators /home/hpages/bbs-3.18-bioc-R41/R/site-library 1.0.14 4.1.3
itertools /home/hpages/bbs-3.18-bioc-R41/R/site-library 0.1-3 4.1.3
janeaustenr /home/hpages/bbs-3.18-bioc-R41/R/site-library 1.0.0 4.1.3
jpeg /home/hpages/bbs-3.18-bioc-R41/R/site-library 0.1-10 4.1.3
jquerylib /home/hpages/bbs-3.18-bioc-R41/R/site-library 0.1.4 4.1.3
jsonlite /home/hpages/bbs-3.18-bioc-R41/R/site-library 1.8.8 4.1.3
KEGGgraph /home/hpages/bbs-3.18-bioc-R41/R/site-library 1.62.0 4.1.3
KEGGREST /home/hpages/bbs-3.18-bioc-R41/R/site-library 1.42.0 4.1.3
keras /home/hpages/bbs-3.18-bioc-R41/R/site-library 2.13.0 4.1.3
kernlab /home/hpages/bbs-3.18-bioc-R41/R/site-library 0.9-32 4.1.3
knitr /home/hpages/bbs-3.18-bioc-R41/R/site-library 1.45 4.1.3
ks /home/hpages/bbs-3.18-bioc-R41/R/site-library 1.14.2 4.1.3
labeling /home/hpages/bbs-3.18-bioc-R41/R/site-library 0.4.3 4.1.3
labelled /home/hpages/bbs-3.18-bioc-R41/R/site-library 2.12.0 4.1.3
lambda.r /home/hpages/bbs-3.18-bioc-R41/R/site-library 1.2.4 4.1.3
LaplacesDemon /home/hpages/bbs-3.18-bioc-R41/R/site-library 16.1.6 4.1.3
later /home/hpages/bbs-3.18-bioc-R41/R/site-library 1.3.2 4.1.3
latticeExtra /home/hpages/bbs-3.18-bioc-R41/R/site-library 0.6-30 4.1.3
lava /home/hpages/bbs-3.18-bioc-R41/R/site-library 1.8.0 4.1.3
lazyeval /home/hpages/bbs-3.18-bioc-R41/R/site-library 0.2.2 4.1.3
leiden /home/hpages/bbs-3.18-bioc-R41/R/site-library 0.4.3.1 4.1.3
lifecycle /home/hpages/bbs-3.18-bioc-R41/R/site-library 1.0.4 4.1.3
limma /home/hpages/bbs-3.18-bioc-R41/R/site-library 3.58.1 4.1.3
listenv /home/hpages/bbs-3.18-bioc-R41/R/site-library 0.9.1 4.1.3
lmtest /home/hpages/bbs-3.18-bioc-R41/R/site-library 0.9-40 4.1.3
lobstr /home/hpages/bbs-3.18-bioc-R41/R/site-library 1.1.2 4.1.3
locfit /home/hpages/bbs-3.18-bioc-R41/R/site-library 1.5-9.9 4.1.3
lpSolve /home/hpages/bbs-3.18-bioc-R41/R/site-library 5.6.20 4.1.3
lubridate /home/hpages/bbs-3.18-bioc-R41/R/site-library 1.9.3 4.1.3
macrophage /home/hpages/bbs-3.18-bioc-R41/R/site-library 1.18.0 4.1.3
magick /home/hpages/bbs-3.18-bioc-R41/R/site-library 2.8.3 4.1.3
magrittr /home/hpages/bbs-3.18-bioc-R41/R/site-library 2.0.3 4.1.3
MALDIquant /home/hpages/bbs-3.18-bioc-R41/R/site-library 1.22.2 4.1.3
markdown /home/hpages/bbs-3.18-bioc-R41/R/site-library 1.12 4.1.3
MatrixGenerics /home/hpages/bbs-3.18-bioc-R41/R/site-library 1.14.0 4.1.3
matrixStats /home/hpages/bbs-3.18-bioc-R41/R/site-library 1.2.0 4.1.3
mclust /home/hpages/bbs-3.18-bioc-R41/R/site-library 6.1 4.1.3
memoise /home/hpages/bbs-3.18-bioc-R41/R/site-library 2.0.1 4.1.3
MetaboCoreUtils /home/hpages/bbs-3.18-bioc-R41/R/site-library 1.10.0 4.1.3
metapod /home/hpages/bbs-3.18-bioc-R41/R/site-library 1.10.1 4.1.3
microbenchmark /home/hpages/bbs-3.18-bioc-R41/R/site-library 1.4.10 4.1.3
microRNA /home/hpages/bbs-3.18-bioc-R41/R/site-library 1.60.0 4.1.3
mime /home/hpages/bbs-3.18-bioc-R41/R/site-library 0.12 4.1.3
miniUI /home/hpages/bbs-3.18-bioc-R41/R/site-library 0.1.1.1 4.1.3
mirbase.db /home/hpages/bbs-3.18-bioc-R41/R/site-library 1.2.0 4.1.3
missForest /home/hpages/bbs-3.18-bioc-R41/R/site-library 1.5 4.1.3
mixsqp /home/hpages/bbs-3.18-bioc-R41/R/site-library 0.3-54 4.1.3
mixtools /home/hpages/bbs-3.18-bioc-R41/R/site-library 2.0.0 4.1.3
mlbench /home/hpages/bbs-3.18-bioc-R41/R/site-library 2.1-3.1 4.1.3
MLInterfaces /home/hpages/bbs-3.18-bioc-R41/R/site-library 1.82.0 4.1.3
mnormt /home/hpages/bbs-3.18-bioc-R41/R/site-library 2.1.1 4.1.3
mockery /home/hpages/bbs-3.18-bioc-R41/R/site-library 0.4.4 4.1.3
ModelMetrics /home/hpages/bbs-3.18-bioc-R41/R/site-library 1.2.2.2 4.1.3
modeltools /home/hpages/bbs-3.18-bioc-R41/R/site-library 0.2-23 4.1.3
MsCoreUtils /home/hpages/bbs-3.18-bioc-R41/R/site-library 1.14.1 4.1.3
msdata /home/hpages/bbs-3.18-bioc-R41/R/site-library 0.42.0 4.1.3
msigdbr /home/hpages/bbs-3.18-bioc-R41/R/site-library 7.5.1 4.1.3
MSnbase /home/hpages/bbs-3.18-bioc-R41/R/site-library 2.28.1 4.1.3
multicool /home/hpages/bbs-3.18-bioc-R41/R/site-library 1.0.1 4.1.3
multtest /home/hpages/bbs-3.18-bioc-R41/R/site-library 2.58.0 4.1.3
munsell /home/hpages/bbs-3.18-bioc-R41/R/site-library 0.5.0 4.1.3
muscData /home/hpages/bbs-3.18-bioc-R41/R/site-library 1.16.0 4.1.3
mvtnorm /home/hpages/bbs-3.18-bioc-R41/R/site-library 1.2-4 4.1.3
mzID /home/hpages/bbs-3.18-bioc-R41/R/site-library 1.40.0 4.1.3
mzR /home/hpages/bbs-3.18-bioc-R41/R/site-library 2.36.0 4.1.3
ncdf4 /home/hpages/bbs-3.18-bioc-R41/R/site-library 1.22 4.1.3
ncdfFlow /home/hpages/bbs-3.18-bioc-R41/R/site-library 2.48.0 4.1.3
norm /home/hpages/bbs-3.18-bioc-R41/R/site-library 1.0-11.1 4.1.3
numDeriv /home/hpages/bbs-3.18-bioc-R41/R/site-library 2016.8-1.1 4.1.3
openssl /home/hpages/bbs-3.18-bioc-R41/R/site-library 2.1.1 4.1.3
openxlsx /home/hpages/bbs-3.18-bioc-R41/R/site-library 4.2.5.2 4.1.3
org.At.tair.db /home/hpages/bbs-3.18-bioc-R41/R/site-library 3.18.0 4.1.3
org.Dm.eg.db /home/hpages/bbs-3.18-bioc-R41/R/site-library 3.18.0 4.1.3
org.Hs.eg.db /home/hpages/bbs-3.18-bioc-R41/R/site-library 3.18.0 4.1.3
org.Mm.eg.db /home/hpages/bbs-3.18-bioc-R41/R/site-library 3.18.0 4.1.3
org.Rn.eg.db /home/hpages/bbs-3.18-bioc-R41/R/site-library 3.18.0 4.1.3
org.Sc.sgd.db /home/hpages/bbs-3.18-bioc-R41/R/site-library 3.18.0 4.1.3
OrganismDbi /home/hpages/bbs-3.18-bioc-R41/R/site-library 1.44.0 4.1.3
parallelly /home/hpages/bbs-3.18-bioc-R41/R/site-library 1.37.1 4.1.3
parathyroidSE /home/hpages/bbs-3.18-bioc-R41/R/site-library 1.40.0 4.1.3
pasilla /home/hpages/bbs-3.18-bioc-R41/R/site-library 1.30.0 4.1.3
pasillaBamSubset /home/hpages/bbs-3.18-bioc-R41/R/site-library 0.40.0 4.1.3
patchwork /home/hpages/bbs-3.18-bioc-R41/R/site-library 1.2.0 4.1.3
pbapply /home/hpages/bbs-3.18-bioc-R41/R/site-library 1.7-2 4.1.3
pcaMethods /home/hpages/bbs-3.18-bioc-R41/R/site-library 1.94.0 4.1.3
pcaPP /home/hpages/bbs-3.18-bioc-R41/R/site-library 2.0-4 4.1.3
phangorn /home/hpages/bbs-3.18-bioc-R41/R/site-library 2.11.1 4.1.3
pheatmap /home/hpages/bbs-3.18-bioc-R41/R/site-library 1.0.12 4.1.3
pillar /home/hpages/bbs-3.18-bioc-R41/R/site-library 1.9.0 4.1.3
pkgbuild /home/hpages/bbs-3.18-bioc-R41/R/site-library 1.4.3 4.1.3
pkgconfig /home/hpages/bbs-3.18-bioc-R41/R/site-library 2.0.3 4.1.3
pkgdown /home/hpages/bbs-3.18-bioc-R41/R/site-library 2.0.7 4.1.3
pkgload /home/hpages/bbs-3.18-bioc-R41/R/site-library 1.3.4 4.1.3
plogr /home/hpages/bbs-3.18-bioc-R41/R/site-library 0.2.0 4.1.3
plotly /home/hpages/bbs-3.18-bioc-R41/R/site-library 4.10.4 4.1.3
pls /home/hpages/bbs-3.18-bioc-R41/R/site-library 2.8-3 4.1.3
plyr /home/hpages/bbs-3.18-bioc-R41/R/site-library 1.8.9 4.1.3
png /home/hpages/bbs-3.18-bioc-R41/R/site-library 0.1-8 4.1.3
polyclip /home/hpages/bbs-3.18-bioc-R41/R/site-library 1.10-6 4.1.3
PolyPhen.Hsapiens.dbSNP131 /home/hpages/bbs-3.18-bioc-R41/R/site-library 1.0.2 4.1.3
prabclus /home/hpages/bbs-3.18-bioc-R41/R/site-library 2.3-3 4.1.3
pracma /home/hpages/bbs-3.18-bioc-R41/R/site-library 2.4.4 4.1.3
praise /home/hpages/bbs-3.18-bioc-R41/R/site-library 1.0.0 4.1.3
preprocessCore /home/hpages/bbs-3.18-bioc-R41/R/site-library 1.64.0 4.1.3
prettydoc /home/hpages/bbs-3.18-bioc-R41/R/site-library 0.4.1 4.1.3
prettyunits /home/hpages/bbs-3.18-bioc-R41/R/site-library 1.2.0 4.1.3
pROC /home/hpages/bbs-3.18-bioc-R41/R/site-library 1.18.5 4.1.3
processx /home/hpages/bbs-3.18-bioc-R41/R/site-library 3.8.3 4.1.3
prodlim /home/hpages/bbs-3.18-bioc-R41/R/site-library 2023.08.28 4.1.3
profmem /home/hpages/bbs-3.18-bioc-R41/R/site-library 0.6.0 4.1.3
profvis /home/hpages/bbs-3.18-bioc-R41/R/site-library 0.3.8 4.1.3
progress /home/hpages/bbs-3.18-bioc-R41/R/site-library 1.2.3 4.1.3
progressr /home/hpages/bbs-3.18-bioc-R41/R/site-library 0.14.0 4.1.3
pRoloc /home/hpages/bbs-3.18-bioc-R41/R/site-library 1.42.0 4.1.3
pRolocdata /home/hpages/bbs-3.18-bioc-R41/R/site-library 1.40.0 4.1.3
promises /home/hpages/bbs-3.18-bioc-R41/R/site-library 1.2.1 4.1.3
ProtGenerics /home/hpages/bbs-3.18-bioc-R41/R/site-library 1.34.0 4.1.3
proto /home/hpages/bbs-3.18-bioc-R41/R/site-library 1.0.0 4.1.3
proxy /home/hpages/bbs-3.18-bioc-R41/R/site-library 0.4-27 4.1.3
pryr /home/hpages/bbs-3.18-bioc-R41/R/site-library 0.1.6 4.1.3
ps /home/hpages/bbs-3.18-bioc-R41/R/site-library 1.7.6 4.1.3
purrr /home/hpages/bbs-3.18-bioc-R41/R/site-library 1.0.2 4.1.3
quadprog /home/hpages/bbs-3.18-bioc-R41/R/site-library 1.5-8 4.1.3
qvalue /home/hpages/bbs-3.18-bioc-R41/R/site-library 2.34.0 4.1.3
R.cache /home/hpages/bbs-3.18-bioc-R41/R/site-library 0.16.0 4.1.3
R.methodsS3 /home/hpages/bbs-3.18-bioc-R41/R/site-library 1.8.2 4.1.3
R.oo /home/hpages/bbs-3.18-bioc-R41/R/site-library 1.26.0 4.1.3
R.utils /home/hpages/bbs-3.18-bioc-R41/R/site-library 2.12.3 4.1.3
R6 /home/hpages/bbs-3.18-bioc-R41/R/site-library 2.5.1 4.1.3
rae230a.db /home/hpages/bbs-3.18-bioc-R41/R/site-library 3.13.0 4.1.3
rae230aprobe /home/hpages/bbs-3.18-bioc-R41/R/site-library 2.18.0 4.1.3
ragg /home/hpages/bbs-3.18-bioc-R41/R/site-library 1.2.7 4.1.3
rainbow /home/hpages/bbs-3.18-bioc-R41/R/site-library 3.8 4.1.3
randomForest /home/hpages/bbs-3.18-bioc-R41/R/site-library 4.7-1.1 4.1.3
RANN /home/hpages/bbs-3.18-bioc-R41/R/site-library 2.6.1 4.1.3
rappdirs /home/hpages/bbs-3.18-bioc-R41/R/site-library 0.3.3 4.1.3
Rattus.norvegicus /home/hpages/bbs-3.18-bioc-R41/R/site-library 1.3.1 4.1.3
RBGL /home/hpages/bbs-3.18-bioc-R41/R/site-library 1.78.0 4.1.3
rBiopaxParser /home/hpages/bbs-3.18-bioc-R41/R/site-library 2.42.0 4.1.3
rcmdcheck /home/hpages/bbs-3.18-bioc-R41/R/site-library 1.4.0 4.1.3
RColorBrewer /home/hpages/bbs-3.18-bioc-R41/R/site-library 1.1-3 4.1.3
Rcpp /home/hpages/bbs-3.18-bioc-R41/R/site-library 1.0.12 4.1.3
RcppAnnoy /home/hpages/bbs-3.18-bioc-R41/R/site-library 0.0.22 4.1.3
RcppArmadillo /home/hpages/bbs-3.18-bioc-R41/R/site-library 0.12.8.1.0 4.1.3
RcppEigen /home/hpages/bbs-3.18-bioc-R41/R/site-library 0.3.4.0.0 4.1.3
RcppHNSW /home/hpages/bbs-3.18-bioc-R41/R/site-library 0.6.0 4.1.3
RcppNumerical /home/hpages/bbs-3.18-bioc-R41/R/site-library 0.6-0 4.1.3
RcppProgress /home/hpages/bbs-3.18-bioc-R41/R/site-library 0.4.2 4.1.3
RcppTOML /home/hpages/bbs-3.18-bioc-R41/R/site-library 0.2.2 4.1.3
RCurl /home/hpages/bbs-3.18-bioc-R41/R/site-library 1.98-1.14 4.1.3
Rdisop /home/hpages/bbs-3.18-bioc-R41/R/site-library 1.62.0 4.1.3
reactome.db /home/hpages/bbs-3.18-bioc-R41/R/site-library 1.86.2 4.1.3
readr /home/hpages/bbs-3.18-bioc-R41/R/site-library 2.1.5 4.1.3
recipes /home/hpages/bbs-3.18-bioc-R41/R/site-library 1.0.10 4.1.3
rematch2 /home/hpages/bbs-3.18-bioc-R41/R/site-library 2.1.2 4.1.3
remotes /home/hpages/bbs-3.18-bioc-R41/R/site-library 2.4.2.1 4.1.3
reshape2 /home/hpages/bbs-3.18-bioc-R41/R/site-library 1.4.4 4.1.3
ResidualMatrix /home/hpages/bbs-3.18-bioc-R41/R/site-library 1.12.0 4.1.3
restfulr /home/hpages/bbs-3.18-bioc-R41/R/site-library 0.0.15 4.1.3
reticulate /home/hpages/bbs-3.18-bioc-R41/R/site-library 1.35.0 4.1.3
rex /home/hpages/bbs-3.18-bioc-R41/R/site-library 1.2.1 4.1.3
rgl /home/hpages/bbs-3.18-bioc-R41/R/site-library 1.3.1 4.1.3
Rgraphviz /home/hpages/bbs-3.18-bioc-R41/R/site-library 2.46.0 4.1.3
rhdf5 /home/hpages/bbs-3.18-bioc-R41/R/site-library 2.46.1 4.1.3
rhdf5filters /home/hpages/bbs-3.18-bioc-R41/R/site-library 1.14.1 4.1.3
Rhdf5lib /home/hpages/bbs-3.18-bioc-R41/R/site-library 1.24.2 4.1.3
Rhtslib /home/hpages/bbs-3.18-bioc-R41/R/site-library 2.4.1 4.1.3
rjson /home/hpages/bbs-3.18-bioc-R41/R/site-library 0.2.21 4.1.3
rlang /home/hpages/bbs-3.18-bioc-R41/R/site-library 1.1.3 4.1.3
RMariaDB /home/hpages/bbs-3.18-bioc-R41/R/site-library 1.3.1 4.1.3
rmarkdown /home/hpages/bbs-3.18-bioc-R41/R/site-library 2.26 4.1.3
RNAseqData.HNRNPC.bam.chr14 /home/hpages/bbs-3.18-bioc-R41/R/site-library 0.40.0 4.1.3
rngtools /home/hpages/bbs-3.18-bioc-R41/R/site-library 1.5.2 4.1.3
robustbase /home/hpages/bbs-3.18-bioc-R41/R/site-library 0.99-2 4.1.3
ROC /home/hpages/bbs-3.18-bioc-R41/R/site-library 1.78.0 4.1.3
ROCR /home/hpages/bbs-3.18-bioc-R41/R/site-library 1.0-11 4.1.3
rols /home/hpages/bbs-3.18-bioc-R41/R/site-library 2.30.2 4.1.3
roxygen2 /home/hpages/bbs-3.18-bioc-R41/R/site-library 7.3.1 4.1.3
rprojroot /home/hpages/bbs-3.18-bioc-R41/R/site-library 2.0.4 4.1.3
RProtoBufLib /home/hpages/bbs-3.18-bioc-R41/R/site-library 2.14.0 4.1.3
rpx /home/hpages/bbs-3.18-bioc-R41/R/site-library 2.10.0 4.1.3
rrcov /home/hpages/bbs-3.18-bioc-R41/R/site-library 1.7-5 4.1.3
Rsamtools /home/hpages/bbs-3.18-bioc-R41/R/site-library 2.18.0 4.1.3
RSpectra /home/hpages/bbs-3.18-bioc-R41/R/site-library 0.16-1 4.1.3
RSQLite /home/hpages/bbs-3.18-bioc-R41/R/site-library 2.3.5 4.1.3
rstudioapi /home/hpages/bbs-3.18-bioc-R41/R/site-library 0.15.0 4.1.3
Rsubread /home/hpages/bbs-3.18-bioc-R41/R/site-library 2.16.1 4.1.3
rsvd /home/hpages/bbs-3.18-bioc-R41/R/site-library 1.0.5 4.1.3
rsvg /home/hpages/bbs-3.18-bioc-R41/R/site-library 2.6.0 4.1.3
rtracklayer /home/hpages/bbs-3.18-bioc-R41/R/site-library 1.62.0 4.1.3
Rtsne /home/hpages/bbs-3.18-bioc-R41/R/site-library 0.17 4.1.3
RUnit /home/hpages/bbs-3.18-bioc-R41/R/site-library 0.4.33 4.1.3
rversions /home/hpages/bbs-3.18-bioc-R41/R/site-library 2.1.2 4.1.3
rvest /home/hpages/bbs-3.18-bioc-R41/R/site-library 1.0.4 4.1.3
S4Arrays /home/hpages/bbs-3.18-bioc-R41/R/site-library 1.2.1 4.1.3
S4Vectors /home/hpages/bbs-3.18-bioc-R41/R/site-library 0.40.2 4.1.3
sampling /home/hpages/bbs-3.18-bioc-R41/R/site-library 2.10 4.1.3
samr /home/hpages/bbs-3.18-bioc-R41/R/site-library 3.0 4.1.3
sandwich /home/hpages/bbs-3.18-bioc-R41/R/site-library 3.1-0 4.1.3
sass /home/hpages/bbs-3.18-bioc-R41/R/site-library 0.4.8 4.1.3
ScaledMatrix /home/hpages/bbs-3.18-bioc-R41/R/site-library 1.10.0 4.1.3
scales /home/hpages/bbs-3.18-bioc-R41/R/site-library 1.3.0 4.1.3
scattermore /home/hpages/bbs-3.18-bioc-R41/R/site-library 1.2 4.1.3
scatterpie /home/hpages/bbs-3.18-bioc-R41/R/site-library 0.2.1 4.1.3
scran /home/hpages/bbs-3.18-bioc-R41/R/site-library 1.30.2 4.1.3
scRNAseq /home/hpages/bbs-3.18-bioc-R41/R/site-library 2.16.0 4.1.3
sctransform /home/hpages/bbs-3.18-bioc-R41/R/site-library 0.4.1 4.1.3
scuttle /home/hpages/bbs-3.18-bioc-R41/R/site-library 1.12.0 4.1.3
segmented /home/hpages/bbs-3.18-bioc-R41/R/site-library 2.0-3 4.1.3
selectr /home/hpages/bbs-3.18-bioc-R41/R/site-library 0.4-2 4.1.3
sessioninfo /home/hpages/bbs-3.18-bioc-R41/R/site-library 1.2.2 4.1.3
Seurat /home/hpages/bbs-3.18-bioc-R41/R/site-library 5.0.2 4.1.3
SeuratObject /home/hpages/bbs-3.18-bioc-R41/R/site-library 5.0.1 4.1.3
sfsmisc /home/hpages/bbs-3.18-bioc-R41/R/site-library 1.1-17 4.1.3
shadowtext /home/hpages/bbs-3.18-bioc-R41/R/site-library 0.1.3 4.1.3
shape /home/hpages/bbs-3.18-bioc-R41/R/site-library 1.4.6.1 4.1.3
shiny /home/hpages/bbs-3.18-bioc-R41/R/site-library 1.8.0 4.1.3
shinyFiles /home/hpages/bbs-3.18-bioc-R41/R/site-library 0.9.3 4.1.3
ShortRead /home/hpages/bbs-3.18-bioc-R41/R/site-library 1.60.0 4.1.3
showtext /home/hpages/bbs-3.18-bioc-R41/R/site-library 0.9-7 4.1.3
showtextdb /home/hpages/bbs-3.18-bioc-R41/R/site-library 3.0 4.1.3
SIFT.Hsapiens.dbSNP132 /home/hpages/bbs-3.18-bioc-R41/R/site-library 1.0.2 4.1.3
SIFT.Hsapiens.dbSNP137 /home/hpages/bbs-3.18-bioc-R41/R/site-library 1.0.0 4.1.3
SingleCellExperiment /home/hpages/bbs-3.18-bioc-R41/R/site-library 1.24.0 4.1.3
sitmo /home/hpages/bbs-3.18-bioc-R41/R/site-library 2.0.2 4.1.3
snow /home/hpages/bbs-3.18-bioc-R41/R/site-library 0.4-4 4.1.3
SnowballC /home/hpages/bbs-3.18-bioc-R41/R/site-library 0.7.1 4.1.3
SNPlocs.Hsapiens.dbSNP144.GRCh37 /home/hpages/bbs-3.18-bioc-R41/R/site-library 0.99.20 4.1.3
SNPlocs.Hsapiens.dbSNP144.GRCh38 /home/hpages/bbs-3.18-bioc-R41/R/site-library 0.99.20 4.1.3
snpStats /home/hpages/bbs-3.18-bioc-R41/R/site-library 1.52.0 4.1.3
sourcetools /home/hpages/bbs-3.18-bioc-R41/R/site-library 0.1.7-1 4.1.3
sp /home/hpages/bbs-3.18-bioc-R41/R/site-library 2.1-3 4.1.3
spam /home/hpages/bbs-3.18-bioc-R41/R/site-library 2.10-0 4.1.3
SparseArray /home/hpages/bbs-3.18-bioc-R41/R/site-library 1.2.4 4.1.3
SparseM /home/hpages/bbs-3.18-bioc-R41/R/site-library 1.81 4.1.3
sparseMatrixStats /home/hpages/bbs-3.18-bioc-R41/R/site-library 1.14.0 4.1.3
spatstat.data /home/hpages/bbs-3.18-bioc-R41/R/site-library 3.0-4 4.1.3
spatstat.explore /home/hpages/bbs-3.18-bioc-R41/R/site-library 3.2-6 4.1.3
spatstat.geom /home/hpages/bbs-3.18-bioc-R41/R/site-library 3.2-9 4.1.3
spatstat.random /home/hpages/bbs-3.18-bioc-R41/R/site-library 3.2-3 4.1.3
spatstat.sparse /home/hpages/bbs-3.18-bioc-R41/R/site-library 3.0-3 4.1.3
spatstat.utils /home/hpages/bbs-3.18-bioc-R41/R/site-library 3.0-4 4.1.3
Spectra /home/hpages/bbs-3.18-bioc-R41/R/site-library 1.12.0 4.1.3
spelling /home/hpages/bbs-3.18-bioc-R41/R/site-library 2.3.0 4.1.3
SPIA /home/hpages/bbs-3.18-bioc-R41/R/site-library 2.54.0 4.1.3
SQUAREM /home/hpages/bbs-3.18-bioc-R41/R/site-library 2021.1 4.1.3
statmod /home/hpages/bbs-3.18-bioc-R41/R/site-library 1.5.0 4.1.3
stringdist /home/hpages/bbs-3.18-bioc-R41/R/site-library 0.9.12 4.1.3
stringi /home/hpages/bbs-3.18-bioc-R41/R/site-library 1.8.3 4.1.3
stringr /home/hpages/bbs-3.18-bioc-R41/R/site-library 1.5.1 4.1.3
styler /home/hpages/bbs-3.18-bioc-R41/R/site-library 1.10.2 4.1.3
SummarizedExperiment /home/hpages/bbs-3.18-bioc-R41/R/site-library 1.32.0 4.1.3
svMisc /home/hpages/bbs-3.18-bioc-R41/R/site-library 1.2.3 4.1.3
sys /home/hpages/bbs-3.18-bioc-R41/R/site-library 3.4.2 4.1.3
sysfonts /home/hpages/bbs-3.18-bioc-R41/R/site-library 0.8.9 4.1.3
systemfonts /home/hpages/bbs-3.18-bioc-R41/R/site-library 1.0.6 4.1.3
tensor /home/hpages/bbs-3.18-bioc-R41/R/site-library 1.5 4.1.3
tensorflow /home/hpages/bbs-3.18-bioc-R41/R/site-library 2.15.0 4.1.3
TENxBrainData /home/hpages/bbs-3.18-bioc-R41/R/site-library 1.22.0 4.1.3
TENxPBMCData /home/hpages/bbs-3.18-bioc-R41/R/site-library 1.20.0 4.1.3
testthat /home/hpages/bbs-3.18-bioc-R41/R/site-library 3.2.1 4.1.3
textshaping /home/hpages/bbs-3.18-bioc-R41/R/site-library 0.3.7 4.1.3
tfautograph /home/hpages/bbs-3.18-bioc-R41/R/site-library 0.3.2 4.1.3
tfruns /home/hpages/bbs-3.18-bioc-R41/R/site-library 1.5.2 4.1.3
threejs /home/hpages/bbs-3.18-bioc-R41/R/site-library 0.3.3 4.1.3
tibble /home/hpages/bbs-3.18-bioc-R41/R/site-library 3.2.1 4.1.3
tidydr /home/hpages/bbs-3.18-bioc-R41/R/site-library 0.0.5 4.1.3
tidygraph /home/hpages/bbs-3.18-bioc-R41/R/site-library 1.3.1 4.1.3
tidyr /home/hpages/bbs-3.18-bioc-R41/R/site-library 1.3.1 4.1.3
tidyselect /home/hpages/bbs-3.18-bioc-R41/R/site-library 1.2.0 4.1.3
tidytext /home/hpages/bbs-3.18-bioc-R41/R/site-library 0.4.1 4.1.3
tidytree /home/hpages/bbs-3.18-bioc-R41/R/site-library 0.4.6 4.1.3
tiff /home/hpages/bbs-3.18-bioc-R41/R/site-library 0.1-12 4.1.3
timechange /home/hpages/bbs-3.18-bioc-R41/R/site-library 0.3.0 4.1.3
timeDate /home/hpages/bbs-3.18-bioc-R41/R/site-library 4032.109 4.1.3
tinytest /home/hpages/bbs-3.18-bioc-R41/R/site-library 1.4.1 4.1.3
tinytex /home/hpages/bbs-3.18-bioc-R41/R/site-library 0.49 4.1.3
tkWidgets /home/hpages/bbs-3.18-bioc-R41/R/site-library 1.80.0 4.1.3
tmvtnorm /home/hpages/bbs-3.18-bioc-R41/R/site-library 1.6 4.1.3
tokenizers /home/hpages/bbs-3.18-bioc-R41/R/site-library 0.3.0 4.1.3
treeio /home/hpages/bbs-3.18-bioc-R41/R/site-library 1.26.0 4.1.3
triebeard /home/hpages/bbs-3.18-bioc-R41/R/site-library 0.4.1 4.1.3
truncnorm /home/hpages/bbs-3.18-bioc-R41/R/site-library 1.0-9 4.1.3
tweenr /home/hpages/bbs-3.18-bioc-R41/R/site-library 2.0.3 4.1.3
TxDb.Athaliana.BioMart.plantsmart22 /home/hpages/bbs-3.18-bioc-R41/R/site-library 3.0.1 4.1.3
TxDb.Celegans.UCSC.ce11.ensGene /home/hpages/bbs-3.18-bioc-R41/R/site-library 3.15.0 4.1.3
TxDb.Dmelanogaster.UCSC.dm3.ensGene /home/hpages/bbs-3.18-bioc-R41/R/site-library 3.2.2 4.1.3
TxDb.Hsapiens.UCSC.hg18.knownGene /home/hpages/bbs-3.18-bioc-R41/R/site-library 3.2.2 4.1.3
TxDb.Hsapiens.UCSC.hg19.knownGene /home/hpages/bbs-3.18-bioc-R41/R/site-library 3.2.2 4.1.3
TxDb.Hsapiens.UCSC.hg19.lincRNAsTranscripts /home/hpages/bbs-3.18-bioc-R41/R/site-library 3.2.2 4.1.3
TxDb.Hsapiens.UCSC.hg38.knownGene /home/hpages/bbs-3.18-bioc-R41/R/site-library 3.18.0 4.1.3
TxDb.Mmusculus.UCSC.mm10.knownGene /home/hpages/bbs-3.18-bioc-R41/R/site-library 3.10.0 4.1.3
TxDb.Mmusculus.UCSC.mm9.knownGene /home/hpages/bbs-3.18-bioc-R41/R/site-library 3.2.2 4.1.3
TxDb.Rnorvegicus.UCSC.rn5.refGene /home/hpages/bbs-3.18-bioc-R41/R/site-library 3.12.0 4.1.3
tximeta /home/hpages/bbs-3.18-bioc-R41/R/site-library 1.20.3 4.1.3
tximport /home/hpages/bbs-3.18-bioc-R41/R/site-library 1.30.0 4.1.3
tximportData /home/hpages/bbs-3.18-bioc-R41/R/site-library 1.30.0 4.1.3
tzdb /home/hpages/bbs-3.18-bioc-R41/R/site-library 0.4.0 4.1.3
urlchecker /home/hpages/bbs-3.18-bioc-R41/R/site-library 1.0.1 4.1.3
urltools /home/hpages/bbs-3.18-bioc-R41/R/site-library 1.7.3 4.1.3
usethis /home/hpages/bbs-3.18-bioc-R41/R/site-library 2.2.3 4.1.3
utf8 /home/hpages/bbs-3.18-bioc-R41/R/site-library 1.2.4 4.1.3
uwot /home/hpages/bbs-3.18-bioc-R41/R/site-library 0.1.16 4.1.3
VariantAnnotation /home/hpages/bbs-3.18-bioc-R41/R/site-library 1.48.1 4.1.3
vctrs /home/hpages/bbs-3.18-bioc-R41/R/site-library 0.6.5 4.1.3
viridis /home/hpages/bbs-3.18-bioc-R41/R/site-library 0.6.5 4.1.3
viridisLite /home/hpages/bbs-3.18-bioc-R41/R/site-library 0.4.2 4.1.3
vroom /home/hpages/bbs-3.18-bioc-R41/R/site-library 1.6.5 4.1.3
vsn /home/hpages/bbs-3.18-bioc-R41/R/site-library 3.70.0 4.1.3
waldo /home/hpages/bbs-3.18-bioc-R41/R/site-library 0.5.2 4.1.3
webmockr /home/hpages/bbs-3.18-bioc-R41/R/site-library 0.9.0 4.1.3
whisker /home/hpages/bbs-3.18-bioc-R41/R/site-library 0.4.1 4.1.3
widgetTools /home/hpages/bbs-3.18-bioc-R41/R/site-library 1.80.0 4.1.3
withr /home/hpages/bbs-3.18-bioc-R41/R/site-library 3.0.0 4.1.3
xfun /home/hpages/bbs-3.18-bioc-R41/R/site-library 0.42 4.1.3
XML /home/hpages/bbs-3.18-bioc-R41/R/site-library 3.99-0.16.1 4.1.3
xml2 /home/hpages/bbs-3.18-bioc-R41/R/site-library 1.3.6 4.1.3
xopen /home/hpages/bbs-3.18-bioc-R41/R/site-library 1.0.0 4.1.3
xtable /home/hpages/bbs-3.18-bioc-R41/R/site-library 1.8-4 4.1.3
XtraSNPlocs.Hsapiens.dbSNP144.GRCh38 /home/hpages/bbs-3.18-bioc-R41/R/site-library 0.99.12 4.1.3
XVector /home/hpages/bbs-3.18-bioc-R41/R/site-library 0.42.0 4.1.3
yaml /home/hpages/bbs-3.18-bioc-R41/R/site-library 2.3.8 4.1.3
yeastNagalakshmi /home/hpages/bbs-3.18-bioc-R41/R/site-library 1.38.0 4.1.3
yesno /home/hpages/bbs-3.18-bioc-R41/R/site-library 0.1.2 4.1.3
yulab.utils /home/hpages/bbs-3.18-bioc-R41/R/site-library 0.1.4 4.1.3
zeallot /home/hpages/bbs-3.18-bioc-R41/R/site-library 0.1.0 4.1.3
zellkonverter /home/hpages/bbs-3.18-bioc-R41/R/site-library 1.12.1 4.1.3
zip /home/hpages/bbs-3.18-bioc-R41/R/site-library 2.3.1 4.1.3
zlibbioc /home/hpages/bbs-3.18-bioc-R41/R/site-library 1.48.0 4.1.3
zoo /home/hpages/bbs-3.18-bioc-R41/R/site-library 1.8-12 4.1.3
base /home/hpages/bbs-3.18-bioc-R41/R/library 4.1.3 4.1.3
boot /home/hpages/bbs-3.18-bioc-R41/R/library 1.3-30 4.1.3
class /home/hpages/bbs-3.18-bioc-R41/R/library 7.3-22 4.1.3
cluster /home/hpages/bbs-3.18-bioc-R41/R/library 2.1.6 4.1.3
codetools /home/hpages/bbs-3.18-bioc-R41/R/library 0.2-19 4.1.3
compiler /home/hpages/bbs-3.18-bioc-R41/R/library 4.1.3 4.1.3
datasets /home/hpages/bbs-3.18-bioc-R41/R/library 4.1.3 4.1.3
foreign /home/hpages/bbs-3.18-bioc-R41/R/library 0.8-86 4.1.3
graphics /home/hpages/bbs-3.18-bioc-R41/R/library 4.1.3 4.1.3
grDevices /home/hpages/bbs-3.18-bioc-R41/R/library 4.1.3 4.1.3
grid /home/hpages/bbs-3.18-bioc-R41/R/library 4.1.3 4.1.3
KernSmooth /home/hpages/bbs-3.18-bioc-R41/R/library 2.23-22 4.1.3
lattice /home/hpages/bbs-3.18-bioc-R41/R/library 0.22-5 4.1.3
MASS /home/hpages/bbs-3.18-bioc-R41/R/library 7.3-60.0.1 4.1.3
Matrix /home/hpages/bbs-3.18-bioc-R41/R/library 1.6-5 4.1.3
methods /home/hpages/bbs-3.18-bioc-R41/R/library 4.1.3 4.1.3
mgcv /home/hpages/bbs-3.18-bioc-R41/R/library 1.9-1 4.1.3
nlme /home/hpages/bbs-3.18-bioc-R41/R/library 3.1-164 4.1.3
nnet /home/hpages/bbs-3.18-bioc-R41/R/library 7.3-19 4.1.3
parallel /home/hpages/bbs-3.18-bioc-R41/R/library 4.1.3 4.1.3
rpart /home/hpages/bbs-3.18-bioc-R41/R/library 4.1.23 4.1.3
spatial /home/hpages/bbs-3.18-bioc-R41/R/library 7.3-17 4.1.3
splines /home/hpages/bbs-3.18-bioc-R41/R/library 4.1.3 4.1.3
stats /home/hpages/bbs-3.18-bioc-R41/R/library 4.1.3 4.1.3
stats4 /home/hpages/bbs-3.18-bioc-R41/R/library 4.1.3 4.1.3
survival /home/hpages/bbs-3.18-bioc-R41/R/library 3.5-8 4.1.3
tcltk /home/hpages/bbs-3.18-bioc-R41/R/library 4.1.3 4.1.3
tools /home/hpages/bbs-3.18-bioc-R41/R/library 4.1.3 4.1.3
utils /home/hpages/bbs-3.18-bioc-R41/R/library 4.1.3 4.1.3