| Back to Using R 4.1.3 to BUILD/CHECK a small subset of 3.18 packages |
This page was generated on 2024-03-08 16:41:48 -0500 (Fri, 08 Mar 2024).
| Hostname | OS | Arch (*) | R version | Installed pkgs |
|---|---|---|---|---|
| nebbiolo2 | Linux (Ubuntu 22.04.3 LTS) | x86_64 | 4.1.3 (2022-03-10) -- "One Push-Up" | 655 |
| Click on any hostname to see more info about the system (e.g. compilers) (*) as reported by 'uname -p', except on Windows and Mac OS X | ||||
| Package 37/118 | Hostname | OS / Arch | INSTALL | BUILD | CHECK | BUILD BIN | |||||||
| DESeq2 1.42.1 (landing page) Michael Love
| nebbiolo2 | Linux (Ubuntu 22.04.3 LTS) / x86_64 | OK | OK | OK | ||||||||
|
To the developers/maintainers of the DESeq2 package: - Use the following Renviron settings to reproduce errors and warnings. - If 'R CMD check' started to fail recently on the Linux builder(s) over a missing dependency, add the missing dependency to 'Suggests:' in your DESCRIPTION file. See Renviron.bioc for more information. |
| Package: DESeq2 |
| Version: 1.42.1 |
| Command: /home/hpages/bbs-3.18-bioc-R41/R/bin/R CMD check --install=check:DESeq2.install-out.txt --library=/home/hpages/bbs-3.18-bioc-R41/R/site-library --timings DESeq2_1.42.1.tar.gz |
| StartedAt: 2024-03-08 16:02:52 -0500 (Fri, 08 Mar 2024) |
| EndedAt: 2024-03-08 16:10:51 -0500 (Fri, 08 Mar 2024) |
| EllapsedTime: 479.6 seconds |
| RetCode: 0 |
| Status: OK |
| CheckDir: DESeq2.Rcheck |
| Warnings: 0 |
##############################################################################
##############################################################################
###
### Running command:
###
### /home/hpages/bbs-3.18-bioc-R41/R/bin/R CMD check --install=check:DESeq2.install-out.txt --library=/home/hpages/bbs-3.18-bioc-R41/R/site-library --timings DESeq2_1.42.1.tar.gz
###
##############################################################################
##############################################################################
* using log directory ‘/home/hpages/bbs-3.18-bioc-R41/meat/DESeq2.Rcheck’
* using R version 4.1.3 (2022-03-10)
* using platform: x86_64-pc-linux-gnu (64-bit)
* using session charset: UTF-8
* checking for file ‘DESeq2/DESCRIPTION’ ... OK
* checking extension type ... Package
* this is package ‘DESeq2’ version ‘1.42.1’
* package encoding: UTF-8
* checking package namespace information ... OK
* checking package dependencies ... OK
* checking if this is a source package ... OK
* checking if there is a namespace ... OK
* checking for hidden files and directories ... OK
* checking for portable file names ... OK
* checking for sufficient/correct file permissions ... OK
* checking whether package ‘DESeq2’ can be installed ... OK
* checking installed package size ... OK
* checking package directory ... OK
* checking ‘build’ directory ... OK
* checking DESCRIPTION meta-information ... OK
* checking top-level files ... OK
* checking for left-over files ... OK
* checking index information ... OK
* checking package subdirectories ... OK
* checking R files for non-ASCII characters ... OK
* checking R files for syntax errors ... OK
* checking whether the package can be loaded ... OK
* checking whether the package can be loaded with stated dependencies ... OK
* checking whether the package can be unloaded cleanly ... OK
* checking whether the namespace can be loaded with stated dependencies ... OK
* checking whether the namespace can be unloaded cleanly ... OK
* checking loading without being on the library search path ... OK
* checking dependencies in R code ... OK
* checking S3 generic/method consistency ... OK
* checking replacement functions ... OK
* checking foreign function calls ... OK
* checking R code for possible problems ... OK
* checking Rd files ... OK
* checking Rd metadata ... OK
* checking Rd cross-references ... OK
* checking for missing documentation entries ... OK
* checking for code/documentation mismatches ... OK
* checking Rd \usage sections ... OK
* checking Rd contents ... OK
* checking for unstated dependencies in examples ... OK
* checking line endings in C/C++/Fortran sources/headers ... OK
* checking line endings in Makefiles ... OK
* checking compilation flags in Makevars ... OK
* checking for GNU extensions in Makefiles ... OK
* checking for portable use of $(BLAS_LIBS) and $(LAPACK_LIBS) ... OK
* checking use of PKG_*FLAGS in Makefiles ... OK
* checking compiled code ... NOTE
Note: information on .o files is not available
* checking files in ‘vignettes’ ... OK
* checking examples ... OK
Examples with CPU (user + system) or elapsed time > 5s
user system elapsed
results 7.111 0.152 7.263
DESeq 5.368 0.308 5.676
* checking for unstated dependencies in ‘tests’ ... OK
* checking tests ...
Running ‘testthat.R’
OK
* checking for unstated dependencies in vignettes ... OK
* checking package vignettes in ‘inst/doc’ ... OK
* checking running R code from vignettes ...
‘DESeq2.Rmd’ using ‘UTF-8’... OK
NONE
* checking re-building of vignette outputs ... OK
* checking PDF version of manual ... OK
* DONE
Status: 1 NOTE
See
‘/home/hpages/bbs-3.18-bioc-R41/meat/DESeq2.Rcheck/00check.log’
for details.
DESeq2.Rcheck/00install.out
############################################################################## ############################################################################## ### ### Running command: ### ### /home/hpages/bbs-3.18-bioc-R41/R/bin/R CMD INSTALL DESeq2 ### ############################################################################## ############################################################################## * installing to library ‘/home/hpages/bbs-3.18-bioc-R41/R/site-library’ * installing *source* package ‘DESeq2’ ... ** using staged installation ** libs g++ -std=gnu++14 -I"/home/hpages/bbs-3.18-bioc-R41/R/include" -DNDEBUG -I'/home/hpages/bbs-3.18-bioc-R41/R/site-library/Rcpp/include' -I'/home/hpages/bbs-3.18-bioc-R41/R/site-library/RcppArmadillo/include' -I/usr/local/include -fpic -g -O2 -Wall -c DESeq2.cpp -o DESeq2.o g++ -std=gnu++14 -I"/home/hpages/bbs-3.18-bioc-R41/R/include" -DNDEBUG -I'/home/hpages/bbs-3.18-bioc-R41/R/site-library/Rcpp/include' -I'/home/hpages/bbs-3.18-bioc-R41/R/site-library/RcppArmadillo/include' -I/usr/local/include -fpic -g -O2 -Wall -c RcppExports.cpp -o RcppExports.o g++ -std=gnu++14 -shared -L/home/hpages/bbs-3.18-bioc-R41/R/lib -L/usr/local/lib -o DESeq2.so DESeq2.o RcppExports.o -L/home/hpages/bbs-3.18-bioc-R41/R/lib -lRlapack -L/home/hpages/bbs-3.18-bioc-R41/R/lib -lRblas -lgfortran -lm -lquadmath -L/home/hpages/bbs-3.18-bioc-R41/R/lib -lR installing to /home/hpages/bbs-3.18-bioc-R41/R/site-library/00LOCK-DESeq2/00new/DESeq2/libs ** R ** inst ** byte-compile and prepare package for lazy loading ** help *** installing help indices ** building package indices ** installing vignettes ** testing if installed package can be loaded from temporary location ** checking absolute paths in shared objects and dynamic libraries ** testing if installed package can be loaded from final location ** testing if installed package keeps a record of temporary installation path * DONE (DESeq2)
DESeq2.Rcheck/tests/testthat.Rout
R version 4.1.3 (2022-03-10) -- "One Push-Up"
Copyright (C) 2022 The R Foundation for Statistical Computing
Platform: x86_64-pc-linux-gnu (64-bit)
R is free software and comes with ABSOLUTELY NO WARRANTY.
You are welcome to redistribute it under certain conditions.
Type 'license()' or 'licence()' for distribution details.
R is a collaborative project with many contributors.
Type 'contributors()' for more information and
'citation()' on how to cite R or R packages in publications.
Type 'demo()' for some demos, 'help()' for on-line help, or
'help.start()' for an HTML browser interface to help.
Type 'q()' to quit R.
> library("testthat")
> library("DESeq2")
Loading required package: S4Vectors
Loading required package: stats4
Loading required package: BiocGenerics
Attaching package: 'BiocGenerics'
The following objects are masked from 'package:stats':
IQR, mad, sd, var, xtabs
The following objects are masked from 'package:base':
Filter, Find, Map, Position, Reduce, anyDuplicated, aperm, append,
as.data.frame, basename, cbind, colnames, dirname, do.call,
duplicated, eval, evalq, get, grep, grepl, intersect, is.unsorted,
lapply, mapply, match, mget, order, paste, pmax, pmax.int, pmin,
pmin.int, rank, rbind, rownames, sapply, setdiff, sort, table,
tapply, union, unique, unsplit, which.max, which.min
Attaching package: 'S4Vectors'
The following objects are masked from 'package:base':
I, expand.grid, unname
Loading required package: IRanges
Loading required package: GenomicRanges
Loading required package: GenomeInfoDb
Loading required package: SummarizedExperiment
Loading required package: MatrixGenerics
Loading required package: matrixStats
Attaching package: 'MatrixGenerics'
The following objects are masked from 'package:matrixStats':
colAlls, colAnyNAs, colAnys, colAvgsPerRowSet, colCollapse,
colCounts, colCummaxs, colCummins, colCumprods, colCumsums,
colDiffs, colIQRDiffs, colIQRs, colLogSumExps, colMadDiffs,
colMads, colMaxs, colMeans2, colMedians, colMins, colOrderStats,
colProds, colQuantiles, colRanges, colRanks, colSdDiffs, colSds,
colSums2, colTabulates, colVarDiffs, colVars, colWeightedMads,
colWeightedMeans, colWeightedMedians, colWeightedSds,
colWeightedVars, rowAlls, rowAnyNAs, rowAnys, rowAvgsPerColSet,
rowCollapse, rowCounts, rowCummaxs, rowCummins, rowCumprods,
rowCumsums, rowDiffs, rowIQRDiffs, rowIQRs, rowLogSumExps,
rowMadDiffs, rowMads, rowMaxs, rowMeans2, rowMedians, rowMins,
rowOrderStats, rowProds, rowQuantiles, rowRanges, rowRanks,
rowSdDiffs, rowSds, rowSums2, rowTabulates, rowVarDiffs, rowVars,
rowWeightedMads, rowWeightedMeans, rowWeightedMedians,
rowWeightedSds, rowWeightedVars
Loading required package: Biobase
Welcome to Bioconductor
Vignettes contain introductory material; view with
'browseVignettes()'. To cite Bioconductor, see
'citation("Biobase")', and for packages 'citation("pkgname")'.
Attaching package: 'Biobase'
The following object is masked from 'package:MatrixGenerics':
rowMedians
The following objects are masked from 'package:matrixStats':
anyMissing, rowMedians
> test_check("DESeq2")
[ FAIL 0 | WARN 1 | SKIP 3 | PASS 234 ]
══ Skipped tests (3) ═══════════════════════════════════════════════════════════
• empty test (3): 'test_LRT.R:14:1', 'test_results.R:151:1',
'test_weights.R:101:1'
[ FAIL 0 | WARN 1 | SKIP 3 | PASS 234 ]
>
> proc.time()
user system elapsed
178.327 2.521 179.314
DESeq2.Rcheck/DESeq2-Ex.timings
| name | user | system | elapsed | |
| DESeq | 5.368 | 0.308 | 5.676 | |
| DESeqDataSet | 0.178 | 0.000 | 0.178 | |
| coef | 2.046 | 0.016 | 2.062 | |
| collapseReplicates | 0.365 | 0.016 | 0.382 | |
| counts | 0.295 | 0.004 | 0.299 | |
| design | 0.151 | 0.004 | 0.156 | |
| dispersionFunction | 1.585 | 0.020 | 1.606 | |
| estimateDispersions | 1.472 | 0.012 | 1.484 | |
| estimateDispersionsGeneEst | 1.687 | 0.076 | 1.763 | |
| estimateSizeFactors | 1.041 | 0.004 | 1.045 | |
| estimateSizeFactorsForMatrix | 0.173 | 0.004 | 0.177 | |
| fpkm | 0.758 | 0.024 | 0.783 | |
| fpm | 0.531 | 0.012 | 0.543 | |
| integrateWithSingleCell | 0 | 0 | 0 | |
| lfcShrink | 2.969 | 0.036 | 3.005 | |
| makeExampleDESeqDataSet | 0.16 | 0.00 | 0.16 | |
| nbinomLRT | 1.497 | 0.008 | 1.505 | |
| nbinomWaldTest | 1.503 | 0.012 | 1.515 | |
| normalizationFactors | 1.687 | 0.040 | 1.727 | |
| plotCounts | 0.378 | 0.004 | 0.382 | |
| plotDispEsts | 0.961 | 0.012 | 0.973 | |
| plotMA | 2.204 | 0.028 | 2.231 | |
| plotPCA | 2.113 | 0.020 | 2.134 | |
| plotSparsity | 0.286 | 0.004 | 0.290 | |
| results | 7.111 | 0.152 | 7.263 | |
| rlog | 1.096 | 0.012 | 1.109 | |
| summary | 2.299 | 0.000 | 2.299 | |
| unmix | 0.39 | 0.00 | 0.39 | |
| varianceStabilizingTransformation | 0.844 | 0.000 | 0.844 | |
| vst | 1.062 | 0.000 | 1.062 | |